BEGIN:VCALENDAR
VERSION:2.0
PRODID:-//Kellogg-Hubbard Library - ECPv6.15.20//NONSGML v1.0//EN
CALSCALE:GREGORIAN
METHOD:PUBLISH
X-WR-CALNAME:Kellogg-Hubbard Library
X-ORIGINAL-URL:https://kellogghubbard.org
X-WR-CALDESC:Events for Kellogg-Hubbard Library
REFRESH-INTERVAL;VALUE=DURATION:PT1H
X-Robots-Tag:noindex
X-PUBLISHED-TTL:PT1H
BEGIN:VTIMEZONE
TZID:America/New_York
BEGIN:DAYLIGHT
TZOFFSETFROM:-0500
TZOFFSETTO:-0400
TZNAME:EDT
DTSTART:20260308T070000
END:DAYLIGHT
BEGIN:STANDARD
TZOFFSETFROM:-0400
TZOFFSETTO:-0500
TZNAME:EST
DTSTART:20261101T060000
END:STANDARD
BEGIN:DAYLIGHT
TZOFFSETFROM:-0500
TZOFFSETTO:-0400
TZNAME:EDT
DTSTART:20270314T070000
END:DAYLIGHT
BEGIN:STANDARD
TZOFFSETFROM:-0400
TZOFFSETTO:-0500
TZNAME:EST
DTSTART:20271107T060000
END:STANDARD
BEGIN:DAYLIGHT
TZOFFSETFROM:-0500
TZOFFSETTO:-0400
TZNAME:EDT
DTSTART:20280312T070000
END:DAYLIGHT
BEGIN:STANDARD
TZOFFSETFROM:-0400
TZOFFSETTO:-0500
TZNAME:EST
DTSTART:20281105T060000
END:STANDARD
END:VTIMEZONE
BEGIN:VEVENT
DTSTART;TZID=America/New_York:20270128T120000
DTEND;TZID=America/New_York:20270128T130000
DTSTAMP:20260422T043758
CREATED:20250305T173457Z
LAST-MODIFIED:20251210T212107Z
UID:10014215-1801137600-1801141200@kellogghubbard.org
SUMMARY:Language Lounge: French
DESCRIPTION:Ces réunions sans rendez-vous vous donnent l’occasion de perfectionner vos compétences conversationnelles. Tous les niveaux sont les bienvenus. N’hésitez pas à apporter un sac repas et un dictionnaire. \nThese drop-in meetings give you the chance to brush up your conversational skills. All levels are welcome. Feel free to bring a bag lunch and a dictionary.
URL:https://kellogghubbard.org/calendar/language-lounge-french/2027-01-28/
LOCATION:Kellogg-Hubbard Library\, 135 Main Street\, Montpelier\, VT\, 05602\, United States
CATEGORIES:Adult,Language Lounge
ATTACH;FMTTYPE=image/png:https://kellogghubbard.org/wp-content/uploads/2024/12/Language-lounge1.png
END:VEVENT
BEGIN:VEVENT
DTSTART;TZID=America/New_York:20270129T120000
DTEND;TZID=America/New_York:20270129T130000
DTSTAMP:20260422T043758
CREATED:20250305T173744Z
LAST-MODIFIED:20251125T132510Z
UID:10008580-1801224000-1801227600@kellogghubbard.org
SUMMARY:Language Lounge: English
DESCRIPTION:These drop-in meetings give you the chance to brush up your conversational skills. All levels are welcome. Feel free to bring a bag lunch and a dictionary.
URL:https://kellogghubbard.org/calendar/language-lounge-english/2027-01-29/
LOCATION:Kellogg-Hubbard Library\, 135 Main Street\, Montpelier\, VT\, 05602\, United States
CATEGORIES:Adult,Language Lounge
ATTACH;FMTTYPE=image/png:https://kellogghubbard.org/wp-content/uploads/2024/12/Language-lounge1.png
END:VEVENT
BEGIN:VEVENT
DTSTART;TZID=America/New_York:20270201T120000
DTEND;TZID=America/New_York:20270201T130000
DTSTAMP:20260422T043758
CREATED:20250305T172525Z
LAST-MODIFIED:20251124T193215Z
UID:10013918-1801483200-1801486800@kellogghubbard.org
SUMMARY:Language Lounge: German
DESCRIPTION:Bei diesen spontanen Treffen haben Sie die Möglichkeit\, Ihre Konversationsfähigkeiten aufzufrischen. Alle Niveaus sind willkommen. Bringen Sie gerne ein Lunchpaket und ein Wörterbuch mit. \nThese drop-in meetings give you the chance to brush up your conversational skills. All levels are welcome. Feel free to bring a bag lunch and a dictionary.
URL:https://kellogghubbard.org/calendar/language-lounge-german/2027-02-01/
LOCATION:Kellogg-Hubbard Library\, 135 Main Street\, Montpelier\, VT\, 05602\, United States
CATEGORIES:Adult,Language Lounge
ATTACH;FMTTYPE=image/png:https://kellogghubbard.org/wp-content/uploads/2024/12/Language-lounge1.png
END:VEVENT
BEGIN:VEVENT
DTSTART;TZID=America/New_York:20270202T120000
DTEND;TZID=America/New_York:20270202T130000
DTSTAMP:20260422T043758
CREATED:20250305T173012Z
LAST-MODIFIED:20250305T173012Z
UID:10007803-1801569600-1801573200@kellogghubbard.org
SUMMARY:Language Lounge: Italian
DESCRIPTION:Questi incontri drop-in ti danno la possibilità di rispolverare le tue capacità di conversazione. Tutti i livelli sono i benvenuti. Sentiti libero di portare un pranzo al sacco e un dizionario. \nThese drop-in meetings give you the chance to brush up your conversational skills. All levels are welcome. Feel free to bring a bag lunch and a dictionary.
URL:https://kellogghubbard.org/calendar/language-lounge-italian/2027-02-02/
LOCATION:Kellogg-Hubbard Library\, 135 Main Street\, Montpelier\, VT\, 05602\, United States
CATEGORIES:Adult,Language Lounge
ATTACH;FMTTYPE=image/png:https://kellogghubbard.org/wp-content/uploads/2024/12/Language-lounge1.png
END:VEVENT
BEGIN:VEVENT
DTSTART;TZID=America/New_York:20270203T120000
DTEND;TZID=America/New_York:20270203T130000
DTSTAMP:20260422T043758
CREATED:20250305T173227Z
LAST-MODIFIED:20251125T132346Z
UID:10008064-1801656000-1801659600@kellogghubbard.org
SUMMARY:Language Lounge: Spanish
DESCRIPTION:Estas reuniones sin cita previa le brindan la oportunidad de mejorar sus habilidades de conversación. Todos los niveles son bienvenidos. No dudes en traer una bolsa de almuerzo y un diccionario. \nThese drop-in meetings give you the chance to brush up your conversational skills. All levels are welcome. Feel free to bring a bag lunch and a dictionary.
URL:https://kellogghubbard.org/calendar/language-lounge-spanish/2027-02-03/
LOCATION:Kellogg-Hubbard Library\, 135 Main Street\, Montpelier\, VT\, 05602\, United States
CATEGORIES:Adult,Language Lounge
ATTACH;FMTTYPE=image/png:https://kellogghubbard.org/wp-content/uploads/2024/12/Language-lounge1.png
END:VEVENT
BEGIN:VEVENT
DTSTART;TZID=America/New_York:20270204T120000
DTEND;TZID=America/New_York:20270204T130000
DTSTAMP:20260422T043758
CREATED:20250305T173457Z
LAST-MODIFIED:20251210T212107Z
UID:10014216-1801742400-1801746000@kellogghubbard.org
SUMMARY:Language Lounge: French
DESCRIPTION:Ces réunions sans rendez-vous vous donnent l’occasion de perfectionner vos compétences conversationnelles. Tous les niveaux sont les bienvenus. N’hésitez pas à apporter un sac repas et un dictionnaire. \nThese drop-in meetings give you the chance to brush up your conversational skills. All levels are welcome. Feel free to bring a bag lunch and a dictionary.
URL:https://kellogghubbard.org/calendar/language-lounge-french/2027-02-04/
LOCATION:Kellogg-Hubbard Library\, 135 Main Street\, Montpelier\, VT\, 05602\, United States
CATEGORIES:Adult,Language Lounge
ATTACH;FMTTYPE=image/png:https://kellogghubbard.org/wp-content/uploads/2024/12/Language-lounge1.png
END:VEVENT
BEGIN:VEVENT
DTSTART;TZID=America/New_York:20270205T120000
DTEND;TZID=America/New_York:20270205T130000
DTSTAMP:20260422T043758
CREATED:20250305T173744Z
LAST-MODIFIED:20251125T132510Z
UID:10008581-1801828800-1801832400@kellogghubbard.org
SUMMARY:Language Lounge: English
DESCRIPTION:These drop-in meetings give you the chance to brush up your conversational skills. All levels are welcome. Feel free to bring a bag lunch and a dictionary.
URL:https://kellogghubbard.org/calendar/language-lounge-english/2027-02-05/
LOCATION:Kellogg-Hubbard Library\, 135 Main Street\, Montpelier\, VT\, 05602\, United States
CATEGORIES:Adult,Language Lounge
ATTACH;FMTTYPE=image/png:https://kellogghubbard.org/wp-content/uploads/2024/12/Language-lounge1.png
END:VEVENT
BEGIN:VEVENT
DTSTART;TZID=America/New_York:20270208T120000
DTEND;TZID=America/New_York:20270208T130000
DTSTAMP:20260422T043758
CREATED:20250305T172525Z
LAST-MODIFIED:20251124T193215Z
UID:10013919-1802088000-1802091600@kellogghubbard.org
SUMMARY:Language Lounge: German
DESCRIPTION:Bei diesen spontanen Treffen haben Sie die Möglichkeit\, Ihre Konversationsfähigkeiten aufzufrischen. Alle Niveaus sind willkommen. Bringen Sie gerne ein Lunchpaket und ein Wörterbuch mit. \nThese drop-in meetings give you the chance to brush up your conversational skills. All levels are welcome. Feel free to bring a bag lunch and a dictionary.
URL:https://kellogghubbard.org/calendar/language-lounge-german/2027-02-08/
LOCATION:Kellogg-Hubbard Library\, 135 Main Street\, Montpelier\, VT\, 05602\, United States
CATEGORIES:Adult,Language Lounge
ATTACH;FMTTYPE=image/png:https://kellogghubbard.org/wp-content/uploads/2024/12/Language-lounge1.png
END:VEVENT
BEGIN:VEVENT
DTSTART;TZID=America/New_York:20270209T120000
DTEND;TZID=America/New_York:20270209T130000
DTSTAMP:20260422T043758
CREATED:20250305T173012Z
LAST-MODIFIED:20250305T173012Z
UID:10007804-1802174400-1802178000@kellogghubbard.org
SUMMARY:Language Lounge: Italian
DESCRIPTION:Questi incontri drop-in ti danno la possibilità di rispolverare le tue capacità di conversazione. Tutti i livelli sono i benvenuti. Sentiti libero di portare un pranzo al sacco e un dizionario. \nThese drop-in meetings give you the chance to brush up your conversational skills. All levels are welcome. Feel free to bring a bag lunch and a dictionary.
URL:https://kellogghubbard.org/calendar/language-lounge-italian/2027-02-09/
LOCATION:Kellogg-Hubbard Library\, 135 Main Street\, Montpelier\, VT\, 05602\, United States
CATEGORIES:Adult,Language Lounge
ATTACH;FMTTYPE=image/png:https://kellogghubbard.org/wp-content/uploads/2024/12/Language-lounge1.png
END:VEVENT
BEGIN:VEVENT
DTSTART;TZID=America/New_York:20270210T120000
DTEND;TZID=America/New_York:20270210T130000
DTSTAMP:20260422T043758
CREATED:20250305T173227Z
LAST-MODIFIED:20251125T132346Z
UID:10008065-1802260800-1802264400@kellogghubbard.org
SUMMARY:Language Lounge: Spanish
DESCRIPTION:Estas reuniones sin cita previa le brindan la oportunidad de mejorar sus habilidades de conversación. Todos los niveles son bienvenidos. No dudes en traer una bolsa de almuerzo y un diccionario. \nThese drop-in meetings give you the chance to brush up your conversational skills. All levels are welcome. Feel free to bring a bag lunch and a dictionary.
URL:https://kellogghubbard.org/calendar/language-lounge-spanish/2027-02-10/
LOCATION:Kellogg-Hubbard Library\, 135 Main Street\, Montpelier\, VT\, 05602\, United States
CATEGORIES:Adult,Language Lounge
ATTACH;FMTTYPE=image/png:https://kellogghubbard.org/wp-content/uploads/2024/12/Language-lounge1.png
END:VEVENT
BEGIN:VEVENT
DTSTART;TZID=America/New_York:20270211T120000
DTEND;TZID=America/New_York:20270211T130000
DTSTAMP:20260422T043758
CREATED:20250305T173457Z
LAST-MODIFIED:20251210T212107Z
UID:10014217-1802347200-1802350800@kellogghubbard.org
SUMMARY:Language Lounge: French
DESCRIPTION:Ces réunions sans rendez-vous vous donnent l’occasion de perfectionner vos compétences conversationnelles. Tous les niveaux sont les bienvenus. N’hésitez pas à apporter un sac repas et un dictionnaire. \nThese drop-in meetings give you the chance to brush up your conversational skills. All levels are welcome. Feel free to bring a bag lunch and a dictionary.
URL:https://kellogghubbard.org/calendar/language-lounge-french/2027-02-11/
LOCATION:Kellogg-Hubbard Library\, 135 Main Street\, Montpelier\, VT\, 05602\, United States
CATEGORIES:Adult,Language Lounge
ATTACH;FMTTYPE=image/png:https://kellogghubbard.org/wp-content/uploads/2024/12/Language-lounge1.png
END:VEVENT
BEGIN:VEVENT
DTSTART;TZID=America/New_York:20270212T120000
DTEND;TZID=America/New_York:20270212T130000
DTSTAMP:20260422T043758
CREATED:20250305T173744Z
LAST-MODIFIED:20251125T132510Z
UID:10008582-1802433600-1802437200@kellogghubbard.org
SUMMARY:Language Lounge: English
DESCRIPTION:These drop-in meetings give you the chance to brush up your conversational skills. All levels are welcome. Feel free to bring a bag lunch and a dictionary.
URL:https://kellogghubbard.org/calendar/language-lounge-english/2027-02-12/
LOCATION:Kellogg-Hubbard Library\, 135 Main Street\, Montpelier\, VT\, 05602\, United States
CATEGORIES:Adult,Language Lounge
ATTACH;FMTTYPE=image/png:https://kellogghubbard.org/wp-content/uploads/2024/12/Language-lounge1.png
END:VEVENT
BEGIN:VEVENT
DTSTART;TZID=America/New_York:20270215T120000
DTEND;TZID=America/New_York:20270215T130000
DTSTAMP:20260422T043758
CREATED:20250305T172525Z
LAST-MODIFIED:20251124T193215Z
UID:10013920-1802692800-1802696400@kellogghubbard.org
SUMMARY:Language Lounge: German
DESCRIPTION:Bei diesen spontanen Treffen haben Sie die Möglichkeit\, Ihre Konversationsfähigkeiten aufzufrischen. Alle Niveaus sind willkommen. Bringen Sie gerne ein Lunchpaket und ein Wörterbuch mit. \nThese drop-in meetings give you the chance to brush up your conversational skills. All levels are welcome. Feel free to bring a bag lunch and a dictionary.
URL:https://kellogghubbard.org/calendar/language-lounge-german/2027-02-15/
LOCATION:Kellogg-Hubbard Library\, 135 Main Street\, Montpelier\, VT\, 05602\, United States
CATEGORIES:Adult,Language Lounge
ATTACH;FMTTYPE=image/png:https://kellogghubbard.org/wp-content/uploads/2024/12/Language-lounge1.png
END:VEVENT
BEGIN:VEVENT
DTSTART;TZID=America/New_York:20270216T120000
DTEND;TZID=America/New_York:20270216T130000
DTSTAMP:20260422T043758
CREATED:20250305T173012Z
LAST-MODIFIED:20250305T173012Z
UID:10007805-1802779200-1802782800@kellogghubbard.org
SUMMARY:Language Lounge: Italian
DESCRIPTION:Questi incontri drop-in ti danno la possibilità di rispolverare le tue capacità di conversazione. Tutti i livelli sono i benvenuti. Sentiti libero di portare un pranzo al sacco e un dizionario. \nThese drop-in meetings give you the chance to brush up your conversational skills. All levels are welcome. Feel free to bring a bag lunch and a dictionary.
URL:https://kellogghubbard.org/calendar/language-lounge-italian/2027-02-16/
LOCATION:Kellogg-Hubbard Library\, 135 Main Street\, Montpelier\, VT\, 05602\, United States
CATEGORIES:Adult,Language Lounge
ATTACH;FMTTYPE=image/png:https://kellogghubbard.org/wp-content/uploads/2024/12/Language-lounge1.png
END:VEVENT
BEGIN:VEVENT
DTSTART;TZID=America/New_York:20270217T120000
DTEND;TZID=America/New_York:20270217T130000
DTSTAMP:20260422T043758
CREATED:20250305T173227Z
LAST-MODIFIED:20251125T132346Z
UID:10008066-1802865600-1802869200@kellogghubbard.org
SUMMARY:Language Lounge: Spanish
DESCRIPTION:Estas reuniones sin cita previa le brindan la oportunidad de mejorar sus habilidades de conversación. Todos los niveles son bienvenidos. No dudes en traer una bolsa de almuerzo y un diccionario. \nThese drop-in meetings give you the chance to brush up your conversational skills. All levels are welcome. Feel free to bring a bag lunch and a dictionary.
URL:https://kellogghubbard.org/calendar/language-lounge-spanish/2027-02-17/
LOCATION:Kellogg-Hubbard Library\, 135 Main Street\, Montpelier\, VT\, 05602\, United States
CATEGORIES:Adult,Language Lounge
ATTACH;FMTTYPE=image/png:https://kellogghubbard.org/wp-content/uploads/2024/12/Language-lounge1.png
END:VEVENT
BEGIN:VEVENT
DTSTART;TZID=America/New_York:20270218T120000
DTEND;TZID=America/New_York:20270218T130000
DTSTAMP:20260422T043758
CREATED:20250305T173457Z
LAST-MODIFIED:20251210T212107Z
UID:10014218-1802952000-1802955600@kellogghubbard.org
SUMMARY:Language Lounge: French
DESCRIPTION:Ces réunions sans rendez-vous vous donnent l’occasion de perfectionner vos compétences conversationnelles. Tous les niveaux sont les bienvenus. N’hésitez pas à apporter un sac repas et un dictionnaire. \nThese drop-in meetings give you the chance to brush up your conversational skills. All levels are welcome. Feel free to bring a bag lunch and a dictionary.
URL:https://kellogghubbard.org/calendar/language-lounge-french/2027-02-18/
LOCATION:Kellogg-Hubbard Library\, 135 Main Street\, Montpelier\, VT\, 05602\, United States
CATEGORIES:Adult,Language Lounge
ATTACH;FMTTYPE=image/png:https://kellogghubbard.org/wp-content/uploads/2024/12/Language-lounge1.png
END:VEVENT
BEGIN:VEVENT
DTSTART;TZID=America/New_York:20270219T120000
DTEND;TZID=America/New_York:20270219T130000
DTSTAMP:20260422T043758
CREATED:20250305T173744Z
LAST-MODIFIED:20251125T132510Z
UID:10008583-1803038400-1803042000@kellogghubbard.org
SUMMARY:Language Lounge: English
DESCRIPTION:These drop-in meetings give you the chance to brush up your conversational skills. All levels are welcome. Feel free to bring a bag lunch and a dictionary.
URL:https://kellogghubbard.org/calendar/language-lounge-english/2027-02-19/
LOCATION:Kellogg-Hubbard Library\, 135 Main Street\, Montpelier\, VT\, 05602\, United States
CATEGORIES:Adult,Language Lounge
ATTACH;FMTTYPE=image/png:https://kellogghubbard.org/wp-content/uploads/2024/12/Language-lounge1.png
END:VEVENT
BEGIN:VEVENT
DTSTART;TZID=America/New_York:20270222T120000
DTEND;TZID=America/New_York:20270222T130000
DTSTAMP:20260422T043758
CREATED:20250305T172525Z
LAST-MODIFIED:20251124T193215Z
UID:10013921-1803297600-1803301200@kellogghubbard.org
SUMMARY:Language Lounge: German
DESCRIPTION:Bei diesen spontanen Treffen haben Sie die Möglichkeit\, Ihre Konversationsfähigkeiten aufzufrischen. Alle Niveaus sind willkommen. Bringen Sie gerne ein Lunchpaket und ein Wörterbuch mit. \nThese drop-in meetings give you the chance to brush up your conversational skills. All levels are welcome. Feel free to bring a bag lunch and a dictionary.
URL:https://kellogghubbard.org/calendar/language-lounge-german/2027-02-22/
LOCATION:Kellogg-Hubbard Library\, 135 Main Street\, Montpelier\, VT\, 05602\, United States
CATEGORIES:Adult,Language Lounge
ATTACH;FMTTYPE=image/png:https://kellogghubbard.org/wp-content/uploads/2024/12/Language-lounge1.png
END:VEVENT
BEGIN:VEVENT
DTSTART;TZID=America/New_York:20270223T120000
DTEND;TZID=America/New_York:20270223T130000
DTSTAMP:20260422T043758
CREATED:20250305T173012Z
LAST-MODIFIED:20250305T173012Z
UID:10007806-1803384000-1803387600@kellogghubbard.org
SUMMARY:Language Lounge: Italian
DESCRIPTION:Questi incontri drop-in ti danno la possibilità di rispolverare le tue capacità di conversazione. Tutti i livelli sono i benvenuti. Sentiti libero di portare un pranzo al sacco e un dizionario. \nThese drop-in meetings give you the chance to brush up your conversational skills. All levels are welcome. Feel free to bring a bag lunch and a dictionary.
URL:https://kellogghubbard.org/calendar/language-lounge-italian/2027-02-23/
LOCATION:Kellogg-Hubbard Library\, 135 Main Street\, Montpelier\, VT\, 05602\, United States
CATEGORIES:Adult,Language Lounge
ATTACH;FMTTYPE=image/png:https://kellogghubbard.org/wp-content/uploads/2024/12/Language-lounge1.png
END:VEVENT
BEGIN:VEVENT
DTSTART;TZID=America/New_York:20270224T120000
DTEND;TZID=America/New_York:20270224T130000
DTSTAMP:20260422T043758
CREATED:20250305T173227Z
LAST-MODIFIED:20251125T132346Z
UID:10008067-1803470400-1803474000@kellogghubbard.org
SUMMARY:Language Lounge: Spanish
DESCRIPTION:Estas reuniones sin cita previa le brindan la oportunidad de mejorar sus habilidades de conversación. Todos los niveles son bienvenidos. No dudes en traer una bolsa de almuerzo y un diccionario. \nThese drop-in meetings give you the chance to brush up your conversational skills. All levels are welcome. Feel free to bring a bag lunch and a dictionary.
URL:https://kellogghubbard.org/calendar/language-lounge-spanish/2027-02-24/
LOCATION:Kellogg-Hubbard Library\, 135 Main Street\, Montpelier\, VT\, 05602\, United States
CATEGORIES:Adult,Language Lounge
ATTACH;FMTTYPE=image/png:https://kellogghubbard.org/wp-content/uploads/2024/12/Language-lounge1.png
END:VEVENT
BEGIN:VEVENT
DTSTART;TZID=America/New_York:20270225T120000
DTEND;TZID=America/New_York:20270225T130000
DTSTAMP:20260422T043758
CREATED:20250305T173457Z
LAST-MODIFIED:20251210T212107Z
UID:10014219-1803556800-1803560400@kellogghubbard.org
SUMMARY:Language Lounge: French
DESCRIPTION:Ces réunions sans rendez-vous vous donnent l’occasion de perfectionner vos compétences conversationnelles. Tous les niveaux sont les bienvenus. N’hésitez pas à apporter un sac repas et un dictionnaire. \nThese drop-in meetings give you the chance to brush up your conversational skills. All levels are welcome. Feel free to bring a bag lunch and a dictionary.
URL:https://kellogghubbard.org/calendar/language-lounge-french/2027-02-25/
LOCATION:Kellogg-Hubbard Library\, 135 Main Street\, Montpelier\, VT\, 05602\, United States
CATEGORIES:Adult,Language Lounge
ATTACH;FMTTYPE=image/png:https://kellogghubbard.org/wp-content/uploads/2024/12/Language-lounge1.png
END:VEVENT
BEGIN:VEVENT
DTSTART;TZID=America/New_York:20270226T120000
DTEND;TZID=America/New_York:20270226T130000
DTSTAMP:20260422T043758
CREATED:20250305T173744Z
LAST-MODIFIED:20251125T132510Z
UID:10008584-1803643200-1803646800@kellogghubbard.org
SUMMARY:Language Lounge: English
DESCRIPTION:These drop-in meetings give you the chance to brush up your conversational skills. All levels are welcome. Feel free to bring a bag lunch and a dictionary.
URL:https://kellogghubbard.org/calendar/language-lounge-english/2027-02-26/
LOCATION:Kellogg-Hubbard Library\, 135 Main Street\, Montpelier\, VT\, 05602\, United States
CATEGORIES:Adult,Language Lounge
ATTACH;FMTTYPE=image/png:https://kellogghubbard.org/wp-content/uploads/2024/12/Language-lounge1.png
END:VEVENT
BEGIN:VEVENT
DTSTART;TZID=America/New_York:20270301T120000
DTEND;TZID=America/New_York:20270301T130000
DTSTAMP:20260422T043758
CREATED:20250305T172525Z
LAST-MODIFIED:20251124T193215Z
UID:10013922-1803902400-1803906000@kellogghubbard.org
SUMMARY:Language Lounge: German
DESCRIPTION:Bei diesen spontanen Treffen haben Sie die Möglichkeit\, Ihre Konversationsfähigkeiten aufzufrischen. Alle Niveaus sind willkommen. Bringen Sie gerne ein Lunchpaket und ein Wörterbuch mit. \nThese drop-in meetings give you the chance to brush up your conversational skills. All levels are welcome. Feel free to bring a bag lunch and a dictionary.
URL:https://kellogghubbard.org/calendar/language-lounge-german/2027-03-01/
LOCATION:Kellogg-Hubbard Library\, 135 Main Street\, Montpelier\, VT\, 05602\, United States
CATEGORIES:Adult,Language Lounge
ATTACH;FMTTYPE=image/png:https://kellogghubbard.org/wp-content/uploads/2024/12/Language-lounge1.png
END:VEVENT
BEGIN:VEVENT
DTSTART;TZID=America/New_York:20270302T120000
DTEND;TZID=America/New_York:20270302T130000
DTSTAMP:20260422T043758
CREATED:20250305T173012Z
LAST-MODIFIED:20250305T173012Z
UID:10007807-1803988800-1803992400@kellogghubbard.org
SUMMARY:Language Lounge: Italian
DESCRIPTION:Questi incontri drop-in ti danno la possibilità di rispolverare le tue capacità di conversazione. Tutti i livelli sono i benvenuti. Sentiti libero di portare un pranzo al sacco e un dizionario. \nThese drop-in meetings give you the chance to brush up your conversational skills. All levels are welcome. Feel free to bring a bag lunch and a dictionary.
URL:https://kellogghubbard.org/calendar/language-lounge-italian/2027-03-02/
LOCATION:Kellogg-Hubbard Library\, 135 Main Street\, Montpelier\, VT\, 05602\, United States
CATEGORIES:Adult,Language Lounge
ATTACH;FMTTYPE=image/png:https://kellogghubbard.org/wp-content/uploads/2024/12/Language-lounge1.png
END:VEVENT
BEGIN:VEVENT
DTSTART;TZID=America/New_York:20270303T120000
DTEND;TZID=America/New_York:20270303T130000
DTSTAMP:20260422T043758
CREATED:20250305T173227Z
LAST-MODIFIED:20251125T132346Z
UID:10008068-1804075200-1804078800@kellogghubbard.org
SUMMARY:Language Lounge: Spanish
DESCRIPTION:Estas reuniones sin cita previa le brindan la oportunidad de mejorar sus habilidades de conversación. Todos los niveles son bienvenidos. No dudes en traer una bolsa de almuerzo y un diccionario. \nThese drop-in meetings give you the chance to brush up your conversational skills. All levels are welcome. Feel free to bring a bag lunch and a dictionary.
URL:https://kellogghubbard.org/calendar/language-lounge-spanish/2027-03-03/
LOCATION:Kellogg-Hubbard Library\, 135 Main Street\, Montpelier\, VT\, 05602\, United States
CATEGORIES:Adult,Language Lounge
ATTACH;FMTTYPE=image/png:https://kellogghubbard.org/wp-content/uploads/2024/12/Language-lounge1.png
END:VEVENT
BEGIN:VEVENT
DTSTART;TZID=America/New_York:20270304T120000
DTEND;TZID=America/New_York:20270304T130000
DTSTAMP:20260422T043758
CREATED:20250305T173457Z
LAST-MODIFIED:20251210T212107Z
UID:10014220-1804161600-1804165200@kellogghubbard.org
SUMMARY:Language Lounge: French
DESCRIPTION:Ces réunions sans rendez-vous vous donnent l’occasion de perfectionner vos compétences conversationnelles. Tous les niveaux sont les bienvenus. N’hésitez pas à apporter un sac repas et un dictionnaire. \nThese drop-in meetings give you the chance to brush up your conversational skills. All levels are welcome. Feel free to bring a bag lunch and a dictionary.
URL:https://kellogghubbard.org/calendar/language-lounge-french/2027-03-04/
LOCATION:Kellogg-Hubbard Library\, 135 Main Street\, Montpelier\, VT\, 05602\, United States
CATEGORIES:Adult,Language Lounge
ATTACH;FMTTYPE=image/png:https://kellogghubbard.org/wp-content/uploads/2024/12/Language-lounge1.png
END:VEVENT
BEGIN:VEVENT
DTSTART;TZID=America/New_York:20270305T120000
DTEND;TZID=America/New_York:20270305T130000
DTSTAMP:20260422T043758
CREATED:20250305T173744Z
LAST-MODIFIED:20251125T132510Z
UID:10008585-1804248000-1804251600@kellogghubbard.org
SUMMARY:Language Lounge: English
DESCRIPTION:These drop-in meetings give you the chance to brush up your conversational skills. All levels are welcome. Feel free to bring a bag lunch and a dictionary.
URL:https://kellogghubbard.org/calendar/language-lounge-english/2027-03-05/
LOCATION:Kellogg-Hubbard Library\, 135 Main Street\, Montpelier\, VT\, 05602\, United States
CATEGORIES:Adult,Language Lounge
ATTACH;FMTTYPE=image/png:https://kellogghubbard.org/wp-content/uploads/2024/12/Language-lounge1.png
END:VEVENT
BEGIN:VEVENT
DTSTART;TZID=America/New_York:20270308T120000
DTEND;TZID=America/New_York:20270308T130000
DTSTAMP:20260422T043758
CREATED:20250305T172525Z
LAST-MODIFIED:20251124T193215Z
UID:10013923-1804507200-1804510800@kellogghubbard.org
SUMMARY:Language Lounge: German
DESCRIPTION:Bei diesen spontanen Treffen haben Sie die Möglichkeit\, Ihre Konversationsfähigkeiten aufzufrischen. Alle Niveaus sind willkommen. Bringen Sie gerne ein Lunchpaket und ein Wörterbuch mit. \nThese drop-in meetings give you the chance to brush up your conversational skills. All levels are welcome. Feel free to bring a bag lunch and a dictionary.
URL:https://kellogghubbard.org/calendar/language-lounge-german/2027-03-08/
LOCATION:Kellogg-Hubbard Library\, 135 Main Street\, Montpelier\, VT\, 05602\, United States
CATEGORIES:Adult,Language Lounge
ATTACH;FMTTYPE=image/png:https://kellogghubbard.org/wp-content/uploads/2024/12/Language-lounge1.png
END:VEVENT
BEGIN:VEVENT
DTSTART;TZID=America/New_York:20270309T120000
DTEND;TZID=America/New_York:20270309T130000
DTSTAMP:20260422T043758
CREATED:20250305T173012Z
LAST-MODIFIED:20250305T173012Z
UID:10007808-1804593600-1804597200@kellogghubbard.org
SUMMARY:Language Lounge: Italian
DESCRIPTION:Questi incontri drop-in ti danno la possibilità di rispolverare le tue capacità di conversazione. Tutti i livelli sono i benvenuti. Sentiti libero di portare un pranzo al sacco e un dizionario. \nThese drop-in meetings give you the chance to brush up your conversational skills. All levels are welcome. Feel free to bring a bag lunch and a dictionary.
URL:https://kellogghubbard.org/calendar/language-lounge-italian/2027-03-09/
LOCATION:Kellogg-Hubbard Library\, 135 Main Street\, Montpelier\, VT\, 05602\, United States
CATEGORIES:Adult,Language Lounge
ATTACH;FMTTYPE=image/png:https://kellogghubbard.org/wp-content/uploads/2024/12/Language-lounge1.png
END:VEVENT
BEGIN:VEVENT
DTSTART;TZID=America/New_York:20270310T120000
DTEND;TZID=America/New_York:20270310T130000
DTSTAMP:20260422T043758
CREATED:20250305T173227Z
LAST-MODIFIED:20251125T132346Z
UID:10008069-1804680000-1804683600@kellogghubbard.org
SUMMARY:Language Lounge: Spanish
DESCRIPTION:Estas reuniones sin cita previa le brindan la oportunidad de mejorar sus habilidades de conversación. Todos los niveles son bienvenidos. No dudes en traer una bolsa de almuerzo y un diccionario. \nThese drop-in meetings give you the chance to brush up your conversational skills. All levels are welcome. Feel free to bring a bag lunch and a dictionary.
URL:https://kellogghubbard.org/calendar/language-lounge-spanish/2027-03-10/
LOCATION:Kellogg-Hubbard Library\, 135 Main Street\, Montpelier\, VT\, 05602\, United States
CATEGORIES:Adult,Language Lounge
ATTACH;FMTTYPE=image/png:https://kellogghubbard.org/wp-content/uploads/2024/12/Language-lounge1.png
END:VEVENT
END:VCALENDAR