BEGIN:VCALENDAR
VERSION:2.0
PRODID:-//Kellogg-Hubbard Library - ECPv6.15.20//NONSGML v1.0//EN
CALSCALE:GREGORIAN
METHOD:PUBLISH
X-WR-CALNAME:Kellogg-Hubbard Library
X-ORIGINAL-URL:https://kellogghubbard.org
X-WR-CALDESC:Events for Kellogg-Hubbard Library
REFRESH-INTERVAL;VALUE=DURATION:PT1H
X-Robots-Tag:noindex
X-PUBLISHED-TTL:PT1H
BEGIN:VTIMEZONE
TZID:America/New_York
BEGIN:DAYLIGHT
TZOFFSETFROM:-0500
TZOFFSETTO:-0400
TZNAME:EDT
DTSTART:20250309T070000
END:DAYLIGHT
BEGIN:STANDARD
TZOFFSETFROM:-0400
TZOFFSETTO:-0500
TZNAME:EST
DTSTART:20251102T060000
END:STANDARD
BEGIN:DAYLIGHT
TZOFFSETFROM:-0500
TZOFFSETTO:-0400
TZNAME:EDT
DTSTART:20260308T070000
END:DAYLIGHT
BEGIN:STANDARD
TZOFFSETFROM:-0400
TZOFFSETTO:-0500
TZNAME:EST
DTSTART:20261101T060000
END:STANDARD
BEGIN:DAYLIGHT
TZOFFSETFROM:-0500
TZOFFSETTO:-0400
TZNAME:EDT
DTSTART:20270314T070000
END:DAYLIGHT
BEGIN:STANDARD
TZOFFSETFROM:-0400
TZOFFSETTO:-0500
TZNAME:EST
DTSTART:20271107T060000
END:STANDARD
BEGIN:DAYLIGHT
TZOFFSETFROM:-0500
TZOFFSETTO:-0400
TZNAME:EDT
DTSTART:20280312T070000
END:DAYLIGHT
BEGIN:STANDARD
TZOFFSETFROM:-0400
TZOFFSETTO:-0500
TZNAME:EST
DTSTART:20281105T060000
END:STANDARD
END:VTIMEZONE
BEGIN:VEVENT
DTSTART;TZID=America/New_York:20261221T120000
DTEND;TZID=America/New_York:20261221T130000
DTSTAMP:20260420T011635
CREATED:20250305T172525Z
LAST-MODIFIED:20251124T193215Z
UID:10013912-1797854400-1797858000@kellogghubbard.org
SUMMARY:Language Lounge: German
DESCRIPTION:Bei diesen spontanen Treffen haben Sie die Möglichkeit\, Ihre Konversationsfähigkeiten aufzufrischen. Alle Niveaus sind willkommen. Bringen Sie gerne ein Lunchpaket und ein Wörterbuch mit. \nThese drop-in meetings give you the chance to brush up your conversational skills. All levels are welcome. Feel free to bring a bag lunch and a dictionary.
URL:https://kellogghubbard.org/calendar/language-lounge-german/2026-12-21/
LOCATION:Kellogg-Hubbard Library\, 135 Main Street\, Montpelier\, VT\, 05602\, United States
CATEGORIES:Adult,Language Lounge
ATTACH;FMTTYPE=image/png:https://kellogghubbard.org/wp-content/uploads/2024/12/Language-lounge1.png
END:VEVENT
BEGIN:VEVENT
DTSTART;TZID=America/New_York:20261222T120000
DTEND;TZID=America/New_York:20261222T130000
DTSTAMP:20260420T011635
CREATED:20250305T173012Z
LAST-MODIFIED:20250305T173012Z
UID:10007797-1797940800-1797944400@kellogghubbard.org
SUMMARY:Language Lounge: Italian
DESCRIPTION:Questi incontri drop-in ti danno la possibilità di rispolverare le tue capacità di conversazione. Tutti i livelli sono i benvenuti. Sentiti libero di portare un pranzo al sacco e un dizionario. \nThese drop-in meetings give you the chance to brush up your conversational skills. All levels are welcome. Feel free to bring a bag lunch and a dictionary.
URL:https://kellogghubbard.org/calendar/language-lounge-italian/2026-12-22/
LOCATION:Kellogg-Hubbard Library\, 135 Main Street\, Montpelier\, VT\, 05602\, United States
CATEGORIES:Adult,Language Lounge
ATTACH;FMTTYPE=image/png:https://kellogghubbard.org/wp-content/uploads/2024/12/Language-lounge1.png
END:VEVENT
BEGIN:VEVENT
DTSTART;TZID=America/New_York:20261223T120000
DTEND;TZID=America/New_York:20261223T130000
DTSTAMP:20260420T011635
CREATED:20250305T173227Z
LAST-MODIFIED:20251125T132346Z
UID:10008058-1798027200-1798030800@kellogghubbard.org
SUMMARY:Language Lounge: Spanish
DESCRIPTION:Estas reuniones sin cita previa le brindan la oportunidad de mejorar sus habilidades de conversación. Todos los niveles son bienvenidos. No dudes en traer una bolsa de almuerzo y un diccionario. \nThese drop-in meetings give you the chance to brush up your conversational skills. All levels are welcome. Feel free to bring a bag lunch and a dictionary.
URL:https://kellogghubbard.org/calendar/language-lounge-spanish/2026-12-23/
LOCATION:Kellogg-Hubbard Library\, 135 Main Street\, Montpelier\, VT\, 05602\, United States
CATEGORIES:Adult,Language Lounge
ATTACH;FMTTYPE=image/png:https://kellogghubbard.org/wp-content/uploads/2024/12/Language-lounge1.png
END:VEVENT
BEGIN:VEVENT
DTSTART;TZID=America/New_York:20261228T120000
DTEND;TZID=America/New_York:20261228T130000
DTSTAMP:20260420T011635
CREATED:20250305T172525Z
LAST-MODIFIED:20251124T193215Z
UID:10013913-1798459200-1798462800@kellogghubbard.org
SUMMARY:Language Lounge: German
DESCRIPTION:Bei diesen spontanen Treffen haben Sie die Möglichkeit\, Ihre Konversationsfähigkeiten aufzufrischen. Alle Niveaus sind willkommen. Bringen Sie gerne ein Lunchpaket und ein Wörterbuch mit. \nThese drop-in meetings give you the chance to brush up your conversational skills. All levels are welcome. Feel free to bring a bag lunch and a dictionary.
URL:https://kellogghubbard.org/calendar/language-lounge-german/2026-12-28/
LOCATION:Kellogg-Hubbard Library\, 135 Main Street\, Montpelier\, VT\, 05602\, United States
CATEGORIES:Adult,Language Lounge
ATTACH;FMTTYPE=image/png:https://kellogghubbard.org/wp-content/uploads/2024/12/Language-lounge1.png
END:VEVENT
BEGIN:VEVENT
DTSTART;TZID=America/New_York:20261229T120000
DTEND;TZID=America/New_York:20261229T130000
DTSTAMP:20260420T011635
CREATED:20250305T173012Z
LAST-MODIFIED:20250305T173012Z
UID:10007798-1798545600-1798549200@kellogghubbard.org
SUMMARY:Language Lounge: Italian
DESCRIPTION:Questi incontri drop-in ti danno la possibilità di rispolverare le tue capacità di conversazione. Tutti i livelli sono i benvenuti. Sentiti libero di portare un pranzo al sacco e un dizionario. \nThese drop-in meetings give you the chance to brush up your conversational skills. All levels are welcome. Feel free to bring a bag lunch and a dictionary.
URL:https://kellogghubbard.org/calendar/language-lounge-italian/2026-12-29/
LOCATION:Kellogg-Hubbard Library\, 135 Main Street\, Montpelier\, VT\, 05602\, United States
CATEGORIES:Adult,Language Lounge
ATTACH;FMTTYPE=image/png:https://kellogghubbard.org/wp-content/uploads/2024/12/Language-lounge1.png
END:VEVENT
BEGIN:VEVENT
DTSTART;TZID=America/New_York:20261230T120000
DTEND;TZID=America/New_York:20261230T130000
DTSTAMP:20260420T011635
CREATED:20250305T173227Z
LAST-MODIFIED:20251125T132346Z
UID:10008059-1798632000-1798635600@kellogghubbard.org
SUMMARY:Language Lounge: Spanish
DESCRIPTION:Estas reuniones sin cita previa le brindan la oportunidad de mejorar sus habilidades de conversación. Todos los niveles son bienvenidos. No dudes en traer una bolsa de almuerzo y un diccionario. \nThese drop-in meetings give you the chance to brush up your conversational skills. All levels are welcome. Feel free to bring a bag lunch and a dictionary.
URL:https://kellogghubbard.org/calendar/language-lounge-spanish/2026-12-30/
LOCATION:Kellogg-Hubbard Library\, 135 Main Street\, Montpelier\, VT\, 05602\, United States
CATEGORIES:Adult,Language Lounge
ATTACH;FMTTYPE=image/png:https://kellogghubbard.org/wp-content/uploads/2024/12/Language-lounge1.png
END:VEVENT
BEGIN:VEVENT
DTSTART;TZID=America/New_York:20261231T120000
DTEND;TZID=America/New_York:20261231T130000
DTSTAMP:20260420T011635
CREATED:20250305T173457Z
LAST-MODIFIED:20251210T212107Z
UID:10014211-1798718400-1798722000@kellogghubbard.org
SUMMARY:Language Lounge: French
DESCRIPTION:Ces réunions sans rendez-vous vous donnent l’occasion de perfectionner vos compétences conversationnelles. Tous les niveaux sont les bienvenus. N’hésitez pas à apporter un sac repas et un dictionnaire. \nThese drop-in meetings give you the chance to brush up your conversational skills. All levels are welcome. Feel free to bring a bag lunch and a dictionary.
URL:https://kellogghubbard.org/calendar/language-lounge-french/2026-12-31/
LOCATION:Kellogg-Hubbard Library\, 135 Main Street\, Montpelier\, VT\, 05602\, United States
CATEGORIES:Adult,Language Lounge
ATTACH;FMTTYPE=image/png:https://kellogghubbard.org/wp-content/uploads/2024/12/Language-lounge1.png
END:VEVENT
BEGIN:VEVENT
DTSTART;TZID=America/New_York:20270101T120000
DTEND;TZID=America/New_York:20270101T130000
DTSTAMP:20260420T011635
CREATED:20250305T173744Z
LAST-MODIFIED:20251125T132510Z
UID:10008576-1798804800-1798808400@kellogghubbard.org
SUMMARY:Language Lounge: English
DESCRIPTION:These drop-in meetings give you the chance to brush up your conversational skills. All levels are welcome. Feel free to bring a bag lunch and a dictionary.
URL:https://kellogghubbard.org/calendar/language-lounge-english/2027-01-01/
LOCATION:Kellogg-Hubbard Library\, 135 Main Street\, Montpelier\, VT\, 05602\, United States
CATEGORIES:Adult,Language Lounge
ATTACH;FMTTYPE=image/png:https://kellogghubbard.org/wp-content/uploads/2024/12/Language-lounge1.png
END:VEVENT
BEGIN:VEVENT
DTSTART;TZID=America/New_York:20270104T120000
DTEND;TZID=America/New_York:20270104T130000
DTSTAMP:20260420T011635
CREATED:20250305T172525Z
LAST-MODIFIED:20251124T193215Z
UID:10013914-1799064000-1799067600@kellogghubbard.org
SUMMARY:Language Lounge: German
DESCRIPTION:Bei diesen spontanen Treffen haben Sie die Möglichkeit\, Ihre Konversationsfähigkeiten aufzufrischen. Alle Niveaus sind willkommen. Bringen Sie gerne ein Lunchpaket und ein Wörterbuch mit. \nThese drop-in meetings give you the chance to brush up your conversational skills. All levels are welcome. Feel free to bring a bag lunch and a dictionary.
URL:https://kellogghubbard.org/calendar/language-lounge-german/2027-01-04/
LOCATION:Kellogg-Hubbard Library\, 135 Main Street\, Montpelier\, VT\, 05602\, United States
CATEGORIES:Adult,Language Lounge
ATTACH;FMTTYPE=image/png:https://kellogghubbard.org/wp-content/uploads/2024/12/Language-lounge1.png
END:VEVENT
BEGIN:VEVENT
DTSTART;TZID=America/New_York:20270105T120000
DTEND;TZID=America/New_York:20270105T130000
DTSTAMP:20260420T011635
CREATED:20250305T173012Z
LAST-MODIFIED:20250305T173012Z
UID:10007799-1799150400-1799154000@kellogghubbard.org
SUMMARY:Language Lounge: Italian
DESCRIPTION:Questi incontri drop-in ti danno la possibilità di rispolverare le tue capacità di conversazione. Tutti i livelli sono i benvenuti. Sentiti libero di portare un pranzo al sacco e un dizionario. \nThese drop-in meetings give you the chance to brush up your conversational skills. All levels are welcome. Feel free to bring a bag lunch and a dictionary.
URL:https://kellogghubbard.org/calendar/language-lounge-italian/2027-01-05/
LOCATION:Kellogg-Hubbard Library\, 135 Main Street\, Montpelier\, VT\, 05602\, United States
CATEGORIES:Adult,Language Lounge
ATTACH;FMTTYPE=image/png:https://kellogghubbard.org/wp-content/uploads/2024/12/Language-lounge1.png
END:VEVENT
BEGIN:VEVENT
DTSTART;TZID=America/New_York:20270106T120000
DTEND;TZID=America/New_York:20270106T130000
DTSTAMP:20260420T011635
CREATED:20250305T173227Z
LAST-MODIFIED:20251125T132346Z
UID:10008060-1799236800-1799240400@kellogghubbard.org
SUMMARY:Language Lounge: Spanish
DESCRIPTION:Estas reuniones sin cita previa le brindan la oportunidad de mejorar sus habilidades de conversación. Todos los niveles son bienvenidos. No dudes en traer una bolsa de almuerzo y un diccionario. \nThese drop-in meetings give you the chance to brush up your conversational skills. All levels are welcome. Feel free to bring a bag lunch and a dictionary.
URL:https://kellogghubbard.org/calendar/language-lounge-spanish/2027-01-06/
LOCATION:Kellogg-Hubbard Library\, 135 Main Street\, Montpelier\, VT\, 05602\, United States
CATEGORIES:Adult,Language Lounge
ATTACH;FMTTYPE=image/png:https://kellogghubbard.org/wp-content/uploads/2024/12/Language-lounge1.png
END:VEVENT
BEGIN:VEVENT
DTSTART;TZID=America/New_York:20270107T120000
DTEND;TZID=America/New_York:20270107T130000
DTSTAMP:20260420T011635
CREATED:20250305T173457Z
LAST-MODIFIED:20251210T212107Z
UID:10014212-1799323200-1799326800@kellogghubbard.org
SUMMARY:Language Lounge: French
DESCRIPTION:Ces réunions sans rendez-vous vous donnent l’occasion de perfectionner vos compétences conversationnelles. Tous les niveaux sont les bienvenus. N’hésitez pas à apporter un sac repas et un dictionnaire. \nThese drop-in meetings give you the chance to brush up your conversational skills. All levels are welcome. Feel free to bring a bag lunch and a dictionary.
URL:https://kellogghubbard.org/calendar/language-lounge-french/2027-01-07/
LOCATION:Kellogg-Hubbard Library\, 135 Main Street\, Montpelier\, VT\, 05602\, United States
CATEGORIES:Adult,Language Lounge
ATTACH;FMTTYPE=image/png:https://kellogghubbard.org/wp-content/uploads/2024/12/Language-lounge1.png
END:VEVENT
BEGIN:VEVENT
DTSTART;TZID=America/New_York:20270108T120000
DTEND;TZID=America/New_York:20270108T130000
DTSTAMP:20260420T011635
CREATED:20250305T173744Z
LAST-MODIFIED:20251125T132510Z
UID:10008577-1799409600-1799413200@kellogghubbard.org
SUMMARY:Language Lounge: English
DESCRIPTION:These drop-in meetings give you the chance to brush up your conversational skills. All levels are welcome. Feel free to bring a bag lunch and a dictionary.
URL:https://kellogghubbard.org/calendar/language-lounge-english/2027-01-08/
LOCATION:Kellogg-Hubbard Library\, 135 Main Street\, Montpelier\, VT\, 05602\, United States
CATEGORIES:Adult,Language Lounge
ATTACH;FMTTYPE=image/png:https://kellogghubbard.org/wp-content/uploads/2024/12/Language-lounge1.png
END:VEVENT
BEGIN:VEVENT
DTSTART;TZID=America/New_York:20270111T120000
DTEND;TZID=America/New_York:20270111T130000
DTSTAMP:20260420T011635
CREATED:20250305T172525Z
LAST-MODIFIED:20251124T193215Z
UID:10013915-1799668800-1799672400@kellogghubbard.org
SUMMARY:Language Lounge: German
DESCRIPTION:Bei diesen spontanen Treffen haben Sie die Möglichkeit\, Ihre Konversationsfähigkeiten aufzufrischen. Alle Niveaus sind willkommen. Bringen Sie gerne ein Lunchpaket und ein Wörterbuch mit. \nThese drop-in meetings give you the chance to brush up your conversational skills. All levels are welcome. Feel free to bring a bag lunch and a dictionary.
URL:https://kellogghubbard.org/calendar/language-lounge-german/2027-01-11/
LOCATION:Kellogg-Hubbard Library\, 135 Main Street\, Montpelier\, VT\, 05602\, United States
CATEGORIES:Adult,Language Lounge
ATTACH;FMTTYPE=image/png:https://kellogghubbard.org/wp-content/uploads/2024/12/Language-lounge1.png
END:VEVENT
BEGIN:VEVENT
DTSTART;TZID=America/New_York:20270112T120000
DTEND;TZID=America/New_York:20270112T130000
DTSTAMP:20260420T011635
CREATED:20250305T173012Z
LAST-MODIFIED:20250305T173012Z
UID:10007800-1799755200-1799758800@kellogghubbard.org
SUMMARY:Language Lounge: Italian
DESCRIPTION:Questi incontri drop-in ti danno la possibilità di rispolverare le tue capacità di conversazione. Tutti i livelli sono i benvenuti. Sentiti libero di portare un pranzo al sacco e un dizionario. \nThese drop-in meetings give you the chance to brush up your conversational skills. All levels are welcome. Feel free to bring a bag lunch and a dictionary.
URL:https://kellogghubbard.org/calendar/language-lounge-italian/2027-01-12/
LOCATION:Kellogg-Hubbard Library\, 135 Main Street\, Montpelier\, VT\, 05602\, United States
CATEGORIES:Adult,Language Lounge
ATTACH;FMTTYPE=image/png:https://kellogghubbard.org/wp-content/uploads/2024/12/Language-lounge1.png
END:VEVENT
BEGIN:VEVENT
DTSTART;TZID=America/New_York:20270113T120000
DTEND;TZID=America/New_York:20270113T130000
DTSTAMP:20260420T011635
CREATED:20250305T173227Z
LAST-MODIFIED:20251125T132346Z
UID:10008061-1799841600-1799845200@kellogghubbard.org
SUMMARY:Language Lounge: Spanish
DESCRIPTION:Estas reuniones sin cita previa le brindan la oportunidad de mejorar sus habilidades de conversación. Todos los niveles son bienvenidos. No dudes en traer una bolsa de almuerzo y un diccionario. \nThese drop-in meetings give you the chance to brush up your conversational skills. All levels are welcome. Feel free to bring a bag lunch and a dictionary.
URL:https://kellogghubbard.org/calendar/language-lounge-spanish/2027-01-13/
LOCATION:Kellogg-Hubbard Library\, 135 Main Street\, Montpelier\, VT\, 05602\, United States
CATEGORIES:Adult,Language Lounge
ATTACH;FMTTYPE=image/png:https://kellogghubbard.org/wp-content/uploads/2024/12/Language-lounge1.png
END:VEVENT
BEGIN:VEVENT
DTSTART;TZID=America/New_York:20270114T120000
DTEND;TZID=America/New_York:20270114T130000
DTSTAMP:20260420T011635
CREATED:20250305T173457Z
LAST-MODIFIED:20251210T212107Z
UID:10014213-1799928000-1799931600@kellogghubbard.org
SUMMARY:Language Lounge: French
DESCRIPTION:Ces réunions sans rendez-vous vous donnent l’occasion de perfectionner vos compétences conversationnelles. Tous les niveaux sont les bienvenus. N’hésitez pas à apporter un sac repas et un dictionnaire. \nThese drop-in meetings give you the chance to brush up your conversational skills. All levels are welcome. Feel free to bring a bag lunch and a dictionary.
URL:https://kellogghubbard.org/calendar/language-lounge-french/2027-01-14/
LOCATION:Kellogg-Hubbard Library\, 135 Main Street\, Montpelier\, VT\, 05602\, United States
CATEGORIES:Adult,Language Lounge
ATTACH;FMTTYPE=image/png:https://kellogghubbard.org/wp-content/uploads/2024/12/Language-lounge1.png
END:VEVENT
BEGIN:VEVENT
DTSTART;TZID=America/New_York:20270115T120000
DTEND;TZID=America/New_York:20270115T130000
DTSTAMP:20260420T011635
CREATED:20250305T173744Z
LAST-MODIFIED:20251125T132510Z
UID:10008578-1800014400-1800018000@kellogghubbard.org
SUMMARY:Language Lounge: English
DESCRIPTION:These drop-in meetings give you the chance to brush up your conversational skills. All levels are welcome. Feel free to bring a bag lunch and a dictionary.
URL:https://kellogghubbard.org/calendar/language-lounge-english/2027-01-15/
LOCATION:Kellogg-Hubbard Library\, 135 Main Street\, Montpelier\, VT\, 05602\, United States
CATEGORIES:Adult,Language Lounge
ATTACH;FMTTYPE=image/png:https://kellogghubbard.org/wp-content/uploads/2024/12/Language-lounge1.png
END:VEVENT
BEGIN:VEVENT
DTSTART;TZID=America/New_York:20270118T120000
DTEND;TZID=America/New_York:20270118T130000
DTSTAMP:20260420T011635
CREATED:20250305T172525Z
LAST-MODIFIED:20251124T193215Z
UID:10013916-1800273600-1800277200@kellogghubbard.org
SUMMARY:Language Lounge: German
DESCRIPTION:Bei diesen spontanen Treffen haben Sie die Möglichkeit\, Ihre Konversationsfähigkeiten aufzufrischen. Alle Niveaus sind willkommen. Bringen Sie gerne ein Lunchpaket und ein Wörterbuch mit. \nThese drop-in meetings give you the chance to brush up your conversational skills. All levels are welcome. Feel free to bring a bag lunch and a dictionary.
URL:https://kellogghubbard.org/calendar/language-lounge-german/2027-01-18/
LOCATION:Kellogg-Hubbard Library\, 135 Main Street\, Montpelier\, VT\, 05602\, United States
CATEGORIES:Adult,Language Lounge
ATTACH;FMTTYPE=image/png:https://kellogghubbard.org/wp-content/uploads/2024/12/Language-lounge1.png
END:VEVENT
BEGIN:VEVENT
DTSTART;TZID=America/New_York:20270119T120000
DTEND;TZID=America/New_York:20270119T130000
DTSTAMP:20260420T011635
CREATED:20250305T173012Z
LAST-MODIFIED:20250305T173012Z
UID:10007801-1800360000-1800363600@kellogghubbard.org
SUMMARY:Language Lounge: Italian
DESCRIPTION:Questi incontri drop-in ti danno la possibilità di rispolverare le tue capacità di conversazione. Tutti i livelli sono i benvenuti. Sentiti libero di portare un pranzo al sacco e un dizionario. \nThese drop-in meetings give you the chance to brush up your conversational skills. All levels are welcome. Feel free to bring a bag lunch and a dictionary.
URL:https://kellogghubbard.org/calendar/language-lounge-italian/2027-01-19/
LOCATION:Kellogg-Hubbard Library\, 135 Main Street\, Montpelier\, VT\, 05602\, United States
CATEGORIES:Adult,Language Lounge
ATTACH;FMTTYPE=image/png:https://kellogghubbard.org/wp-content/uploads/2024/12/Language-lounge1.png
END:VEVENT
BEGIN:VEVENT
DTSTART;TZID=America/New_York:20270120T120000
DTEND;TZID=America/New_York:20270120T130000
DTSTAMP:20260420T011635
CREATED:20250305T173227Z
LAST-MODIFIED:20251125T132346Z
UID:10008062-1800446400-1800450000@kellogghubbard.org
SUMMARY:Language Lounge: Spanish
DESCRIPTION:Estas reuniones sin cita previa le brindan la oportunidad de mejorar sus habilidades de conversación. Todos los niveles son bienvenidos. No dudes en traer una bolsa de almuerzo y un diccionario. \nThese drop-in meetings give you the chance to brush up your conversational skills. All levels are welcome. Feel free to bring a bag lunch and a dictionary.
URL:https://kellogghubbard.org/calendar/language-lounge-spanish/2027-01-20/
LOCATION:Kellogg-Hubbard Library\, 135 Main Street\, Montpelier\, VT\, 05602\, United States
CATEGORIES:Adult,Language Lounge
ATTACH;FMTTYPE=image/png:https://kellogghubbard.org/wp-content/uploads/2024/12/Language-lounge1.png
END:VEVENT
BEGIN:VEVENT
DTSTART;TZID=America/New_York:20270121T120000
DTEND;TZID=America/New_York:20270121T130000
DTSTAMP:20260420T011635
CREATED:20250305T173457Z
LAST-MODIFIED:20251210T212107Z
UID:10014214-1800532800-1800536400@kellogghubbard.org
SUMMARY:Language Lounge: French
DESCRIPTION:Ces réunions sans rendez-vous vous donnent l’occasion de perfectionner vos compétences conversationnelles. Tous les niveaux sont les bienvenus. N’hésitez pas à apporter un sac repas et un dictionnaire. \nThese drop-in meetings give you the chance to brush up your conversational skills. All levels are welcome. Feel free to bring a bag lunch and a dictionary.
URL:https://kellogghubbard.org/calendar/language-lounge-french/2027-01-21/
LOCATION:Kellogg-Hubbard Library\, 135 Main Street\, Montpelier\, VT\, 05602\, United States
CATEGORIES:Adult,Language Lounge
ATTACH;FMTTYPE=image/png:https://kellogghubbard.org/wp-content/uploads/2024/12/Language-lounge1.png
END:VEVENT
BEGIN:VEVENT
DTSTART;TZID=America/New_York:20270122T120000
DTEND;TZID=America/New_York:20270122T130000
DTSTAMP:20260420T011635
CREATED:20250305T173744Z
LAST-MODIFIED:20251125T132510Z
UID:10008579-1800619200-1800622800@kellogghubbard.org
SUMMARY:Language Lounge: English
DESCRIPTION:These drop-in meetings give you the chance to brush up your conversational skills. All levels are welcome. Feel free to bring a bag lunch and a dictionary.
URL:https://kellogghubbard.org/calendar/language-lounge-english/2027-01-22/
LOCATION:Kellogg-Hubbard Library\, 135 Main Street\, Montpelier\, VT\, 05602\, United States
CATEGORIES:Adult,Language Lounge
ATTACH;FMTTYPE=image/png:https://kellogghubbard.org/wp-content/uploads/2024/12/Language-lounge1.png
END:VEVENT
BEGIN:VEVENT
DTSTART;TZID=America/New_York:20270125T120000
DTEND;TZID=America/New_York:20270125T130000
DTSTAMP:20260420T011635
CREATED:20250305T172525Z
LAST-MODIFIED:20251124T193215Z
UID:10013917-1800878400-1800882000@kellogghubbard.org
SUMMARY:Language Lounge: German
DESCRIPTION:Bei diesen spontanen Treffen haben Sie die Möglichkeit\, Ihre Konversationsfähigkeiten aufzufrischen. Alle Niveaus sind willkommen. Bringen Sie gerne ein Lunchpaket und ein Wörterbuch mit. \nThese drop-in meetings give you the chance to brush up your conversational skills. All levels are welcome. Feel free to bring a bag lunch and a dictionary.
URL:https://kellogghubbard.org/calendar/language-lounge-german/2027-01-25/
LOCATION:Kellogg-Hubbard Library\, 135 Main Street\, Montpelier\, VT\, 05602\, United States
CATEGORIES:Adult,Language Lounge
ATTACH;FMTTYPE=image/png:https://kellogghubbard.org/wp-content/uploads/2024/12/Language-lounge1.png
END:VEVENT
BEGIN:VEVENT
DTSTART;TZID=America/New_York:20270126T120000
DTEND;TZID=America/New_York:20270126T130000
DTSTAMP:20260420T011635
CREATED:20250305T173012Z
LAST-MODIFIED:20250305T173012Z
UID:10007802-1800964800-1800968400@kellogghubbard.org
SUMMARY:Language Lounge: Italian
DESCRIPTION:Questi incontri drop-in ti danno la possibilità di rispolverare le tue capacità di conversazione. Tutti i livelli sono i benvenuti. Sentiti libero di portare un pranzo al sacco e un dizionario. \nThese drop-in meetings give you the chance to brush up your conversational skills. All levels are welcome. Feel free to bring a bag lunch and a dictionary.
URL:https://kellogghubbard.org/calendar/language-lounge-italian/2027-01-26/
LOCATION:Kellogg-Hubbard Library\, 135 Main Street\, Montpelier\, VT\, 05602\, United States
CATEGORIES:Adult,Language Lounge
ATTACH;FMTTYPE=image/png:https://kellogghubbard.org/wp-content/uploads/2024/12/Language-lounge1.png
END:VEVENT
BEGIN:VEVENT
DTSTART;TZID=America/New_York:20270127T120000
DTEND;TZID=America/New_York:20270127T130000
DTSTAMP:20260420T011635
CREATED:20250305T173227Z
LAST-MODIFIED:20251125T132346Z
UID:10008063-1801051200-1801054800@kellogghubbard.org
SUMMARY:Language Lounge: Spanish
DESCRIPTION:Estas reuniones sin cita previa le brindan la oportunidad de mejorar sus habilidades de conversación. Todos los niveles son bienvenidos. No dudes en traer una bolsa de almuerzo y un diccionario. \nThese drop-in meetings give you the chance to brush up your conversational skills. All levels are welcome. Feel free to bring a bag lunch and a dictionary.
URL:https://kellogghubbard.org/calendar/language-lounge-spanish/2027-01-27/
LOCATION:Kellogg-Hubbard Library\, 135 Main Street\, Montpelier\, VT\, 05602\, United States
CATEGORIES:Adult,Language Lounge
ATTACH;FMTTYPE=image/png:https://kellogghubbard.org/wp-content/uploads/2024/12/Language-lounge1.png
END:VEVENT
BEGIN:VEVENT
DTSTART;TZID=America/New_York:20270128T120000
DTEND;TZID=America/New_York:20270128T130000
DTSTAMP:20260420T011635
CREATED:20250305T173457Z
LAST-MODIFIED:20251210T212107Z
UID:10014215-1801137600-1801141200@kellogghubbard.org
SUMMARY:Language Lounge: French
DESCRIPTION:Ces réunions sans rendez-vous vous donnent l’occasion de perfectionner vos compétences conversationnelles. Tous les niveaux sont les bienvenus. N’hésitez pas à apporter un sac repas et un dictionnaire. \nThese drop-in meetings give you the chance to brush up your conversational skills. All levels are welcome. Feel free to bring a bag lunch and a dictionary.
URL:https://kellogghubbard.org/calendar/language-lounge-french/2027-01-28/
LOCATION:Kellogg-Hubbard Library\, 135 Main Street\, Montpelier\, VT\, 05602\, United States
CATEGORIES:Adult,Language Lounge
ATTACH;FMTTYPE=image/png:https://kellogghubbard.org/wp-content/uploads/2024/12/Language-lounge1.png
END:VEVENT
BEGIN:VEVENT
DTSTART;TZID=America/New_York:20270129T120000
DTEND;TZID=America/New_York:20270129T130000
DTSTAMP:20260420T011635
CREATED:20250305T173744Z
LAST-MODIFIED:20251125T132510Z
UID:10008580-1801224000-1801227600@kellogghubbard.org
SUMMARY:Language Lounge: English
DESCRIPTION:These drop-in meetings give you the chance to brush up your conversational skills. All levels are welcome. Feel free to bring a bag lunch and a dictionary.
URL:https://kellogghubbard.org/calendar/language-lounge-english/2027-01-29/
LOCATION:Kellogg-Hubbard Library\, 135 Main Street\, Montpelier\, VT\, 05602\, United States
CATEGORIES:Adult,Language Lounge
ATTACH;FMTTYPE=image/png:https://kellogghubbard.org/wp-content/uploads/2024/12/Language-lounge1.png
END:VEVENT
BEGIN:VEVENT
DTSTART;TZID=America/New_York:20270201T120000
DTEND;TZID=America/New_York:20270201T130000
DTSTAMP:20260420T011635
CREATED:20250305T172525Z
LAST-MODIFIED:20251124T193215Z
UID:10013918-1801483200-1801486800@kellogghubbard.org
SUMMARY:Language Lounge: German
DESCRIPTION:Bei diesen spontanen Treffen haben Sie die Möglichkeit\, Ihre Konversationsfähigkeiten aufzufrischen. Alle Niveaus sind willkommen. Bringen Sie gerne ein Lunchpaket und ein Wörterbuch mit. \nThese drop-in meetings give you the chance to brush up your conversational skills. All levels are welcome. Feel free to bring a bag lunch and a dictionary.
URL:https://kellogghubbard.org/calendar/language-lounge-german/2027-02-01/
LOCATION:Kellogg-Hubbard Library\, 135 Main Street\, Montpelier\, VT\, 05602\, United States
CATEGORIES:Adult,Language Lounge
ATTACH;FMTTYPE=image/png:https://kellogghubbard.org/wp-content/uploads/2024/12/Language-lounge1.png
END:VEVENT
BEGIN:VEVENT
DTSTART;TZID=America/New_York:20270202T120000
DTEND;TZID=America/New_York:20270202T130000
DTSTAMP:20260420T011635
CREATED:20250305T173012Z
LAST-MODIFIED:20250305T173012Z
UID:10007803-1801569600-1801573200@kellogghubbard.org
SUMMARY:Language Lounge: Italian
DESCRIPTION:Questi incontri drop-in ti danno la possibilità di rispolverare le tue capacità di conversazione. Tutti i livelli sono i benvenuti. Sentiti libero di portare un pranzo al sacco e un dizionario. \nThese drop-in meetings give you the chance to brush up your conversational skills. All levels are welcome. Feel free to bring a bag lunch and a dictionary.
URL:https://kellogghubbard.org/calendar/language-lounge-italian/2027-02-02/
LOCATION:Kellogg-Hubbard Library\, 135 Main Street\, Montpelier\, VT\, 05602\, United States
CATEGORIES:Adult,Language Lounge
ATTACH;FMTTYPE=image/png:https://kellogghubbard.org/wp-content/uploads/2024/12/Language-lounge1.png
END:VEVENT
END:VCALENDAR