BEGIN:VCALENDAR
VERSION:2.0
PRODID:-//Kellogg-Hubbard Library - ECPv6.15.20//NONSGML v1.0//EN
CALSCALE:GREGORIAN
METHOD:PUBLISH
X-ORIGINAL-URL:https://kellogghubbard.org
X-WR-CALDESC:Events for Kellogg-Hubbard Library
REFRESH-INTERVAL;VALUE=DURATION:PT1H
X-Robots-Tag:noindex
X-PUBLISHED-TTL:PT1H
BEGIN:VTIMEZONE
TZID:America/New_York
BEGIN:DAYLIGHT
TZOFFSETFROM:-0500
TZOFFSETTO:-0400
TZNAME:EDT
DTSTART:20250309T070000
END:DAYLIGHT
BEGIN:STANDARD
TZOFFSETFROM:-0400
TZOFFSETTO:-0500
TZNAME:EST
DTSTART:20251102T060000
END:STANDARD
BEGIN:DAYLIGHT
TZOFFSETFROM:-0500
TZOFFSETTO:-0400
TZNAME:EDT
DTSTART:20260308T070000
END:DAYLIGHT
BEGIN:STANDARD
TZOFFSETFROM:-0400
TZOFFSETTO:-0500
TZNAME:EST
DTSTART:20261101T060000
END:STANDARD
BEGIN:DAYLIGHT
TZOFFSETFROM:-0500
TZOFFSETTO:-0400
TZNAME:EDT
DTSTART:20270314T070000
END:DAYLIGHT
BEGIN:STANDARD
TZOFFSETFROM:-0400
TZOFFSETTO:-0500
TZNAME:EST
DTSTART:20271107T060000
END:STANDARD
END:VTIMEZONE
BEGIN:VEVENT
DTSTART;TZID=America/New_York:20261027T120000
DTEND;TZID=America/New_York:20261027T130000
DTSTAMP:20260419T195408
CREATED:20250305T173012Z
LAST-MODIFIED:20250305T173012Z
UID:10007789-1793102400-1793106000@kellogghubbard.org
SUMMARY:Language Lounge: Italian
DESCRIPTION:Questi incontri drop-in ti danno la possibilità di rispolverare le tue capacità di conversazione. Tutti i livelli sono i benvenuti. Sentiti libero di portare un pranzo al sacco e un dizionario. \nThese drop-in meetings give you the chance to brush up your conversational skills. All levels are welcome. Feel free to bring a bag lunch and a dictionary.
URL:https://kellogghubbard.org/calendar/language-lounge-italian/2026-10-27/
LOCATION:Kellogg-Hubbard Library\, 135 Main Street\, Montpelier\, VT\, 05602\, United States
CATEGORIES:Adult,Language Lounge
ATTACH;FMTTYPE=image/png:https://kellogghubbard.org/wp-content/uploads/2024/12/Language-lounge1.png
END:VEVENT
BEGIN:VEVENT
DTSTART;TZID=America/New_York:20261028T120000
DTEND;TZID=America/New_York:20261028T130000
DTSTAMP:20260419T195408
CREATED:20250305T173227Z
LAST-MODIFIED:20251125T132346Z
UID:10008050-1793188800-1793192400@kellogghubbard.org
SUMMARY:Language Lounge: Spanish
DESCRIPTION:Estas reuniones sin cita previa le brindan la oportunidad de mejorar sus habilidades de conversación. Todos los niveles son bienvenidos. No dudes en traer una bolsa de almuerzo y un diccionario. \nThese drop-in meetings give you the chance to brush up your conversational skills. All levels are welcome. Feel free to bring a bag lunch and a dictionary.
URL:https://kellogghubbard.org/calendar/language-lounge-spanish/2026-10-28/
LOCATION:Kellogg-Hubbard Library\, 135 Main Street\, Montpelier\, VT\, 05602\, United States
CATEGORIES:Adult,Language Lounge
ATTACH;FMTTYPE=image/png:https://kellogghubbard.org/wp-content/uploads/2024/12/Language-lounge1.png
END:VEVENT
BEGIN:VEVENT
DTSTART;TZID=America/New_York:20261029T120000
DTEND;TZID=America/New_York:20261029T130000
DTSTAMP:20260419T195408
CREATED:20250305T173457Z
LAST-MODIFIED:20251210T212107Z
UID:10014202-1793275200-1793278800@kellogghubbard.org
SUMMARY:Language Lounge: French
DESCRIPTION:Ces réunions sans rendez-vous vous donnent l’occasion de perfectionner vos compétences conversationnelles. Tous les niveaux sont les bienvenus. N’hésitez pas à apporter un sac repas et un dictionnaire. \nThese drop-in meetings give you the chance to brush up your conversational skills. All levels are welcome. Feel free to bring a bag lunch and a dictionary.
URL:https://kellogghubbard.org/calendar/language-lounge-french/2026-10-29/
LOCATION:Kellogg-Hubbard Library\, 135 Main Street\, Montpelier\, VT\, 05602\, United States
CATEGORIES:Adult,Language Lounge
ATTACH;FMTTYPE=image/png:https://kellogghubbard.org/wp-content/uploads/2024/12/Language-lounge1.png
END:VEVENT
BEGIN:VEVENT
DTSTART;TZID=America/New_York:20261030T120000
DTEND;TZID=America/New_York:20261030T130000
DTSTAMP:20260419T195408
CREATED:20250305T173744Z
LAST-MODIFIED:20251125T132510Z
UID:10008567-1793361600-1793365200@kellogghubbard.org
SUMMARY:Language Lounge: English
DESCRIPTION:These drop-in meetings give you the chance to brush up your conversational skills. All levels are welcome. Feel free to bring a bag lunch and a dictionary.
URL:https://kellogghubbard.org/calendar/language-lounge-english/2026-10-30/
LOCATION:Kellogg-Hubbard Library\, 135 Main Street\, Montpelier\, VT\, 05602\, United States
CATEGORIES:Adult,Language Lounge
ATTACH;FMTTYPE=image/png:https://kellogghubbard.org/wp-content/uploads/2024/12/Language-lounge1.png
END:VEVENT
BEGIN:VEVENT
DTSTART;TZID=America/New_York:20261102T120000
DTEND;TZID=America/New_York:20261102T130000
DTSTAMP:20260419T195408
CREATED:20250305T172525Z
LAST-MODIFIED:20251124T193215Z
UID:10013905-1793620800-1793624400@kellogghubbard.org
SUMMARY:Language Lounge: German
DESCRIPTION:Bei diesen spontanen Treffen haben Sie die Möglichkeit\, Ihre Konversationsfähigkeiten aufzufrischen. Alle Niveaus sind willkommen. Bringen Sie gerne ein Lunchpaket und ein Wörterbuch mit. \nThese drop-in meetings give you the chance to brush up your conversational skills. All levels are welcome. Feel free to bring a bag lunch and a dictionary.
URL:https://kellogghubbard.org/calendar/language-lounge-german/2026-11-02/
LOCATION:Kellogg-Hubbard Library\, 135 Main Street\, Montpelier\, VT\, 05602\, United States
CATEGORIES:Adult,Language Lounge
ATTACH;FMTTYPE=image/png:https://kellogghubbard.org/wp-content/uploads/2024/12/Language-lounge1.png
END:VEVENT
BEGIN:VEVENT
DTSTART;TZID=America/New_York:20261103T120000
DTEND;TZID=America/New_York:20261103T130000
DTSTAMP:20260419T195408
CREATED:20250305T173012Z
LAST-MODIFIED:20250305T173012Z
UID:10007790-1793707200-1793710800@kellogghubbard.org
SUMMARY:Language Lounge: Italian
DESCRIPTION:Questi incontri drop-in ti danno la possibilità di rispolverare le tue capacità di conversazione. Tutti i livelli sono i benvenuti. Sentiti libero di portare un pranzo al sacco e un dizionario. \nThese drop-in meetings give you the chance to brush up your conversational skills. All levels are welcome. Feel free to bring a bag lunch and a dictionary.
URL:https://kellogghubbard.org/calendar/language-lounge-italian/2026-11-03/
LOCATION:Kellogg-Hubbard Library\, 135 Main Street\, Montpelier\, VT\, 05602\, United States
CATEGORIES:Adult,Language Lounge
ATTACH;FMTTYPE=image/png:https://kellogghubbard.org/wp-content/uploads/2024/12/Language-lounge1.png
END:VEVENT
BEGIN:VEVENT
DTSTART;TZID=America/New_York:20261104T120000
DTEND;TZID=America/New_York:20261104T130000
DTSTAMP:20260419T195408
CREATED:20250305T173227Z
LAST-MODIFIED:20251125T132346Z
UID:10008051-1793793600-1793797200@kellogghubbard.org
SUMMARY:Language Lounge: Spanish
DESCRIPTION:Estas reuniones sin cita previa le brindan la oportunidad de mejorar sus habilidades de conversación. Todos los niveles son bienvenidos. No dudes en traer una bolsa de almuerzo y un diccionario. \nThese drop-in meetings give you the chance to brush up your conversational skills. All levels are welcome. Feel free to bring a bag lunch and a dictionary.
URL:https://kellogghubbard.org/calendar/language-lounge-spanish/2026-11-04/
LOCATION:Kellogg-Hubbard Library\, 135 Main Street\, Montpelier\, VT\, 05602\, United States
CATEGORIES:Adult,Language Lounge
ATTACH;FMTTYPE=image/png:https://kellogghubbard.org/wp-content/uploads/2024/12/Language-lounge1.png
END:VEVENT
BEGIN:VEVENT
DTSTART;TZID=America/New_York:20261105T120000
DTEND;TZID=America/New_York:20261105T130000
DTSTAMP:20260419T195408
CREATED:20250305T173457Z
LAST-MODIFIED:20251210T212107Z
UID:10014203-1793880000-1793883600@kellogghubbard.org
SUMMARY:Language Lounge: French
DESCRIPTION:Ces réunions sans rendez-vous vous donnent l’occasion de perfectionner vos compétences conversationnelles. Tous les niveaux sont les bienvenus. N’hésitez pas à apporter un sac repas et un dictionnaire. \nThese drop-in meetings give you the chance to brush up your conversational skills. All levels are welcome. Feel free to bring a bag lunch and a dictionary.
URL:https://kellogghubbard.org/calendar/language-lounge-french/2026-11-05/
LOCATION:Kellogg-Hubbard Library\, 135 Main Street\, Montpelier\, VT\, 05602\, United States
CATEGORIES:Adult,Language Lounge
ATTACH;FMTTYPE=image/png:https://kellogghubbard.org/wp-content/uploads/2024/12/Language-lounge1.png
END:VEVENT
BEGIN:VEVENT
DTSTART;TZID=America/New_York:20261106T120000
DTEND;TZID=America/New_York:20261106T130000
DTSTAMP:20260419T195408
CREATED:20250305T173744Z
LAST-MODIFIED:20251125T132510Z
UID:10008568-1793966400-1793970000@kellogghubbard.org
SUMMARY:Language Lounge: English
DESCRIPTION:These drop-in meetings give you the chance to brush up your conversational skills. All levels are welcome. Feel free to bring a bag lunch and a dictionary.
URL:https://kellogghubbard.org/calendar/language-lounge-english/2026-11-06/
LOCATION:Kellogg-Hubbard Library\, 135 Main Street\, Montpelier\, VT\, 05602\, United States
CATEGORIES:Adult,Language Lounge
ATTACH;FMTTYPE=image/png:https://kellogghubbard.org/wp-content/uploads/2024/12/Language-lounge1.png
END:VEVENT
BEGIN:VEVENT
DTSTART;TZID=America/New_York:20261109T120000
DTEND;TZID=America/New_York:20261109T130000
DTSTAMP:20260419T195408
CREATED:20250305T172525Z
LAST-MODIFIED:20251124T193215Z
UID:10013906-1794225600-1794229200@kellogghubbard.org
SUMMARY:Language Lounge: German
DESCRIPTION:Bei diesen spontanen Treffen haben Sie die Möglichkeit\, Ihre Konversationsfähigkeiten aufzufrischen. Alle Niveaus sind willkommen. Bringen Sie gerne ein Lunchpaket und ein Wörterbuch mit. \nThese drop-in meetings give you the chance to brush up your conversational skills. All levels are welcome. Feel free to bring a bag lunch and a dictionary.
URL:https://kellogghubbard.org/calendar/language-lounge-german/2026-11-09/
LOCATION:Kellogg-Hubbard Library\, 135 Main Street\, Montpelier\, VT\, 05602\, United States
CATEGORIES:Adult,Language Lounge
ATTACH;FMTTYPE=image/png:https://kellogghubbard.org/wp-content/uploads/2024/12/Language-lounge1.png
END:VEVENT
BEGIN:VEVENT
DTSTART;TZID=America/New_York:20261110T120000
DTEND;TZID=America/New_York:20261110T130000
DTSTAMP:20260419T195408
CREATED:20250305T173012Z
LAST-MODIFIED:20250305T173012Z
UID:10007791-1794312000-1794315600@kellogghubbard.org
SUMMARY:Language Lounge: Italian
DESCRIPTION:Questi incontri drop-in ti danno la possibilità di rispolverare le tue capacità di conversazione. Tutti i livelli sono i benvenuti. Sentiti libero di portare un pranzo al sacco e un dizionario. \nThese drop-in meetings give you the chance to brush up your conversational skills. All levels are welcome. Feel free to bring a bag lunch and a dictionary.
URL:https://kellogghubbard.org/calendar/language-lounge-italian/2026-11-10/
LOCATION:Kellogg-Hubbard Library\, 135 Main Street\, Montpelier\, VT\, 05602\, United States
CATEGORIES:Adult,Language Lounge
ATTACH;FMTTYPE=image/png:https://kellogghubbard.org/wp-content/uploads/2024/12/Language-lounge1.png
END:VEVENT
BEGIN:VEVENT
DTSTART;TZID=America/New_York:20261112T120000
DTEND;TZID=America/New_York:20261112T130000
DTSTAMP:20260419T195408
CREATED:20250305T173457Z
LAST-MODIFIED:20251210T212107Z
UID:10014204-1794484800-1794488400@kellogghubbard.org
SUMMARY:Language Lounge: French
DESCRIPTION:Ces réunions sans rendez-vous vous donnent l’occasion de perfectionner vos compétences conversationnelles. Tous les niveaux sont les bienvenus. N’hésitez pas à apporter un sac repas et un dictionnaire. \nThese drop-in meetings give you the chance to brush up your conversational skills. All levels are welcome. Feel free to bring a bag lunch and a dictionary.
URL:https://kellogghubbard.org/calendar/language-lounge-french/2026-11-12/
LOCATION:Kellogg-Hubbard Library\, 135 Main Street\, Montpelier\, VT\, 05602\, United States
CATEGORIES:Adult,Language Lounge
ATTACH;FMTTYPE=image/png:https://kellogghubbard.org/wp-content/uploads/2024/12/Language-lounge1.png
END:VEVENT
BEGIN:VEVENT
DTSTART;TZID=America/New_York:20261113T120000
DTEND;TZID=America/New_York:20261113T130000
DTSTAMP:20260419T195408
CREATED:20250305T173744Z
LAST-MODIFIED:20251125T132510Z
UID:10008569-1794571200-1794574800@kellogghubbard.org
SUMMARY:Language Lounge: English
DESCRIPTION:These drop-in meetings give you the chance to brush up your conversational skills. All levels are welcome. Feel free to bring a bag lunch and a dictionary.
URL:https://kellogghubbard.org/calendar/language-lounge-english/2026-11-13/
LOCATION:Kellogg-Hubbard Library\, 135 Main Street\, Montpelier\, VT\, 05602\, United States
CATEGORIES:Adult,Language Lounge
ATTACH;FMTTYPE=image/png:https://kellogghubbard.org/wp-content/uploads/2024/12/Language-lounge1.png
END:VEVENT
BEGIN:VEVENT
DTSTART;TZID=America/New_York:20261116T120000
DTEND;TZID=America/New_York:20261116T130000
DTSTAMP:20260419T195408
CREATED:20250305T172525Z
LAST-MODIFIED:20251124T193215Z
UID:10013907-1794830400-1794834000@kellogghubbard.org
SUMMARY:Language Lounge: German
DESCRIPTION:Bei diesen spontanen Treffen haben Sie die Möglichkeit\, Ihre Konversationsfähigkeiten aufzufrischen. Alle Niveaus sind willkommen. Bringen Sie gerne ein Lunchpaket und ein Wörterbuch mit. \nThese drop-in meetings give you the chance to brush up your conversational skills. All levels are welcome. Feel free to bring a bag lunch and a dictionary.
URL:https://kellogghubbard.org/calendar/language-lounge-german/2026-11-16/
LOCATION:Kellogg-Hubbard Library\, 135 Main Street\, Montpelier\, VT\, 05602\, United States
CATEGORIES:Adult,Language Lounge
ATTACH;FMTTYPE=image/png:https://kellogghubbard.org/wp-content/uploads/2024/12/Language-lounge1.png
END:VEVENT
BEGIN:VEVENT
DTSTART;TZID=America/New_York:20261117T120000
DTEND;TZID=America/New_York:20261117T130000
DTSTAMP:20260419T195408
CREATED:20250305T173012Z
LAST-MODIFIED:20250305T173012Z
UID:10007792-1794916800-1794920400@kellogghubbard.org
SUMMARY:Language Lounge: Italian
DESCRIPTION:Questi incontri drop-in ti danno la possibilità di rispolverare le tue capacità di conversazione. Tutti i livelli sono i benvenuti. Sentiti libero di portare un pranzo al sacco e un dizionario. \nThese drop-in meetings give you the chance to brush up your conversational skills. All levels are welcome. Feel free to bring a bag lunch and a dictionary.
URL:https://kellogghubbard.org/calendar/language-lounge-italian/2026-11-17/
LOCATION:Kellogg-Hubbard Library\, 135 Main Street\, Montpelier\, VT\, 05602\, United States
CATEGORIES:Adult,Language Lounge
ATTACH;FMTTYPE=image/png:https://kellogghubbard.org/wp-content/uploads/2024/12/Language-lounge1.png
END:VEVENT
BEGIN:VEVENT
DTSTART;TZID=America/New_York:20261118T120000
DTEND;TZID=America/New_York:20261118T130000
DTSTAMP:20260419T195408
CREATED:20250305T173227Z
LAST-MODIFIED:20251125T132346Z
UID:10008053-1795003200-1795006800@kellogghubbard.org
SUMMARY:Language Lounge: Spanish
DESCRIPTION:Estas reuniones sin cita previa le brindan la oportunidad de mejorar sus habilidades de conversación. Todos los niveles son bienvenidos. No dudes en traer una bolsa de almuerzo y un diccionario. \nThese drop-in meetings give you the chance to brush up your conversational skills. All levels are welcome. Feel free to bring a bag lunch and a dictionary.
URL:https://kellogghubbard.org/calendar/language-lounge-spanish/2026-11-18/
LOCATION:Kellogg-Hubbard Library\, 135 Main Street\, Montpelier\, VT\, 05602\, United States
CATEGORIES:Adult,Language Lounge
ATTACH;FMTTYPE=image/png:https://kellogghubbard.org/wp-content/uploads/2024/12/Language-lounge1.png
END:VEVENT
BEGIN:VEVENT
DTSTART;TZID=America/New_York:20261119T120000
DTEND;TZID=America/New_York:20261119T130000
DTSTAMP:20260419T195408
CREATED:20250305T173457Z
LAST-MODIFIED:20251210T212107Z
UID:10014205-1795089600-1795093200@kellogghubbard.org
SUMMARY:Language Lounge: French
DESCRIPTION:Ces réunions sans rendez-vous vous donnent l’occasion de perfectionner vos compétences conversationnelles. Tous les niveaux sont les bienvenus. N’hésitez pas à apporter un sac repas et un dictionnaire. \nThese drop-in meetings give you the chance to brush up your conversational skills. All levels are welcome. Feel free to bring a bag lunch and a dictionary.
URL:https://kellogghubbard.org/calendar/language-lounge-french/2026-11-19/
LOCATION:Kellogg-Hubbard Library\, 135 Main Street\, Montpelier\, VT\, 05602\, United States
CATEGORIES:Adult,Language Lounge
ATTACH;FMTTYPE=image/png:https://kellogghubbard.org/wp-content/uploads/2024/12/Language-lounge1.png
END:VEVENT
BEGIN:VEVENT
DTSTART;TZID=America/New_York:20261120T120000
DTEND;TZID=America/New_York:20261120T130000
DTSTAMP:20260419T195408
CREATED:20250305T173744Z
LAST-MODIFIED:20251125T132510Z
UID:10008570-1795176000-1795179600@kellogghubbard.org
SUMMARY:Language Lounge: English
DESCRIPTION:These drop-in meetings give you the chance to brush up your conversational skills. All levels are welcome. Feel free to bring a bag lunch and a dictionary.
URL:https://kellogghubbard.org/calendar/language-lounge-english/2026-11-20/
LOCATION:Kellogg-Hubbard Library\, 135 Main Street\, Montpelier\, VT\, 05602\, United States
CATEGORIES:Adult,Language Lounge
ATTACH;FMTTYPE=image/png:https://kellogghubbard.org/wp-content/uploads/2024/12/Language-lounge1.png
END:VEVENT
BEGIN:VEVENT
DTSTART;TZID=America/New_York:20261123T120000
DTEND;TZID=America/New_York:20261123T130000
DTSTAMP:20260419T195408
CREATED:20250305T172525Z
LAST-MODIFIED:20251124T193215Z
UID:10013908-1795435200-1795438800@kellogghubbard.org
SUMMARY:Language Lounge: German
DESCRIPTION:Bei diesen spontanen Treffen haben Sie die Möglichkeit\, Ihre Konversationsfähigkeiten aufzufrischen. Alle Niveaus sind willkommen. Bringen Sie gerne ein Lunchpaket und ein Wörterbuch mit. \nThese drop-in meetings give you the chance to brush up your conversational skills. All levels are welcome. Feel free to bring a bag lunch and a dictionary.
URL:https://kellogghubbard.org/calendar/language-lounge-german/2026-11-23/
LOCATION:Kellogg-Hubbard Library\, 135 Main Street\, Montpelier\, VT\, 05602\, United States
CATEGORIES:Adult,Language Lounge
ATTACH;FMTTYPE=image/png:https://kellogghubbard.org/wp-content/uploads/2024/12/Language-lounge1.png
END:VEVENT
BEGIN:VEVENT
DTSTART;TZID=America/New_York:20261124T120000
DTEND;TZID=America/New_York:20261124T130000
DTSTAMP:20260419T195408
CREATED:20250305T173012Z
LAST-MODIFIED:20250305T173012Z
UID:10007793-1795521600-1795525200@kellogghubbard.org
SUMMARY:Language Lounge: Italian
DESCRIPTION:Questi incontri drop-in ti danno la possibilità di rispolverare le tue capacità di conversazione. Tutti i livelli sono i benvenuti. Sentiti libero di portare un pranzo al sacco e un dizionario. \nThese drop-in meetings give you the chance to brush up your conversational skills. All levels are welcome. Feel free to bring a bag lunch and a dictionary.
URL:https://kellogghubbard.org/calendar/language-lounge-italian/2026-11-24/
LOCATION:Kellogg-Hubbard Library\, 135 Main Street\, Montpelier\, VT\, 05602\, United States
CATEGORIES:Adult,Language Lounge
ATTACH;FMTTYPE=image/png:https://kellogghubbard.org/wp-content/uploads/2024/12/Language-lounge1.png
END:VEVENT
BEGIN:VEVENT
DTSTART;TZID=America/New_York:20261125T120000
DTEND;TZID=America/New_York:20261125T130000
DTSTAMP:20260419T195408
CREATED:20250305T173227Z
LAST-MODIFIED:20251125T132346Z
UID:10008054-1795608000-1795611600@kellogghubbard.org
SUMMARY:Language Lounge: Spanish
DESCRIPTION:Estas reuniones sin cita previa le brindan la oportunidad de mejorar sus habilidades de conversación. Todos los niveles son bienvenidos. No dudes en traer una bolsa de almuerzo y un diccionario. \nThese drop-in meetings give you the chance to brush up your conversational skills. All levels are welcome. Feel free to bring a bag lunch and a dictionary.
URL:https://kellogghubbard.org/calendar/language-lounge-spanish/2026-11-25/
LOCATION:Kellogg-Hubbard Library\, 135 Main Street\, Montpelier\, VT\, 05602\, United States
CATEGORIES:Adult,Language Lounge
ATTACH;FMTTYPE=image/png:https://kellogghubbard.org/wp-content/uploads/2024/12/Language-lounge1.png
END:VEVENT
BEGIN:VEVENT
DTSTART;TZID=America/New_York:20261130T120000
DTEND;TZID=America/New_York:20261130T130000
DTSTAMP:20260419T195408
CREATED:20250305T172525Z
LAST-MODIFIED:20251124T193215Z
UID:10013909-1796040000-1796043600@kellogghubbard.org
SUMMARY:Language Lounge: German
DESCRIPTION:Bei diesen spontanen Treffen haben Sie die Möglichkeit\, Ihre Konversationsfähigkeiten aufzufrischen. Alle Niveaus sind willkommen. Bringen Sie gerne ein Lunchpaket und ein Wörterbuch mit. \nThese drop-in meetings give you the chance to brush up your conversational skills. All levels are welcome. Feel free to bring a bag lunch and a dictionary.
URL:https://kellogghubbard.org/calendar/language-lounge-german/2026-11-30/
LOCATION:Kellogg-Hubbard Library\, 135 Main Street\, Montpelier\, VT\, 05602\, United States
CATEGORIES:Adult,Language Lounge
ATTACH;FMTTYPE=image/png:https://kellogghubbard.org/wp-content/uploads/2024/12/Language-lounge1.png
END:VEVENT
BEGIN:VEVENT
DTSTART;TZID=America/New_York:20261201T120000
DTEND;TZID=America/New_York:20261201T130000
DTSTAMP:20260419T195408
CREATED:20250305T173012Z
LAST-MODIFIED:20250305T173012Z
UID:10007794-1796126400-1796130000@kellogghubbard.org
SUMMARY:Language Lounge: Italian
DESCRIPTION:Questi incontri drop-in ti danno la possibilità di rispolverare le tue capacità di conversazione. Tutti i livelli sono i benvenuti. Sentiti libero di portare un pranzo al sacco e un dizionario. \nThese drop-in meetings give you the chance to brush up your conversational skills. All levels are welcome. Feel free to bring a bag lunch and a dictionary.
URL:https://kellogghubbard.org/calendar/language-lounge-italian/2026-12-01/
LOCATION:Kellogg-Hubbard Library\, 135 Main Street\, Montpelier\, VT\, 05602\, United States
CATEGORIES:Adult,Language Lounge
ATTACH;FMTTYPE=image/png:https://kellogghubbard.org/wp-content/uploads/2024/12/Language-lounge1.png
END:VEVENT
BEGIN:VEVENT
DTSTART;TZID=America/New_York:20261202T120000
DTEND;TZID=America/New_York:20261202T130000
DTSTAMP:20260419T195408
CREATED:20250305T173227Z
LAST-MODIFIED:20251125T132346Z
UID:10008055-1796212800-1796216400@kellogghubbard.org
SUMMARY:Language Lounge: Spanish
DESCRIPTION:Estas reuniones sin cita previa le brindan la oportunidad de mejorar sus habilidades de conversación. Todos los niveles son bienvenidos. No dudes en traer una bolsa de almuerzo y un diccionario. \nThese drop-in meetings give you the chance to brush up your conversational skills. All levels are welcome. Feel free to bring a bag lunch and a dictionary.
URL:https://kellogghubbard.org/calendar/language-lounge-spanish/2026-12-02/
LOCATION:Kellogg-Hubbard Library\, 135 Main Street\, Montpelier\, VT\, 05602\, United States
CATEGORIES:Adult,Language Lounge
ATTACH;FMTTYPE=image/png:https://kellogghubbard.org/wp-content/uploads/2024/12/Language-lounge1.png
END:VEVENT
BEGIN:VEVENT
DTSTART;TZID=America/New_York:20261203T120000
DTEND;TZID=America/New_York:20261203T130000
DTSTAMP:20260419T195408
CREATED:20250305T173457Z
LAST-MODIFIED:20251210T212107Z
UID:10014207-1796299200-1796302800@kellogghubbard.org
SUMMARY:Language Lounge: French
DESCRIPTION:Ces réunions sans rendez-vous vous donnent l’occasion de perfectionner vos compétences conversationnelles. Tous les niveaux sont les bienvenus. N’hésitez pas à apporter un sac repas et un dictionnaire. \nThese drop-in meetings give you the chance to brush up your conversational skills. All levels are welcome. Feel free to bring a bag lunch and a dictionary.
URL:https://kellogghubbard.org/calendar/language-lounge-french/2026-12-03/
LOCATION:Kellogg-Hubbard Library\, 135 Main Street\, Montpelier\, VT\, 05602\, United States
CATEGORIES:Adult,Language Lounge
ATTACH;FMTTYPE=image/png:https://kellogghubbard.org/wp-content/uploads/2024/12/Language-lounge1.png
END:VEVENT
BEGIN:VEVENT
DTSTART;TZID=America/New_York:20261204T120000
DTEND;TZID=America/New_York:20261204T130000
DTSTAMP:20260419T195408
CREATED:20250305T173744Z
LAST-MODIFIED:20251125T132510Z
UID:10008572-1796385600-1796389200@kellogghubbard.org
SUMMARY:Language Lounge: English
DESCRIPTION:These drop-in meetings give you the chance to brush up your conversational skills. All levels are welcome. Feel free to bring a bag lunch and a dictionary.
URL:https://kellogghubbard.org/calendar/language-lounge-english/2026-12-04/
LOCATION:Kellogg-Hubbard Library\, 135 Main Street\, Montpelier\, VT\, 05602\, United States
CATEGORIES:Adult,Language Lounge
ATTACH;FMTTYPE=image/png:https://kellogghubbard.org/wp-content/uploads/2024/12/Language-lounge1.png
END:VEVENT
BEGIN:VEVENT
DTSTART;TZID=America/New_York:20261207T120000
DTEND;TZID=America/New_York:20261207T130000
DTSTAMP:20260419T195408
CREATED:20250305T172525Z
LAST-MODIFIED:20251124T193215Z
UID:10013910-1796644800-1796648400@kellogghubbard.org
SUMMARY:Language Lounge: German
DESCRIPTION:Bei diesen spontanen Treffen haben Sie die Möglichkeit\, Ihre Konversationsfähigkeiten aufzufrischen. Alle Niveaus sind willkommen. Bringen Sie gerne ein Lunchpaket und ein Wörterbuch mit. \nThese drop-in meetings give you the chance to brush up your conversational skills. All levels are welcome. Feel free to bring a bag lunch and a dictionary.
URL:https://kellogghubbard.org/calendar/language-lounge-german/2026-12-07/
LOCATION:Kellogg-Hubbard Library\, 135 Main Street\, Montpelier\, VT\, 05602\, United States
CATEGORIES:Adult,Language Lounge
ATTACH;FMTTYPE=image/png:https://kellogghubbard.org/wp-content/uploads/2024/12/Language-lounge1.png
END:VEVENT
BEGIN:VEVENT
DTSTART;TZID=America/New_York:20261208T120000
DTEND;TZID=America/New_York:20261208T130000
DTSTAMP:20260419T195408
CREATED:20250305T173012Z
LAST-MODIFIED:20250305T173012Z
UID:10007795-1796731200-1796734800@kellogghubbard.org
SUMMARY:Language Lounge: Italian
DESCRIPTION:Questi incontri drop-in ti danno la possibilità di rispolverare le tue capacità di conversazione. Tutti i livelli sono i benvenuti. Sentiti libero di portare un pranzo al sacco e un dizionario. \nThese drop-in meetings give you the chance to brush up your conversational skills. All levels are welcome. Feel free to bring a bag lunch and a dictionary.
URL:https://kellogghubbard.org/calendar/language-lounge-italian/2026-12-08/
LOCATION:Kellogg-Hubbard Library\, 135 Main Street\, Montpelier\, VT\, 05602\, United States
CATEGORIES:Adult,Language Lounge
ATTACH;FMTTYPE=image/png:https://kellogghubbard.org/wp-content/uploads/2024/12/Language-lounge1.png
END:VEVENT
BEGIN:VEVENT
DTSTART;TZID=America/New_York:20261209T120000
DTEND;TZID=America/New_York:20261209T130000
DTSTAMP:20260419T195408
CREATED:20250305T173227Z
LAST-MODIFIED:20251125T132346Z
UID:10008056-1796817600-1796821200@kellogghubbard.org
SUMMARY:Language Lounge: Spanish
DESCRIPTION:Estas reuniones sin cita previa le brindan la oportunidad de mejorar sus habilidades de conversación. Todos los niveles son bienvenidos. No dudes en traer una bolsa de almuerzo y un diccionario. \nThese drop-in meetings give you the chance to brush up your conversational skills. All levels are welcome. Feel free to bring a bag lunch and a dictionary.
URL:https://kellogghubbard.org/calendar/language-lounge-spanish/2026-12-09/
LOCATION:Kellogg-Hubbard Library\, 135 Main Street\, Montpelier\, VT\, 05602\, United States
CATEGORIES:Adult,Language Lounge
ATTACH;FMTTYPE=image/png:https://kellogghubbard.org/wp-content/uploads/2024/12/Language-lounge1.png
END:VEVENT
BEGIN:VEVENT
DTSTART;TZID=America/New_York:20261210T120000
DTEND;TZID=America/New_York:20261210T130000
DTSTAMP:20260419T195408
CREATED:20250305T173457Z
LAST-MODIFIED:20251210T212107Z
UID:10014208-1796904000-1796907600@kellogghubbard.org
SUMMARY:Language Lounge: French
DESCRIPTION:Ces réunions sans rendez-vous vous donnent l’occasion de perfectionner vos compétences conversationnelles. Tous les niveaux sont les bienvenus. N’hésitez pas à apporter un sac repas et un dictionnaire. \nThese drop-in meetings give you the chance to brush up your conversational skills. All levels are welcome. Feel free to bring a bag lunch and a dictionary.
URL:https://kellogghubbard.org/calendar/language-lounge-french/2026-12-10/
LOCATION:Kellogg-Hubbard Library\, 135 Main Street\, Montpelier\, VT\, 05602\, United States
CATEGORIES:Adult,Language Lounge
ATTACH;FMTTYPE=image/png:https://kellogghubbard.org/wp-content/uploads/2024/12/Language-lounge1.png
END:VEVENT
END:VCALENDAR