BEGIN:VCALENDAR
VERSION:2.0
PRODID:-//Kellogg-Hubbard Library - ECPv6.15.20//NONSGML v1.0//EN
CALSCALE:GREGORIAN
METHOD:PUBLISH
X-WR-CALNAME:Kellogg-Hubbard Library
X-ORIGINAL-URL:https://kellogghubbard.org
X-WR-CALDESC:Events for Kellogg-Hubbard Library
REFRESH-INTERVAL;VALUE=DURATION:PT1H
X-Robots-Tag:noindex
X-PUBLISHED-TTL:PT1H
BEGIN:VTIMEZONE
TZID:America/New_York
BEGIN:DAYLIGHT
TZOFFSETFROM:-0500
TZOFFSETTO:-0400
TZNAME:EDT
DTSTART:20250309T070000
END:DAYLIGHT
BEGIN:STANDARD
TZOFFSETFROM:-0400
TZOFFSETTO:-0500
TZNAME:EST
DTSTART:20251102T060000
END:STANDARD
BEGIN:DAYLIGHT
TZOFFSETFROM:-0500
TZOFFSETTO:-0400
TZNAME:EDT
DTSTART:20260308T070000
END:DAYLIGHT
BEGIN:STANDARD
TZOFFSETFROM:-0400
TZOFFSETTO:-0500
TZNAME:EST
DTSTART:20261101T060000
END:STANDARD
BEGIN:DAYLIGHT
TZOFFSETFROM:-0500
TZOFFSETTO:-0400
TZNAME:EDT
DTSTART:20270314T070000
END:DAYLIGHT
BEGIN:STANDARD
TZOFFSETFROM:-0400
TZOFFSETTO:-0500
TZNAME:EST
DTSTART:20271107T060000
END:STANDARD
END:VTIMEZONE
BEGIN:VEVENT
DTSTART;TZID=America/New_York:20260421T130000
DTEND;TZID=America/New_York:20260421T150000
DTSTAMP:20260421T112747
CREATED:20260323T163606Z
LAST-MODIFIED:20260323T164741Z
UID:10015391-1776776400-1776783600@kellogghubbard.org
SUMMARY:Learn to Code: Ozobots
DESCRIPTION:Drop in to the Children’s Library and explore the basics of coding with Ozobots. Kids can experiment with these small robots by drawing color codes and simple paths that tell the bots how to move. It’s a fun\, hands-on way to learn about programming\, problem solving\, and creativity. No experience needed.
URL:https://kellogghubbard.org/calendar/learn-to-code-ozobots/2026-04-21/
LOCATION:Kellogg-Hubbard Library\, 135 Main Street\, Montpelier\, VT\, 05602\, United States
CATEGORIES:Childrens,Featured
ATTACH;FMTTYPE=image/jpeg:https://kellogghubbard.org/wp-content/uploads/2026/03/Ozobot.jpg
END:VEVENT
BEGIN:VEVENT
DTSTART;TZID=America/New_York:20260422T100000
DTEND;TZID=America/New_York:20260422T120000
DTSTAMP:20260421T112747
CREATED:20260323T163606Z
LAST-MODIFIED:20260323T164741Z
UID:10015392-1776852000-1776859200@kellogghubbard.org
SUMMARY:Learn to Code: Ozobots
DESCRIPTION:Drop in to the Children’s Library and explore the basics of coding with Ozobots. Kids can experiment with these small robots by drawing color codes and simple paths that tell the bots how to move. It’s a fun\, hands-on way to learn about programming\, problem solving\, and creativity. No experience needed.
URL:https://kellogghubbard.org/calendar/learn-to-code-ozobots/2026-04-22/
LOCATION:Kellogg-Hubbard Library\, 135 Main Street\, Montpelier\, VT\, 05602\, United States
CATEGORIES:Childrens,Featured
ATTACH;FMTTYPE=image/jpeg:https://kellogghubbard.org/wp-content/uploads/2026/03/Ozobot.jpg
END:VEVENT
BEGIN:VEVENT
DTSTART;TZID=America/New_York:20260423T130000
DTEND;TZID=America/New_York:20260423T150000
DTSTAMP:20260421T112747
CREATED:20260323T163606Z
LAST-MODIFIED:20260323T164741Z
UID:10015393-1776949200-1776956400@kellogghubbard.org
SUMMARY:Learn to Code: Ozobots
DESCRIPTION:Drop in to the Children’s Library and explore the basics of coding with Ozobots. Kids can experiment with these small robots by drawing color codes and simple paths that tell the bots how to move. It’s a fun\, hands-on way to learn about programming\, problem solving\, and creativity. No experience needed.
URL:https://kellogghubbard.org/calendar/learn-to-code-ozobots/2026-04-23/
LOCATION:Kellogg-Hubbard Library\, 135 Main Street\, Montpelier\, VT\, 05602\, United States
CATEGORIES:Childrens,Featured
ATTACH;FMTTYPE=image/jpeg:https://kellogghubbard.org/wp-content/uploads/2026/03/Ozobot.jpg
END:VEVENT
BEGIN:VEVENT
DTSTART;TZID=America/New_York:20260424T100000
DTEND;TZID=America/New_York:20260424T120000
DTSTAMP:20260421T112747
CREATED:20260410T191212Z
LAST-MODIFIED:20260410T191213Z
UID:10017034-1777024800-1777032000@kellogghubbard.org
SUMMARY:All Species Day Mask-Making Workshop
DESCRIPTION:Families and children are welcome to make a mask of your favorite species to wear in the All Species Day Parade on Sunday\, May 3. \nArtist and All Species Day organizer Janice Walrafen will provide mask patterns of different animals to trace onto poster board\, cut out\, color\, and assemble into lively wearable masks. \nChildren under 6 need adult support. All ages are welcome. \nClick here for details about All Species Day. \n 
URL:https://kellogghubbard.org/calendar/all-species-day-mask-making-workshop/
LOCATION:Kellogg-Hubbard Library\, 135 Main Street\, Montpelier\, VT\, 05602\, United States
CATEGORIES:Childrens,Featured
ATTACH;FMTTYPE=image/png:https://kellogghubbard.org/wp-content/uploads/2026/04/ASDposter26-1.pdf-1080-x-1080-px.png
END:VEVENT
BEGIN:VEVENT
DTSTART;TZID=America/New_York:20260430T181500
DTEND;TZID=America/New_York:20260430T200000
DTSTAMP:20260421T112747
CREATED:20260410T163241Z
LAST-MODIFIED:20260410T163241Z
UID:10017033-1777572900-1777579200@kellogghubbard.org
SUMMARY:George's Mystery Book Group
DESCRIPTION:KHL’s own George Spaulding leads a mystery book group. This month\, the group will be reading William Kent Krueger’s Iron Lake and Apostle’s Cove. Copies of the books are available at the main desk of the library. For more information\, contact gspaulding@kellogghubbard.org. \n  \n 
URL:https://kellogghubbard.org/calendar/georges-mystery-book-group-5/
LOCATION:Hayes Room at KHL\, 135 Main Street\, Montpelier\, VT\, 05602\, United States
CATEGORIES:Adult,Featured
ATTACH;FMTTYPE=image/png:https://kellogghubbard.org/wp-content/uploads/2026/04/4.30-mystery-book-group.png
END:VEVENT
BEGIN:VEVENT
DTSTART;TZID=America/New_York:20260502T120000
DTEND;TZID=America/New_York:20260502T133000
DTSTAMP:20260421T112747
CREATED:20260223T140831Z
LAST-MODIFIED:20260304T210042Z
UID:10015091-1777723200-1777728600@kellogghubbard.org
SUMMARY:Menopause Cafe
DESCRIPTION:Menopause Café is a welcoming space for open\, honest\, and stigma-free conversations about menopause. Join us for supportive\, candid discussions where all are welcome to listen\, share\, and learn together in a relaxed and respectful environment.
URL:https://kellogghubbard.org/calendar/menopause-cafe/2026-05-02/
LOCATION:Kellogg-Hubbard Library\, 135 Main Street\, Montpelier\, VT\, 05602\, United States
CATEGORIES:Adult,Featured
ATTACH;FMTTYPE=image/png:https://kellogghubbard.org/wp-content/uploads/2026/02/menopause-cafe-template.png
END:VEVENT
BEGIN:VEVENT
DTSTART;TZID=America/New_York:20260506T120000
DTEND;TZID=America/New_York:20260506T120000
DTSTAMP:20260421T112747
CREATED:20260126T224857Z
LAST-MODIFIED:20260126T224857Z
UID:10014928-1778068800-1778068800@kellogghubbard.org
SUMMARY:Library Open 12PM-8PM Today
DESCRIPTION:The Library will have a late open at noon on the first Wednesday of each month for staff training.
URL:https://kellogghubbard.org/calendar/library-open-12pm-8pm-today/2026-05-06/
LOCATION:Kellogg-Hubbard Library\, 135 Main Street\, Montpelier\, VT\, 05602\, United States
CATEGORIES:Adult,Childrens,Featured,Teen
END:VEVENT
BEGIN:VEVENT
DTSTART;TZID=America/New_York:20260506T173000
DTEND;TZID=America/New_York:20260506T190000
DTSTAMP:20260421T112747
CREATED:20250828T145626Z
LAST-MODIFIED:20260323T150540Z
UID:10012762-1778088600-1778094000@kellogghubbard.org
SUMMARY:Fiber Arts Night
DESCRIPTION:Calling all fiber art enthusiasts! Bring your knitting\, crocheting\, weaving\, or any other fiber project to the library for a relaxing evening of creativity and connection. Gather around with fellow makers and share ideas\, tips\, or just good conversation. Whether you’re a seasoned crafter or just starting out\, everyone is welcome to join this fun\, stress-free gathering. Don’t miss out on the chance to be inspired and make new friends!
URL:https://kellogghubbard.org/calendar/fiber-arts-night/2026-05-06/
LOCATION:Kellogg-Hubbard Library\, 135 Main Street\, Montpelier\, VT\, 05602\, United States
CATEGORIES:Adult,Childrens,Featured
ATTACH;FMTTYPE=image/png:https://kellogghubbard.org/wp-content/uploads/2025/08/Fiber-arts-night-template.png
END:VEVENT
BEGIN:VEVENT
DTSTART;TZID=America/New_York:20260509T120000
DTEND;TZID=America/New_York:20260509T133000
DTSTAMP:20260421T112747
CREATED:20250828T150233Z
LAST-MODIFIED:20260226T212523Z
UID:10015168-1778328000-1778333400@kellogghubbard.org
SUMMARY:Death Cafe
DESCRIPTION:Join us for an open\, thoughtful\, and supportive conversation about one of life’s biggest realities. The Death Café is a free community gathering with no set agenda—just a chance to share questions\, stories\, concerns\, and hopes about death\, dying\, and planning for the future. \nIn today’s world\, these conversations are often avoided\, yet they touch every part of life: our bodies\, belongings\, legal matters\, funerals\, burials\, and the memories we leave behind. The Café offers a safe and welcoming space to talk\, listen\, and connect with others on this journey. Many find that facing death openly with loved ones can lift a burden and make life feel even more vibrant and full. \nTea and baked goods are always served.
URL:https://kellogghubbard.org/calendar/death-cafe/2026-05-09/
LOCATION:Kellogg-Hubbard Library\, 135 Main Street\, Montpelier\, VT\, 05602\, United States
CATEGORIES:Adult,Featured
ATTACH;FMTTYPE=image/png:https://kellogghubbard.org/wp-content/uploads/2025/08/death-cafe-1.png
END:VEVENT
BEGIN:VEVENT
DTSTART;TZID=America/New_York:20260521T103000
DTEND;TZID=America/New_York:20260521T110000
DTSTAMP:20260421T112747
CREATED:20260213T203250Z
LAST-MODIFIED:20260327T203756Z
UID:10005619-1779359400-1779361200@kellogghubbard.org
SUMMARY:American Sign Language Storytime
DESCRIPTION:Listen to stories and sing songs in sign language with special guest Nora.
URL:https://kellogghubbard.org/calendar/sign-language-storytime-2-2/2026-05-21/
LOCATION:Kellogg-Hubbard Library\, 135 Main Street\, Montpelier\, VT\, 05602\, United States
CATEGORIES:Childrens,Featured
ATTACH;FMTTYPE=image/png:https://kellogghubbard.org/wp-content/uploads/2026/02/ASL-storytime-template.png
END:VEVENT
BEGIN:VEVENT
DTSTART;VALUE=DATE:20260525
DTEND;VALUE=DATE:20260526
DTSTAMP:20260421T112747
CREATED:20251119T230139Z
LAST-MODIFIED:20251119T230139Z
UID:10013283-1779667200-1779753599@kellogghubbard.org
SUMMARY:Library Closed
DESCRIPTION:The Library will be closed on Monday\, May 25\, 2026 for Memorial Day.
URL:https://kellogghubbard.org/calendar/library-closed-18/
LOCATION:Kellogg-Hubbard Library\, 135 Main Street\, Montpelier\, VT\, 05602\, United States
CATEGORIES:Adult,Childrens,Featured,Holiday,Teen
END:VEVENT
BEGIN:VEVENT
DTSTART;VALUE=DATE:20260525
DTEND;VALUE=DATE:20260526
DTSTAMP:20260421T112747
CREATED:20251119T230436Z
LAST-MODIFIED:20251119T230436Z
UID:10013284-1779667200-1779753599@kellogghubbard.org
SUMMARY:Library Closed
DESCRIPTION:The Library will be closed on Monday\, May 25\, 2026 for Memorial Day.
URL:https://kellogghubbard.org/calendar/library-closed-19/
LOCATION:Kellogg-Hubbard Library\, 135 Main Street\, Montpelier\, VT\, 05602\, United States
CATEGORIES:Adult,Childrens,Featured,Holiday,Teen
END:VEVENT
BEGIN:VEVENT
DTSTART;TZID=America/New_York:20260603T120000
DTEND;TZID=America/New_York:20260603T120000
DTSTAMP:20260421T112747
CREATED:20260126T224857Z
LAST-MODIFIED:20260126T224857Z
UID:10014929-1780488000-1780488000@kellogghubbard.org
SUMMARY:Library Open 12PM-8PM Today
DESCRIPTION:The Library will have a late open at noon on the first Wednesday of each month for staff training.
URL:https://kellogghubbard.org/calendar/library-open-12pm-8pm-today/2026-06-03/
LOCATION:Kellogg-Hubbard Library\, 135 Main Street\, Montpelier\, VT\, 05602\, United States
CATEGORIES:Adult,Childrens,Featured,Teen
END:VEVENT
BEGIN:VEVENT
DTSTART;TZID=America/New_York:20260603T173000
DTEND;TZID=America/New_York:20260603T190000
DTSTAMP:20260421T112747
CREATED:20250828T145626Z
LAST-MODIFIED:20260323T150540Z
UID:10012763-1780507800-1780513200@kellogghubbard.org
SUMMARY:Fiber Arts Night
DESCRIPTION:Calling all fiber art enthusiasts! Bring your knitting\, crocheting\, weaving\, or any other fiber project to the library for a relaxing evening of creativity and connection. Gather around with fellow makers and share ideas\, tips\, or just good conversation. Whether you’re a seasoned crafter or just starting out\, everyone is welcome to join this fun\, stress-free gathering. Don’t miss out on the chance to be inspired and make new friends!
URL:https://kellogghubbard.org/calendar/fiber-arts-night/2026-06-03/
LOCATION:Kellogg-Hubbard Library\, 135 Main Street\, Montpelier\, VT\, 05602\, United States
CATEGORIES:Adult,Childrens,Featured
ATTACH;FMTTYPE=image/png:https://kellogghubbard.org/wp-content/uploads/2025/08/Fiber-arts-night-template.png
END:VEVENT
BEGIN:VEVENT
DTSTART;TZID=America/New_York:20260606T120000
DTEND;TZID=America/New_York:20260606T133000
DTSTAMP:20260421T112747
CREATED:20260223T140831Z
LAST-MODIFIED:20260304T210042Z
UID:10015092-1780747200-1780752600@kellogghubbard.org
SUMMARY:Menopause Cafe
DESCRIPTION:Menopause Café is a welcoming space for open\, honest\, and stigma-free conversations about menopause. Join us for supportive\, candid discussions where all are welcome to listen\, share\, and learn together in a relaxed and respectful environment.
URL:https://kellogghubbard.org/calendar/menopause-cafe/2026-06-06/
LOCATION:Kellogg-Hubbard Library\, 135 Main Street\, Montpelier\, VT\, 05602\, United States
CATEGORIES:Adult,Featured
ATTACH;FMTTYPE=image/png:https://kellogghubbard.org/wp-content/uploads/2026/02/menopause-cafe-template.png
END:VEVENT
BEGIN:VEVENT
DTSTART;TZID=America/New_York:20260613T120000
DTEND;TZID=America/New_York:20260613T133000
DTSTAMP:20260421T112747
CREATED:20250828T150233Z
LAST-MODIFIED:20260226T212523Z
UID:10015169-1781352000-1781357400@kellogghubbard.org
SUMMARY:Death Cafe
DESCRIPTION:Join us for an open\, thoughtful\, and supportive conversation about one of life’s biggest realities. The Death Café is a free community gathering with no set agenda—just a chance to share questions\, stories\, concerns\, and hopes about death\, dying\, and planning for the future. \nIn today’s world\, these conversations are often avoided\, yet they touch every part of life: our bodies\, belongings\, legal matters\, funerals\, burials\, and the memories we leave behind. The Café offers a safe and welcoming space to talk\, listen\, and connect with others on this journey. Many find that facing death openly with loved ones can lift a burden and make life feel even more vibrant and full. \nTea and baked goods are always served.
URL:https://kellogghubbard.org/calendar/death-cafe/2026-06-13/
LOCATION:Kellogg-Hubbard Library\, 135 Main Street\, Montpelier\, VT\, 05602\, United States
CATEGORIES:Adult,Featured
ATTACH;FMTTYPE=image/png:https://kellogghubbard.org/wp-content/uploads/2025/08/death-cafe-1.png
END:VEVENT
BEGIN:VEVENT
DTSTART;TZID=America/New_York:20260618T103000
DTEND;TZID=America/New_York:20260618T110000
DTSTAMP:20260421T112747
CREATED:20260213T203250Z
LAST-MODIFIED:20260327T203756Z
UID:10005620-1781778600-1781780400@kellogghubbard.org
SUMMARY:American Sign Language Storytime
DESCRIPTION:Listen to stories and sing songs in sign language with special guest Nora.
URL:https://kellogghubbard.org/calendar/sign-language-storytime-2-2/2026-06-18/
LOCATION:Kellogg-Hubbard Library\, 135 Main Street\, Montpelier\, VT\, 05602\, United States
CATEGORIES:Childrens,Featured
ATTACH;FMTTYPE=image/png:https://kellogghubbard.org/wp-content/uploads/2026/02/ASL-storytime-template.png
END:VEVENT
BEGIN:VEVENT
DTSTART;VALUE=DATE:20260619
DTEND;VALUE=DATE:20260620
DTSTAMP:20260421T112747
CREATED:20251119T230606Z
LAST-MODIFIED:20251119T230606Z
UID:10013285-1781827200-1781913599@kellogghubbard.org
SUMMARY:Library Closed
DESCRIPTION:The Library will be closed on Friday\, June 19\, 2026 for Juneteenth.
URL:https://kellogghubbard.org/calendar/library-closed-20/
LOCATION:Kellogg-Hubbard Library\, 135 Main Street\, Montpelier\, VT\, 05602\, United States
CATEGORIES:Adult,Childrens,Featured,Holiday,Teen
END:VEVENT
BEGIN:VEVENT
DTSTART;TZID=America/New_York:20260701T120000
DTEND;TZID=America/New_York:20260701T120000
DTSTAMP:20260421T112747
CREATED:20260126T224857Z
LAST-MODIFIED:20260126T224857Z
UID:10014930-1782907200-1782907200@kellogghubbard.org
SUMMARY:Library Open 12PM-8PM Today
DESCRIPTION:The Library will have a late open at noon on the first Wednesday of each month for staff training.
URL:https://kellogghubbard.org/calendar/library-open-12pm-8pm-today/2026-07-01/
LOCATION:Kellogg-Hubbard Library\, 135 Main Street\, Montpelier\, VT\, 05602\, United States
CATEGORIES:Adult,Childrens,Featured,Teen
END:VEVENT
BEGIN:VEVENT
DTSTART;TZID=America/New_York:20260701T173000
DTEND;TZID=America/New_York:20260701T190000
DTSTAMP:20260421T112747
CREATED:20250828T145626Z
LAST-MODIFIED:20260323T150540Z
UID:10012764-1782927000-1782932400@kellogghubbard.org
SUMMARY:Fiber Arts Night
DESCRIPTION:Calling all fiber art enthusiasts! Bring your knitting\, crocheting\, weaving\, or any other fiber project to the library for a relaxing evening of creativity and connection. Gather around with fellow makers and share ideas\, tips\, or just good conversation. Whether you’re a seasoned crafter or just starting out\, everyone is welcome to join this fun\, stress-free gathering. Don’t miss out on the chance to be inspired and make new friends!
URL:https://kellogghubbard.org/calendar/fiber-arts-night/2026-07-01/
LOCATION:Kellogg-Hubbard Library\, 135 Main Street\, Montpelier\, VT\, 05602\, United States
CATEGORIES:Adult,Childrens,Featured
ATTACH;FMTTYPE=image/png:https://kellogghubbard.org/wp-content/uploads/2025/08/Fiber-arts-night-template.png
END:VEVENT
BEGIN:VEVENT
DTSTART;VALUE=DATE:20260704
DTEND;VALUE=DATE:20260705
DTSTAMP:20260421T112747
CREATED:20251119T230819Z
LAST-MODIFIED:20251119T230819Z
UID:10013286-1783123200-1783209599@kellogghubbard.org
SUMMARY:Library Closed
DESCRIPTION:The Library will be closed on Saturday\, July 4\, 2026 for Independence Day.
URL:https://kellogghubbard.org/calendar/library-closed-21/
LOCATION:Kellogg-Hubbard Library\, 135 Main Street\, Montpelier\, VT\, 05602\, United States
CATEGORIES:Adult,Childrens,Featured,Holiday,Teen
END:VEVENT
BEGIN:VEVENT
DTSTART;TZID=America/New_York:20260711T120000
DTEND;TZID=America/New_York:20260711T133000
DTSTAMP:20260421T112747
CREATED:20250828T150233Z
LAST-MODIFIED:20260226T212523Z
UID:10015170-1783771200-1783776600@kellogghubbard.org
SUMMARY:Death Cafe
DESCRIPTION:Join us for an open\, thoughtful\, and supportive conversation about one of life’s biggest realities. The Death Café is a free community gathering with no set agenda—just a chance to share questions\, stories\, concerns\, and hopes about death\, dying\, and planning for the future. \nIn today’s world\, these conversations are often avoided\, yet they touch every part of life: our bodies\, belongings\, legal matters\, funerals\, burials\, and the memories we leave behind. The Café offers a safe and welcoming space to talk\, listen\, and connect with others on this journey. Many find that facing death openly with loved ones can lift a burden and make life feel even more vibrant and full. \nTea and baked goods are always served.
URL:https://kellogghubbard.org/calendar/death-cafe/2026-07-11/
LOCATION:Kellogg-Hubbard Library\, 135 Main Street\, Montpelier\, VT\, 05602\, United States
CATEGORIES:Adult,Featured
ATTACH;FMTTYPE=image/png:https://kellogghubbard.org/wp-content/uploads/2025/08/death-cafe-1.png
END:VEVENT
BEGIN:VEVENT
DTSTART;TZID=America/New_York:20260716T103000
DTEND;TZID=America/New_York:20260716T110000
DTSTAMP:20260421T112747
CREATED:20260213T203250Z
LAST-MODIFIED:20260327T203756Z
UID:10005621-1784197800-1784199600@kellogghubbard.org
SUMMARY:American Sign Language Storytime
DESCRIPTION:Listen to stories and sing songs in sign language with special guest Nora.
URL:https://kellogghubbard.org/calendar/sign-language-storytime-2-2/2026-07-16/
LOCATION:Kellogg-Hubbard Library\, 135 Main Street\, Montpelier\, VT\, 05602\, United States
CATEGORIES:Childrens,Featured
ATTACH;FMTTYPE=image/png:https://kellogghubbard.org/wp-content/uploads/2026/02/ASL-storytime-template.png
END:VEVENT
BEGIN:VEVENT
DTSTART;TZID=America/New_York:20260801T120000
DTEND;TZID=America/New_York:20260801T133000
DTSTAMP:20260421T112747
CREATED:20260223T140831Z
LAST-MODIFIED:20260304T210042Z
UID:10015093-1785585600-1785591000@kellogghubbard.org
SUMMARY:Menopause Cafe
DESCRIPTION:Menopause Café is a welcoming space for open\, honest\, and stigma-free conversations about menopause. Join us for supportive\, candid discussions where all are welcome to listen\, share\, and learn together in a relaxed and respectful environment.
URL:https://kellogghubbard.org/calendar/menopause-cafe/2026-08-01/
LOCATION:Kellogg-Hubbard Library\, 135 Main Street\, Montpelier\, VT\, 05602\, United States
CATEGORIES:Adult,Featured
ATTACH;FMTTYPE=image/png:https://kellogghubbard.org/wp-content/uploads/2026/02/menopause-cafe-template.png
END:VEVENT
BEGIN:VEVENT
DTSTART;TZID=America/New_York:20260805T120000
DTEND;TZID=America/New_York:20260805T120000
DTSTAMP:20260421T112747
CREATED:20260126T224857Z
LAST-MODIFIED:20260126T224857Z
UID:10014931-1785931200-1785931200@kellogghubbard.org
SUMMARY:Library Open 12PM-8PM Today
DESCRIPTION:The Library will have a late open at noon on the first Wednesday of each month for staff training.
URL:https://kellogghubbard.org/calendar/library-open-12pm-8pm-today/2026-08-05/
LOCATION:Kellogg-Hubbard Library\, 135 Main Street\, Montpelier\, VT\, 05602\, United States
CATEGORIES:Adult,Childrens,Featured,Teen
END:VEVENT
BEGIN:VEVENT
DTSTART;TZID=America/New_York:20260805T173000
DTEND;TZID=America/New_York:20260805T190000
DTSTAMP:20260421T112747
CREATED:20250828T145626Z
LAST-MODIFIED:20260323T150540Z
UID:10012765-1785951000-1785956400@kellogghubbard.org
SUMMARY:Fiber Arts Night
DESCRIPTION:Calling all fiber art enthusiasts! Bring your knitting\, crocheting\, weaving\, or any other fiber project to the library for a relaxing evening of creativity and connection. Gather around with fellow makers and share ideas\, tips\, or just good conversation. Whether you’re a seasoned crafter or just starting out\, everyone is welcome to join this fun\, stress-free gathering. Don’t miss out on the chance to be inspired and make new friends!
URL:https://kellogghubbard.org/calendar/fiber-arts-night/2026-08-05/
LOCATION:Kellogg-Hubbard Library\, 135 Main Street\, Montpelier\, VT\, 05602\, United States
CATEGORIES:Adult,Childrens,Featured
ATTACH;FMTTYPE=image/png:https://kellogghubbard.org/wp-content/uploads/2025/08/Fiber-arts-night-template.png
END:VEVENT
BEGIN:VEVENT
DTSTART;TZID=America/New_York:20260808T120000
DTEND;TZID=America/New_York:20260808T133000
DTSTAMP:20260421T112747
CREATED:20250828T150233Z
LAST-MODIFIED:20260226T212523Z
UID:10015171-1786190400-1786195800@kellogghubbard.org
SUMMARY:Death Cafe
DESCRIPTION:Join us for an open\, thoughtful\, and supportive conversation about one of life’s biggest realities. The Death Café is a free community gathering with no set agenda—just a chance to share questions\, stories\, concerns\, and hopes about death\, dying\, and planning for the future. \nIn today’s world\, these conversations are often avoided\, yet they touch every part of life: our bodies\, belongings\, legal matters\, funerals\, burials\, and the memories we leave behind. The Café offers a safe and welcoming space to talk\, listen\, and connect with others on this journey. Many find that facing death openly with loved ones can lift a burden and make life feel even more vibrant and full. \nTea and baked goods are always served.
URL:https://kellogghubbard.org/calendar/death-cafe/2026-08-08/
LOCATION:Kellogg-Hubbard Library\, 135 Main Street\, Montpelier\, VT\, 05602\, United States
CATEGORIES:Adult,Featured
ATTACH;FMTTYPE=image/png:https://kellogghubbard.org/wp-content/uploads/2025/08/death-cafe-1.png
END:VEVENT
BEGIN:VEVENT
DTSTART;TZID=America/New_York:20260820T103000
DTEND;TZID=America/New_York:20260820T110000
DTSTAMP:20260421T112747
CREATED:20260213T203250Z
LAST-MODIFIED:20260327T203756Z
UID:10005622-1787221800-1787223600@kellogghubbard.org
SUMMARY:American Sign Language Storytime
DESCRIPTION:Listen to stories and sing songs in sign language with special guest Nora.
URL:https://kellogghubbard.org/calendar/sign-language-storytime-2-2/2026-08-20/
LOCATION:Kellogg-Hubbard Library\, 135 Main Street\, Montpelier\, VT\, 05602\, United States
CATEGORIES:Childrens,Featured
ATTACH;FMTTYPE=image/png:https://kellogghubbard.org/wp-content/uploads/2026/02/ASL-storytime-template.png
END:VEVENT
BEGIN:VEVENT
DTSTART;TZID=America/New_York:20260902T120000
DTEND;TZID=America/New_York:20260902T120000
DTSTAMP:20260421T112747
CREATED:20260126T224857Z
LAST-MODIFIED:20260126T224857Z
UID:10014932-1788350400-1788350400@kellogghubbard.org
SUMMARY:Library Open 12PM-8PM Today
DESCRIPTION:The Library will have a late open at noon on the first Wednesday of each month for staff training.
URL:https://kellogghubbard.org/calendar/library-open-12pm-8pm-today/2026-09-02/
LOCATION:Kellogg-Hubbard Library\, 135 Main Street\, Montpelier\, VT\, 05602\, United States
CATEGORIES:Adult,Childrens,Featured,Teen
END:VEVENT
BEGIN:VEVENT
DTSTART;TZID=America/New_York:20260902T173000
DTEND;TZID=America/New_York:20260902T190000
DTSTAMP:20260421T112747
CREATED:20250828T145626Z
LAST-MODIFIED:20260323T150540Z
UID:10012766-1788370200-1788375600@kellogghubbard.org
SUMMARY:Fiber Arts Night
DESCRIPTION:Calling all fiber art enthusiasts! Bring your knitting\, crocheting\, weaving\, or any other fiber project to the library for a relaxing evening of creativity and connection. Gather around with fellow makers and share ideas\, tips\, or just good conversation. Whether you’re a seasoned crafter or just starting out\, everyone is welcome to join this fun\, stress-free gathering. Don’t miss out on the chance to be inspired and make new friends!
URL:https://kellogghubbard.org/calendar/fiber-arts-night/2026-09-02/
LOCATION:Kellogg-Hubbard Library\, 135 Main Street\, Montpelier\, VT\, 05602\, United States
CATEGORIES:Adult,Childrens,Featured
ATTACH;FMTTYPE=image/png:https://kellogghubbard.org/wp-content/uploads/2025/08/Fiber-arts-night-template.png
END:VEVENT
END:VCALENDAR