BEGIN:VCALENDAR
VERSION:2.0
PRODID:-//Kellogg-Hubbard Library - ECPv6.15.20//NONSGML v1.0//EN
CALSCALE:GREGORIAN
METHOD:PUBLISH
X-ORIGINAL-URL:https://kellogghubbard.org
X-WR-CALDESC:Events for Kellogg-Hubbard Library
REFRESH-INTERVAL;VALUE=DURATION:PT1H
X-Robots-Tag:noindex
X-PUBLISHED-TTL:PT1H
BEGIN:VTIMEZONE
TZID:America/New_York
BEGIN:DAYLIGHT
TZOFFSETFROM:-0500
TZOFFSETTO:-0400
TZNAME:EDT
DTSTART:20250309T070000
END:DAYLIGHT
BEGIN:STANDARD
TZOFFSETFROM:-0400
TZOFFSETTO:-0500
TZNAME:EST
DTSTART:20251102T060000
END:STANDARD
BEGIN:DAYLIGHT
TZOFFSETFROM:-0500
TZOFFSETTO:-0400
TZNAME:EDT
DTSTART:20260308T070000
END:DAYLIGHT
BEGIN:STANDARD
TZOFFSETFROM:-0400
TZOFFSETTO:-0500
TZNAME:EST
DTSTART:20261101T060000
END:STANDARD
BEGIN:DAYLIGHT
TZOFFSETFROM:-0500
TZOFFSETTO:-0400
TZNAME:EDT
DTSTART:20270314T070000
END:DAYLIGHT
BEGIN:STANDARD
TZOFFSETFROM:-0400
TZOFFSETTO:-0500
TZNAME:EST
DTSTART:20271107T060000
END:STANDARD
END:VTIMEZONE
BEGIN:VEVENT
DTSTART;TZID=America/New_York:20260707T153000
DTEND;TZID=America/New_York:20260707T170000
DTSTAMP:20260419T113009
CREATED:20251003T162052Z
LAST-MODIFIED:20251104T180344Z
UID:10012519-1783438200-1783443600@kellogghubbard.org
SUMMARY:Craft Day
DESCRIPTION:Youth 18 and under. A rotating selection of fun and easy crafts for kids!
URL:https://kellogghubbard.org/calendar/craft-day/2026-07-07/
LOCATION:Kellogg-Hubbard Library\, 135 Main Street\, Montpelier\, VT\, 05602\, United States
CATEGORIES:Childrens,Teen
END:VEVENT
BEGIN:VEVENT
DTSTART;TZID=America/New_York:20260708T153000
DTEND;TZID=America/New_York:20260708T170000
DTSTAMP:20260419T113009
CREATED:20240514T195145Z
LAST-MODIFIED:20251202T125913Z
UID:10002554-1783524600-1783530000@kellogghubbard.org
SUMMARY:Chess and board game day
DESCRIPTION:Youth 18 and under. Drop in to play chess with Instructor Robert and board games with peers.
URL:https://kellogghubbard.org/calendar/chess-club/2026-07-08/
LOCATION:Children’s Library at KHL\, 135 Main Street\, Montpelier\, VT\, 05602\, United States
CATEGORIES:Childrens,Teen
ATTACH;FMTTYPE=image/jpeg:https://kellogghubbard.org/wp-content/uploads/2024/05/thumbnail_image_50453761.jpg
END:VEVENT
BEGIN:VEVENT
DTSTART;TZID=America/New_York:20260709T103000
DTEND;TZID=America/New_York:20260709T110000
DTSTAMP:20260419T113009
CREATED:20251120T233345Z
LAST-MODIFIED:20260311T181236Z
UID:10013355-1783593000-1783594800@kellogghubbard.org
SUMMARY:Storytime
DESCRIPTION:Join us for stories\, songs\, silliness and lots of bubbles!
URL:https://kellogghubbard.org/calendar/storytime/2026-07-09/
LOCATION:Kellogg-Hubbard Library\, 135 Main Street\, Montpelier\, VT\, 05602\, United States
CATEGORIES:Childrens
ATTACH;FMTTYPE=image/jpeg:https://kellogghubbard.org/wp-content/uploads/2024/05/JCL_4151W.jpg
END:VEVENT
BEGIN:VEVENT
DTSTART;TZID=America/New_York:20260709T153000
DTEND;TZID=America/New_York:20260709T170000
DTSTAMP:20260419T113009
CREATED:20240823T155133Z
LAST-MODIFIED:20251202T130326Z
UID:10004073-1783611000-1783616400@kellogghubbard.org
SUMMARY:Pokemon Day
DESCRIPTION:Youth 18 and under. Drop in to play or trade. No experience necessary!
URL:https://kellogghubbard.org/calendar/pokemon-club-2/2026-07-09/
LOCATION:Children’s Library at KHL\, 135 Main Street\, Montpelier\, VT\, 05602\, United States
CATEGORIES:Childrens,Teen
ATTACH;FMTTYPE=image/jpeg:https://kellogghubbard.org/wp-content/uploads/2024/08/thumbnail_image_50402817.jpg
END:VEVENT
BEGIN:VEVENT
DTSTART;TZID=America/New_York:20260710T153000
DTEND;TZID=America/New_York:20260710T170000
DTSTAMP:20260419T113009
CREATED:20240823T155005Z
LAST-MODIFIED:20251202T131654Z
UID:10003815-1783697400-1783702800@kellogghubbard.org
SUMMARY:Builders Day
DESCRIPTION:Like to build and create? Use your imagination to create\, build\, and try out challenges! Materials like lego\, KEVA blocks\, magna tiles\, clay and more provided. Ages 18 and under.
URL:https://kellogghubbard.org/calendar/lego-club-2/2026-07-10/
LOCATION:Children’s Library at KHL\, 135 Main Street\, Montpelier\, VT\, 05602\, United States
CATEGORIES:Childrens,Teen
ATTACH;FMTTYPE=image/jpeg:https://kellogghubbard.org/wp-content/uploads/2024/08/thumbnail_image_50445825.jpg
END:VEVENT
BEGIN:VEVENT
DTSTART;TZID=America/New_York:20260714T090000
DTEND;TZID=America/New_York:20260714T130000
DTSTAMP:20260419T113009
CREATED:20251107T165116Z
LAST-MODIFIED:20251107T165446Z
UID:10011558-1784019600-1784034000@kellogghubbard.org
SUMMARY:The Nest
DESCRIPTION:Are you pregnant or looking to get out of the house with your baby? Curious about local resources for prenatal and postpartum families? Interested in volunteering as a Postpartum Angel? Drop in to The Nest! Every Tuesday from 9 AM–1 PM\, the East Montpelier Room at Kellogg-Hubbard Library transforms into a baby-friendly space hosted by Good Beginnings. Get help adjusting your baby carrier or try different ones in our babywearing lending library\, chat with our Program Director to learn about resources for your family\, or feed\, change\, and play with your baby.
URL:https://kellogghubbard.org/calendar/the-nest-2/2026-07-14/
LOCATION:Kellogg-Hubbard Library\, 135 Main Street\, Montpelier\, VT\, 05602\, United States
CATEGORIES:Childrens
ATTACH;FMTTYPE=image/png:https://kellogghubbard.org/wp-content/uploads/2025/08/The-Nest-at-KHL-square-format-2.png
END:VEVENT
BEGIN:VEVENT
DTSTART;TZID=America/New_York:20260714T103000
DTEND;TZID=America/New_York:20260714T110000
DTSTAMP:20260419T113009
CREATED:20251120T233345Z
LAST-MODIFIED:20260311T181236Z
UID:10013356-1784025000-1784026800@kellogghubbard.org
SUMMARY:Storytime
DESCRIPTION:Join us for stories\, songs\, silliness and lots of bubbles!
URL:https://kellogghubbard.org/calendar/storytime/2026-07-14/
LOCATION:Kellogg-Hubbard Library\, 135 Main Street\, Montpelier\, VT\, 05602\, United States
CATEGORIES:Childrens
ATTACH;FMTTYPE=image/jpeg:https://kellogghubbard.org/wp-content/uploads/2024/05/JCL_4151W.jpg
END:VEVENT
BEGIN:VEVENT
DTSTART;TZID=America/New_York:20260714T153000
DTEND;TZID=America/New_York:20260714T170000
DTSTAMP:20260419T113009
CREATED:20251003T162052Z
LAST-MODIFIED:20251104T180344Z
UID:10012520-1784043000-1784048400@kellogghubbard.org
SUMMARY:Craft Day
DESCRIPTION:Youth 18 and under. A rotating selection of fun and easy crafts for kids!
URL:https://kellogghubbard.org/calendar/craft-day/2026-07-14/
LOCATION:Kellogg-Hubbard Library\, 135 Main Street\, Montpelier\, VT\, 05602\, United States
CATEGORIES:Childrens,Teen
END:VEVENT
BEGIN:VEVENT
DTSTART;TZID=America/New_York:20260715T153000
DTEND;TZID=America/New_York:20260715T170000
DTSTAMP:20260419T113009
CREATED:20240514T195145Z
LAST-MODIFIED:20251202T125913Z
UID:10002555-1784129400-1784134800@kellogghubbard.org
SUMMARY:Chess and board game day
DESCRIPTION:Youth 18 and under. Drop in to play chess with Instructor Robert and board games with peers.
URL:https://kellogghubbard.org/calendar/chess-club/2026-07-15/
LOCATION:Children’s Library at KHL\, 135 Main Street\, Montpelier\, VT\, 05602\, United States
CATEGORIES:Childrens,Teen
ATTACH;FMTTYPE=image/jpeg:https://kellogghubbard.org/wp-content/uploads/2024/05/thumbnail_image_50453761.jpg
END:VEVENT
BEGIN:VEVENT
DTSTART;TZID=America/New_York:20260716T103000
DTEND;TZID=America/New_York:20260716T110000
DTSTAMP:20260419T113009
CREATED:20251120T233345Z
LAST-MODIFIED:20260311T181236Z
UID:10013357-1784197800-1784199600@kellogghubbard.org
SUMMARY:Storytime
DESCRIPTION:Join us for stories\, songs\, silliness and lots of bubbles!
URL:https://kellogghubbard.org/calendar/storytime/2026-07-16/
LOCATION:Kellogg-Hubbard Library\, 135 Main Street\, Montpelier\, VT\, 05602\, United States
CATEGORIES:Childrens
ATTACH;FMTTYPE=image/jpeg:https://kellogghubbard.org/wp-content/uploads/2024/05/JCL_4151W.jpg
END:VEVENT
BEGIN:VEVENT
DTSTART;TZID=America/New_York:20260716T103000
DTEND;TZID=America/New_York:20260716T110000
DTSTAMP:20260419T113009
CREATED:20260213T203250Z
LAST-MODIFIED:20260327T203756Z
UID:10005621-1784197800-1784199600@kellogghubbard.org
SUMMARY:American Sign Language Storytime
DESCRIPTION:Listen to stories and sing songs in sign language with special guest Nora.
URL:https://kellogghubbard.org/calendar/sign-language-storytime-2-2/2026-07-16/
LOCATION:Kellogg-Hubbard Library\, 135 Main Street\, Montpelier\, VT\, 05602\, United States
CATEGORIES:Childrens,Featured
ATTACH;FMTTYPE=image/png:https://kellogghubbard.org/wp-content/uploads/2026/02/ASL-storytime-template.png
END:VEVENT
BEGIN:VEVENT
DTSTART;TZID=America/New_York:20260716T153000
DTEND;TZID=America/New_York:20260716T170000
DTSTAMP:20260419T113009
CREATED:20240823T155133Z
LAST-MODIFIED:20251202T130326Z
UID:10004074-1784215800-1784221200@kellogghubbard.org
SUMMARY:Pokemon Day
DESCRIPTION:Youth 18 and under. Drop in to play or trade. No experience necessary!
URL:https://kellogghubbard.org/calendar/pokemon-club-2/2026-07-16/
LOCATION:Children’s Library at KHL\, 135 Main Street\, Montpelier\, VT\, 05602\, United States
CATEGORIES:Childrens,Teen
ATTACH;FMTTYPE=image/jpeg:https://kellogghubbard.org/wp-content/uploads/2024/08/thumbnail_image_50402817.jpg
END:VEVENT
BEGIN:VEVENT
DTSTART;TZID=America/New_York:20260717T153000
DTEND;TZID=America/New_York:20260717T170000
DTSTAMP:20260419T113009
CREATED:20240823T155005Z
LAST-MODIFIED:20251202T131654Z
UID:10003816-1784302200-1784307600@kellogghubbard.org
SUMMARY:Builders Day
DESCRIPTION:Like to build and create? Use your imagination to create\, build\, and try out challenges! Materials like lego\, KEVA blocks\, magna tiles\, clay and more provided. Ages 18 and under.
URL:https://kellogghubbard.org/calendar/lego-club-2/2026-07-17/
LOCATION:Children’s Library at KHL\, 135 Main Street\, Montpelier\, VT\, 05602\, United States
CATEGORIES:Childrens,Teen
ATTACH;FMTTYPE=image/jpeg:https://kellogghubbard.org/wp-content/uploads/2024/08/thumbnail_image_50445825.jpg
END:VEVENT
BEGIN:VEVENT
DTSTART;TZID=America/New_York:20260721T090000
DTEND;TZID=America/New_York:20260721T130000
DTSTAMP:20260419T113009
CREATED:20251107T165116Z
LAST-MODIFIED:20251107T165446Z
UID:10011559-1784624400-1784638800@kellogghubbard.org
SUMMARY:The Nest
DESCRIPTION:Are you pregnant or looking to get out of the house with your baby? Curious about local resources for prenatal and postpartum families? Interested in volunteering as a Postpartum Angel? Drop in to The Nest! Every Tuesday from 9 AM–1 PM\, the East Montpelier Room at Kellogg-Hubbard Library transforms into a baby-friendly space hosted by Good Beginnings. Get help adjusting your baby carrier or try different ones in our babywearing lending library\, chat with our Program Director to learn about resources for your family\, or feed\, change\, and play with your baby.
URL:https://kellogghubbard.org/calendar/the-nest-2/2026-07-21/
LOCATION:Kellogg-Hubbard Library\, 135 Main Street\, Montpelier\, VT\, 05602\, United States
CATEGORIES:Childrens
ATTACH;FMTTYPE=image/png:https://kellogghubbard.org/wp-content/uploads/2025/08/The-Nest-at-KHL-square-format-2.png
END:VEVENT
BEGIN:VEVENT
DTSTART;TZID=America/New_York:20260721T103000
DTEND;TZID=America/New_York:20260721T110000
DTSTAMP:20260419T113009
CREATED:20251120T233345Z
LAST-MODIFIED:20260311T181236Z
UID:10013358-1784629800-1784631600@kellogghubbard.org
SUMMARY:Storytime
DESCRIPTION:Join us for stories\, songs\, silliness and lots of bubbles!
URL:https://kellogghubbard.org/calendar/storytime/2026-07-21/
LOCATION:Kellogg-Hubbard Library\, 135 Main Street\, Montpelier\, VT\, 05602\, United States
CATEGORIES:Childrens
ATTACH;FMTTYPE=image/jpeg:https://kellogghubbard.org/wp-content/uploads/2024/05/JCL_4151W.jpg
END:VEVENT
BEGIN:VEVENT
DTSTART;TZID=America/New_York:20260721T153000
DTEND;TZID=America/New_York:20260721T170000
DTSTAMP:20260419T113009
CREATED:20251003T162052Z
LAST-MODIFIED:20251104T180344Z
UID:10012521-1784647800-1784653200@kellogghubbard.org
SUMMARY:Craft Day
DESCRIPTION:Youth 18 and under. A rotating selection of fun and easy crafts for kids!
URL:https://kellogghubbard.org/calendar/craft-day/2026-07-21/
LOCATION:Kellogg-Hubbard Library\, 135 Main Street\, Montpelier\, VT\, 05602\, United States
CATEGORIES:Childrens,Teen
END:VEVENT
BEGIN:VEVENT
DTSTART;TZID=America/New_York:20260722T153000
DTEND;TZID=America/New_York:20260722T170000
DTSTAMP:20260419T113009
CREATED:20240514T195145Z
LAST-MODIFIED:20251202T125913Z
UID:10002556-1784734200-1784739600@kellogghubbard.org
SUMMARY:Chess and board game day
DESCRIPTION:Youth 18 and under. Drop in to play chess with Instructor Robert and board games with peers.
URL:https://kellogghubbard.org/calendar/chess-club/2026-07-22/
LOCATION:Children’s Library at KHL\, 135 Main Street\, Montpelier\, VT\, 05602\, United States
CATEGORIES:Childrens,Teen
ATTACH;FMTTYPE=image/jpeg:https://kellogghubbard.org/wp-content/uploads/2024/05/thumbnail_image_50453761.jpg
END:VEVENT
BEGIN:VEVENT
DTSTART;TZID=America/New_York:20260723T103000
DTEND;TZID=America/New_York:20260723T110000
DTSTAMP:20260419T113009
CREATED:20251120T233345Z
LAST-MODIFIED:20260311T181236Z
UID:10013359-1784802600-1784804400@kellogghubbard.org
SUMMARY:Storytime
DESCRIPTION:Join us for stories\, songs\, silliness and lots of bubbles!
URL:https://kellogghubbard.org/calendar/storytime/2026-07-23/
LOCATION:Kellogg-Hubbard Library\, 135 Main Street\, Montpelier\, VT\, 05602\, United States
CATEGORIES:Childrens
ATTACH;FMTTYPE=image/jpeg:https://kellogghubbard.org/wp-content/uploads/2024/05/JCL_4151W.jpg
END:VEVENT
BEGIN:VEVENT
DTSTART;TZID=America/New_York:20260723T153000
DTEND;TZID=America/New_York:20260723T170000
DTSTAMP:20260419T113009
CREATED:20240823T155133Z
LAST-MODIFIED:20251202T130326Z
UID:10004075-1784820600-1784826000@kellogghubbard.org
SUMMARY:Pokemon Day
DESCRIPTION:Youth 18 and under. Drop in to play or trade. No experience necessary!
URL:https://kellogghubbard.org/calendar/pokemon-club-2/2026-07-23/
LOCATION:Children’s Library at KHL\, 135 Main Street\, Montpelier\, VT\, 05602\, United States
CATEGORIES:Childrens,Teen
ATTACH;FMTTYPE=image/jpeg:https://kellogghubbard.org/wp-content/uploads/2024/08/thumbnail_image_50402817.jpg
END:VEVENT
BEGIN:VEVENT
DTSTART;TZID=America/New_York:20260724T153000
DTEND;TZID=America/New_York:20260724T170000
DTSTAMP:20260419T113009
CREATED:20240823T155005Z
LAST-MODIFIED:20251202T131654Z
UID:10003817-1784907000-1784912400@kellogghubbard.org
SUMMARY:Builders Day
DESCRIPTION:Like to build and create? Use your imagination to create\, build\, and try out challenges! Materials like lego\, KEVA blocks\, magna tiles\, clay and more provided. Ages 18 and under.
URL:https://kellogghubbard.org/calendar/lego-club-2/2026-07-24/
LOCATION:Children’s Library at KHL\, 135 Main Street\, Montpelier\, VT\, 05602\, United States
CATEGORIES:Childrens,Teen
ATTACH;FMTTYPE=image/jpeg:https://kellogghubbard.org/wp-content/uploads/2024/08/thumbnail_image_50445825.jpg
END:VEVENT
BEGIN:VEVENT
DTSTART;TZID=America/New_York:20260728T090000
DTEND;TZID=America/New_York:20260728T130000
DTSTAMP:20260419T113009
CREATED:20251107T165116Z
LAST-MODIFIED:20251107T165446Z
UID:10011560-1785229200-1785243600@kellogghubbard.org
SUMMARY:The Nest
DESCRIPTION:Are you pregnant or looking to get out of the house with your baby? Curious about local resources for prenatal and postpartum families? Interested in volunteering as a Postpartum Angel? Drop in to The Nest! Every Tuesday from 9 AM–1 PM\, the East Montpelier Room at Kellogg-Hubbard Library transforms into a baby-friendly space hosted by Good Beginnings. Get help adjusting your baby carrier or try different ones in our babywearing lending library\, chat with our Program Director to learn about resources for your family\, or feed\, change\, and play with your baby.
URL:https://kellogghubbard.org/calendar/the-nest-2/2026-07-28/
LOCATION:Kellogg-Hubbard Library\, 135 Main Street\, Montpelier\, VT\, 05602\, United States
CATEGORIES:Childrens
ATTACH;FMTTYPE=image/png:https://kellogghubbard.org/wp-content/uploads/2025/08/The-Nest-at-KHL-square-format-2.png
END:VEVENT
BEGIN:VEVENT
DTSTART;TZID=America/New_York:20260728T103000
DTEND;TZID=America/New_York:20260728T110000
DTSTAMP:20260419T113009
CREATED:20251120T233345Z
LAST-MODIFIED:20260311T181236Z
UID:10013360-1785234600-1785236400@kellogghubbard.org
SUMMARY:Storytime
DESCRIPTION:Join us for stories\, songs\, silliness and lots of bubbles!
URL:https://kellogghubbard.org/calendar/storytime/2026-07-28/
LOCATION:Kellogg-Hubbard Library\, 135 Main Street\, Montpelier\, VT\, 05602\, United States
CATEGORIES:Childrens
ATTACH;FMTTYPE=image/jpeg:https://kellogghubbard.org/wp-content/uploads/2024/05/JCL_4151W.jpg
END:VEVENT
BEGIN:VEVENT
DTSTART;TZID=America/New_York:20260728T153000
DTEND;TZID=America/New_York:20260728T170000
DTSTAMP:20260419T113009
CREATED:20251003T162052Z
LAST-MODIFIED:20251104T180344Z
UID:10012522-1785252600-1785258000@kellogghubbard.org
SUMMARY:Craft Day
DESCRIPTION:Youth 18 and under. A rotating selection of fun and easy crafts for kids!
URL:https://kellogghubbard.org/calendar/craft-day/2026-07-28/
LOCATION:Kellogg-Hubbard Library\, 135 Main Street\, Montpelier\, VT\, 05602\, United States
CATEGORIES:Childrens,Teen
END:VEVENT
BEGIN:VEVENT
DTSTART;TZID=America/New_York:20260729T153000
DTEND;TZID=America/New_York:20260729T170000
DTSTAMP:20260419T113009
CREATED:20240514T195145Z
LAST-MODIFIED:20251202T125913Z
UID:10002557-1785339000-1785344400@kellogghubbard.org
SUMMARY:Chess and board game day
DESCRIPTION:Youth 18 and under. Drop in to play chess with Instructor Robert and board games with peers.
URL:https://kellogghubbard.org/calendar/chess-club/2026-07-29/
LOCATION:Children’s Library at KHL\, 135 Main Street\, Montpelier\, VT\, 05602\, United States
CATEGORIES:Childrens,Teen
ATTACH;FMTTYPE=image/jpeg:https://kellogghubbard.org/wp-content/uploads/2024/05/thumbnail_image_50453761.jpg
END:VEVENT
BEGIN:VEVENT
DTSTART;TZID=America/New_York:20260730T103000
DTEND;TZID=America/New_York:20260730T110000
DTSTAMP:20260419T113009
CREATED:20251120T233345Z
LAST-MODIFIED:20260311T181236Z
UID:10013361-1785407400-1785409200@kellogghubbard.org
SUMMARY:Storytime
DESCRIPTION:Join us for stories\, songs\, silliness and lots of bubbles!
URL:https://kellogghubbard.org/calendar/storytime/2026-07-30/
LOCATION:Kellogg-Hubbard Library\, 135 Main Street\, Montpelier\, VT\, 05602\, United States
CATEGORIES:Childrens
ATTACH;FMTTYPE=image/jpeg:https://kellogghubbard.org/wp-content/uploads/2024/05/JCL_4151W.jpg
END:VEVENT
BEGIN:VEVENT
DTSTART;TZID=America/New_York:20260730T153000
DTEND;TZID=America/New_York:20260730T170000
DTSTAMP:20260419T113009
CREATED:20240823T155133Z
LAST-MODIFIED:20251202T130326Z
UID:10004076-1785425400-1785430800@kellogghubbard.org
SUMMARY:Pokemon Day
DESCRIPTION:Youth 18 and under. Drop in to play or trade. No experience necessary!
URL:https://kellogghubbard.org/calendar/pokemon-club-2/2026-07-30/
LOCATION:Children’s Library at KHL\, 135 Main Street\, Montpelier\, VT\, 05602\, United States
CATEGORIES:Childrens,Teen
ATTACH;FMTTYPE=image/jpeg:https://kellogghubbard.org/wp-content/uploads/2024/08/thumbnail_image_50402817.jpg
END:VEVENT
BEGIN:VEVENT
DTSTART;TZID=America/New_York:20260731T153000
DTEND;TZID=America/New_York:20260731T170000
DTSTAMP:20260419T113009
CREATED:20240823T155005Z
LAST-MODIFIED:20251202T131654Z
UID:10003818-1785511800-1785517200@kellogghubbard.org
SUMMARY:Builders Day
DESCRIPTION:Like to build and create? Use your imagination to create\, build\, and try out challenges! Materials like lego\, KEVA blocks\, magna tiles\, clay and more provided. Ages 18 and under.
URL:https://kellogghubbard.org/calendar/lego-club-2/2026-07-31/
LOCATION:Children’s Library at KHL\, 135 Main Street\, Montpelier\, VT\, 05602\, United States
CATEGORIES:Childrens,Teen
ATTACH;FMTTYPE=image/jpeg:https://kellogghubbard.org/wp-content/uploads/2024/08/thumbnail_image_50445825.jpg
END:VEVENT
BEGIN:VEVENT
DTSTART;TZID=America/New_York:20260804T090000
DTEND;TZID=America/New_York:20260804T130000
DTSTAMP:20260419T113009
CREATED:20251107T165116Z
LAST-MODIFIED:20251107T165446Z
UID:10011561-1785834000-1785848400@kellogghubbard.org
SUMMARY:The Nest
DESCRIPTION:Are you pregnant or looking to get out of the house with your baby? Curious about local resources for prenatal and postpartum families? Interested in volunteering as a Postpartum Angel? Drop in to The Nest! Every Tuesday from 9 AM–1 PM\, the East Montpelier Room at Kellogg-Hubbard Library transforms into a baby-friendly space hosted by Good Beginnings. Get help adjusting your baby carrier or try different ones in our babywearing lending library\, chat with our Program Director to learn about resources for your family\, or feed\, change\, and play with your baby.
URL:https://kellogghubbard.org/calendar/the-nest-2/2026-08-04/
LOCATION:Kellogg-Hubbard Library\, 135 Main Street\, Montpelier\, VT\, 05602\, United States
CATEGORIES:Childrens
ATTACH;FMTTYPE=image/png:https://kellogghubbard.org/wp-content/uploads/2025/08/The-Nest-at-KHL-square-format-2.png
END:VEVENT
BEGIN:VEVENT
DTSTART;TZID=America/New_York:20260804T103000
DTEND;TZID=America/New_York:20260804T110000
DTSTAMP:20260419T113009
CREATED:20251120T233345Z
LAST-MODIFIED:20260311T181236Z
UID:10013362-1785839400-1785841200@kellogghubbard.org
SUMMARY:Storytime
DESCRIPTION:Join us for stories\, songs\, silliness and lots of bubbles!
URL:https://kellogghubbard.org/calendar/storytime/2026-08-04/
LOCATION:Kellogg-Hubbard Library\, 135 Main Street\, Montpelier\, VT\, 05602\, United States
CATEGORIES:Childrens
ATTACH;FMTTYPE=image/jpeg:https://kellogghubbard.org/wp-content/uploads/2024/05/JCL_4151W.jpg
END:VEVENT
BEGIN:VEVENT
DTSTART;TZID=America/New_York:20260804T153000
DTEND;TZID=America/New_York:20260804T170000
DTSTAMP:20260419T113010
CREATED:20251003T162052Z
LAST-MODIFIED:20251104T180344Z
UID:10012523-1785857400-1785862800@kellogghubbard.org
SUMMARY:Craft Day
DESCRIPTION:Youth 18 and under. A rotating selection of fun and easy crafts for kids!
URL:https://kellogghubbard.org/calendar/craft-day/2026-08-04/
LOCATION:Kellogg-Hubbard Library\, 135 Main Street\, Montpelier\, VT\, 05602\, United States
CATEGORIES:Childrens,Teen
END:VEVENT
END:VCALENDAR