BEGIN:VCALENDAR
VERSION:2.0
PRODID:-//Kellogg-Hubbard Library - ECPv6.15.20//NONSGML v1.0//EN
CALSCALE:GREGORIAN
METHOD:PUBLISH
X-WR-CALNAME:Kellogg-Hubbard Library
X-ORIGINAL-URL:https://kellogghubbard.org
X-WR-CALDESC:Events for Kellogg-Hubbard Library
REFRESH-INTERVAL;VALUE=DURATION:PT1H
X-Robots-Tag:noindex
X-PUBLISHED-TTL:PT1H
BEGIN:VTIMEZONE
TZID:America/New_York
BEGIN:DAYLIGHT
TZOFFSETFROM:-0500
TZOFFSETTO:-0400
TZNAME:EDT
DTSTART:20240310T070000
END:DAYLIGHT
BEGIN:STANDARD
TZOFFSETFROM:-0400
TZOFFSETTO:-0500
TZNAME:EST
DTSTART:20241103T060000
END:STANDARD
BEGIN:DAYLIGHT
TZOFFSETFROM:-0500
TZOFFSETTO:-0400
TZNAME:EDT
DTSTART:20250309T070000
END:DAYLIGHT
BEGIN:STANDARD
TZOFFSETFROM:-0400
TZOFFSETTO:-0500
TZNAME:EST
DTSTART:20251102T060000
END:STANDARD
BEGIN:DAYLIGHT
TZOFFSETFROM:-0500
TZOFFSETTO:-0400
TZNAME:EDT
DTSTART:20260308T070000
END:DAYLIGHT
BEGIN:STANDARD
TZOFFSETFROM:-0400
TZOFFSETTO:-0500
TZNAME:EST
DTSTART:20261101T060000
END:STANDARD
END:VTIMEZONE
BEGIN:VTIMEZONE
TZID:UTC
BEGIN:STANDARD
TZOFFSETFROM:+0000
TZOFFSETTO:+0000
TZNAME:UTC
DTSTART:20240101T000000
END:STANDARD
END:VTIMEZONE
BEGIN:VEVENT
DTSTART;TZID=America/New_York:20250523T153000
DTEND;TZID=America/New_York:20250523T170000
DTSTAMP:20260419T115431
CREATED:20240823T155005Z
LAST-MODIFIED:20251202T131654Z
UID:10003756-1748014200-1748019600@kellogghubbard.org
SUMMARY:Builders Day
DESCRIPTION:Like to build and create? Use your imagination to create\, build\, and try out challenges! Materials like lego\, KEVA blocks\, magna tiles\, clay and more provided. Ages 18 and under.
URL:https://kellogghubbard.org/calendar/lego-club-2/2025-05-23/
LOCATION:Children’s Library at KHL\, 135 Main Street\, Montpelier\, VT\, 05602\, United States
CATEGORIES:Childrens,Teen
ATTACH;FMTTYPE=image/jpeg:https://kellogghubbard.org/wp-content/uploads/2024/08/thumbnail_image_50445825.jpg
END:VEVENT
BEGIN:VEVENT
DTSTART;VALUE=DATE:20250526
DTEND;VALUE=DATE:20250527
DTSTAMP:20260419T115431
CREATED:20241015T145828Z
LAST-MODIFIED:20241015T145828Z
UID:10007093-1748217600-1748303999@kellogghubbard.org
SUMMARY:Library Closed
DESCRIPTION:The Library will be closed May 26\, 2025 for Memorial Day.
URL:https://kellogghubbard.org/calendar/library-closed-10/
LOCATION:Kellogg-Hubbard Library\, 135 Main Street\, Montpelier\, VT\, 05602\, United States
CATEGORIES:Adult,Childrens,Holiday
END:VEVENT
BEGIN:VEVENT
DTSTART;TZID=UTC:20250527T153000
DTEND;TZID=UTC:20250527T170000
DTSTAMP:20260419T115431
CREATED:20240823T155645Z
LAST-MODIFIED:20250904T190855Z
UID:10006041-1748359800-1748365200@kellogghubbard.org
SUMMARY:Yarn Day
DESCRIPTION:Youth 18 and under. Bring your knitting or crochet project to work on and trade tips and tricks with other crafters. Beginner? This is a perfect place to get tips on how to get started.
URL:https://kellogghubbard.org/calendar/yarn-club-2/2025-05-27/
LOCATION:Children’s Library at KHL\, 135 Main Street\, Montpelier\, VT\, 05602\, United States
CATEGORIES:Childrens,Teen
ATTACH;FMTTYPE=image/jpeg:https://kellogghubbard.org/wp-content/uploads/2024/08/IMG_5681-scaled.jpeg
END:VEVENT
BEGIN:VEVENT
DTSTART;TZID=America/New_York:20250528T153000
DTEND;TZID=America/New_York:20250528T170000
DTSTAMP:20260419T115431
CREATED:20240514T195145Z
LAST-MODIFIED:20251202T125913Z
UID:10002496-1748446200-1748451600@kellogghubbard.org
SUMMARY:Chess and board game day
DESCRIPTION:Youth 18 and under. Drop in to play chess with Instructor Robert and board games with peers.
URL:https://kellogghubbard.org/calendar/chess-club/2025-05-28/
LOCATION:Children’s Library at KHL\, 135 Main Street\, Montpelier\, VT\, 05602\, United States
CATEGORIES:Childrens,Teen
ATTACH;FMTTYPE=image/jpeg:https://kellogghubbard.org/wp-content/uploads/2024/05/thumbnail_image_50453761.jpg
END:VEVENT
BEGIN:VEVENT
DTSTART;TZID=America/New_York:20250528T173000
DTEND;TZID=America/New_York:20250528T193000
DTSTAMP:20260419T115431
CREATED:20250430T181925Z
LAST-MODIFIED:20250430T182839Z
UID:10009707-1748453400-1748460600@kellogghubbard.org
SUMMARY:Board Game Night and Kids' Board Game Night!
DESCRIPTION:Join us for a fun and relaxed Board Game Night at the library on May 28\, 2025\, from 5:30 to 7:30 PM! \nWe’ll have games for adults downstairs and games for kids upstairs in the Children’s Library! Feel free to bring your own snacks and beverages. \nIt’s the perfect opportunity to unwind\, meet fellow game lovers\, let the kids play\, and have a great time! We hope to see you there!
URL:https://kellogghubbard.org/calendar/board-game-night-and-kids-board-game-night/
LOCATION:Kellogg-Hubbard Library\, 135 Main Street\, Montpelier\, VT\, 05602\, United States
CATEGORIES:Adult,Childrens
ATTACH;FMTTYPE=image/png:https://kellogghubbard.org/wp-content/uploads/2025/04/5.28-Board-Game-Night-1.png
END:VEVENT
BEGIN:VEVENT
DTSTART;TZID=America/New_York:20250529T103000
DTEND;TZID=America/New_York:20250529T110000
DTSTAMP:20260419T115431
CREATED:20250313T204933Z
LAST-MODIFIED:20250819T214655Z
UID:10009703-1748514600-1748516400@kellogghubbard.org
SUMMARY:Mr. Paul's Variety Show Storytime
DESCRIPTION:Join Mr. Paul for stories\, music\, puppets and more!
URL:https://kellogghubbard.org/calendar/mr-pauls-variety-show-storytime-2/2025-05-29/
LOCATION:Hayes Room at KHL\, 135 Main Street\, Montpelier\, VT\, 05602\, United States
CATEGORIES:Childrens,Featured
ATTACH;FMTTYPE=image/png:https://kellogghubbard.org/wp-content/uploads/2025/03/9.18-Mr.-Pauls-storytime.png
END:VEVENT
BEGIN:VEVENT
DTSTART;TZID=America/New_York:20250529T153000
DTEND;TZID=America/New_York:20250529T170000
DTSTAMP:20260419T115431
CREATED:20240823T155133Z
LAST-MODIFIED:20251202T130326Z
UID:10004015-1748532600-1748538000@kellogghubbard.org
SUMMARY:Pokemon Day
DESCRIPTION:Youth 18 and under. Drop in to play or trade. No experience necessary!
URL:https://kellogghubbard.org/calendar/pokemon-club-2/2025-05-29/
LOCATION:Children’s Library at KHL\, 135 Main Street\, Montpelier\, VT\, 05602\, United States
CATEGORIES:Childrens,Teen
ATTACH;FMTTYPE=image/jpeg:https://kellogghubbard.org/wp-content/uploads/2024/08/thumbnail_image_50402817.jpg
END:VEVENT
BEGIN:VEVENT
DTSTART;TZID=America/New_York:20250530T120000
DTEND;TZID=America/New_York:20250530T140000
DTSTAMP:20260419T115431
CREATED:20250429T210234Z
LAST-MODIFIED:20250430T173819Z
UID:10009664-1748606400-1748613600@kellogghubbard.org
SUMMARY:Homeschool Meetup End-of-Year Celebration!
DESCRIPTION:Homeschooling families with students of all ages meet up at the library to celebrate the end of the school year with crafts\, games\, and other activities!
URL:https://kellogghubbard.org/calendar/homeschool-meetup-end-of-year-celebration-2/
LOCATION:Children’s Library at KHL\, 135 Main Street\, Montpelier\, VT\, 05602\, United States
CATEGORIES:Childrens,Teen
ATTACH;FMTTYPE=image/png:https://kellogghubbard.org/wp-content/uploads/2024/11/5.30-Homeschool-Meet-up.png
END:VEVENT
BEGIN:VEVENT
DTSTART;TZID=America/New_York:20250530T153000
DTEND;TZID=America/New_York:20250530T170000
DTSTAMP:20260419T115431
CREATED:20240823T155005Z
LAST-MODIFIED:20251202T131654Z
UID:10003757-1748619000-1748624400@kellogghubbard.org
SUMMARY:Builders Day
DESCRIPTION:Like to build and create? Use your imagination to create\, build\, and try out challenges! Materials like lego\, KEVA blocks\, magna tiles\, clay and more provided. Ages 18 and under.
URL:https://kellogghubbard.org/calendar/lego-club-2/2025-05-30/
LOCATION:Children’s Library at KHL\, 135 Main Street\, Montpelier\, VT\, 05602\, United States
CATEGORIES:Childrens,Teen
ATTACH;FMTTYPE=image/jpeg:https://kellogghubbard.org/wp-content/uploads/2024/08/thumbnail_image_50445825.jpg
END:VEVENT
BEGIN:VEVENT
DTSTART;TZID=UTC:20250603T153000
DTEND;TZID=UTC:20250603T170000
DTSTAMP:20260419T115431
CREATED:20240823T155645Z
LAST-MODIFIED:20250904T190855Z
UID:10006042-1748964600-1748970000@kellogghubbard.org
SUMMARY:Yarn Day
DESCRIPTION:Youth 18 and under. Bring your knitting or crochet project to work on and trade tips and tricks with other crafters. Beginner? This is a perfect place to get tips on how to get started.
URL:https://kellogghubbard.org/calendar/yarn-club-2/2025-06-03/
LOCATION:Children’s Library at KHL\, 135 Main Street\, Montpelier\, VT\, 05602\, United States
CATEGORIES:Childrens,Teen
ATTACH;FMTTYPE=image/jpeg:https://kellogghubbard.org/wp-content/uploads/2024/08/IMG_5681-scaled.jpeg
END:VEVENT
BEGIN:VEVENT
DTSTART;TZID=America/New_York:20250604T153000
DTEND;TZID=America/New_York:20250604T170000
DTSTAMP:20260419T115431
CREATED:20240514T195145Z
LAST-MODIFIED:20251202T125913Z
UID:10002497-1749051000-1749056400@kellogghubbard.org
SUMMARY:Chess and board game day
DESCRIPTION:Youth 18 and under. Drop in to play chess with Instructor Robert and board games with peers.
URL:https://kellogghubbard.org/calendar/chess-club/2025-06-04/
LOCATION:Children’s Library at KHL\, 135 Main Street\, Montpelier\, VT\, 05602\, United States
CATEGORIES:Childrens,Teen
ATTACH;FMTTYPE=image/jpeg:https://kellogghubbard.org/wp-content/uploads/2024/05/thumbnail_image_50453761.jpg
END:VEVENT
BEGIN:VEVENT
DTSTART;TZID=America/New_York:20250605T153000
DTEND;TZID=America/New_York:20250605T170000
DTSTAMP:20260419T115431
CREATED:20240823T155133Z
LAST-MODIFIED:20251202T130326Z
UID:10004016-1749137400-1749142800@kellogghubbard.org
SUMMARY:Pokemon Day
DESCRIPTION:Youth 18 and under. Drop in to play or trade. No experience necessary!
URL:https://kellogghubbard.org/calendar/pokemon-club-2/2025-06-05/
LOCATION:Children’s Library at KHL\, 135 Main Street\, Montpelier\, VT\, 05602\, United States
CATEGORIES:Childrens,Teen
ATTACH;FMTTYPE=image/jpeg:https://kellogghubbard.org/wp-content/uploads/2024/08/thumbnail_image_50402817.jpg
END:VEVENT
BEGIN:VEVENT
DTSTART;TZID=America/New_York:20250606T153000
DTEND;TZID=America/New_York:20250606T170000
DTSTAMP:20260419T115431
CREATED:20240823T155005Z
LAST-MODIFIED:20251202T131654Z
UID:10003758-1749223800-1749229200@kellogghubbard.org
SUMMARY:Builders Day
DESCRIPTION:Like to build and create? Use your imagination to create\, build\, and try out challenges! Materials like lego\, KEVA blocks\, magna tiles\, clay and more provided. Ages 18 and under.
URL:https://kellogghubbard.org/calendar/lego-club-2/2025-06-06/
LOCATION:Children’s Library at KHL\, 135 Main Street\, Montpelier\, VT\, 05602\, United States
CATEGORIES:Childrens,Teen
ATTACH;FMTTYPE=image/jpeg:https://kellogghubbard.org/wp-content/uploads/2024/08/thumbnail_image_50445825.jpg
END:VEVENT
BEGIN:VEVENT
DTSTART;TZID=UTC:20250610T153000
DTEND;TZID=UTC:20250610T170000
DTSTAMP:20260419T115431
CREATED:20240823T155645Z
LAST-MODIFIED:20250904T190855Z
UID:10006043-1749569400-1749574800@kellogghubbard.org
SUMMARY:Yarn Day
DESCRIPTION:Youth 18 and under. Bring your knitting or crochet project to work on and trade tips and tricks with other crafters. Beginner? This is a perfect place to get tips on how to get started.
URL:https://kellogghubbard.org/calendar/yarn-club-2/2025-06-10/
LOCATION:Children’s Library at KHL\, 135 Main Street\, Montpelier\, VT\, 05602\, United States
CATEGORIES:Childrens,Teen
ATTACH;FMTTYPE=image/jpeg:https://kellogghubbard.org/wp-content/uploads/2024/08/IMG_5681-scaled.jpeg
END:VEVENT
BEGIN:VEVENT
DTSTART;TZID=America/New_York:20250611T153000
DTEND;TZID=America/New_York:20250611T170000
DTSTAMP:20260419T115431
CREATED:20240514T195145Z
LAST-MODIFIED:20251202T125913Z
UID:10002498-1749655800-1749661200@kellogghubbard.org
SUMMARY:Chess and board game day
DESCRIPTION:Youth 18 and under. Drop in to play chess with Instructor Robert and board games with peers.
URL:https://kellogghubbard.org/calendar/chess-club/2025-06-11/
LOCATION:Children’s Library at KHL\, 135 Main Street\, Montpelier\, VT\, 05602\, United States
CATEGORIES:Childrens,Teen
ATTACH;FMTTYPE=image/jpeg:https://kellogghubbard.org/wp-content/uploads/2024/05/thumbnail_image_50453761.jpg
END:VEVENT
BEGIN:VEVENT
DTSTART;TZID=America/New_York:20250612T103000
DTEND;TZID=America/New_York:20250612T110000
DTSTAMP:20260419T115431
CREATED:20250328T212702Z
LAST-MODIFIED:20250516T194500Z
UID:10009740-1749724200-1749726000@kellogghubbard.org
SUMMARY:Storytime at the Gary Residence
DESCRIPTION:Join us at the Gary Residence for a special storytime with songs\, stories and a craft! Walk as a group from the library at 10:15am or meet us there at 10:30am.
URL:https://kellogghubbard.org/calendar/storytime-at-the-gary-residence/2025-06-12/
LOCATION:Gary Residence\, 149 Main St\, Montpelier\, Montpelier\, 05602
CATEGORIES:Childrens
ATTACH;FMTTYPE=image/jpeg:https://kellogghubbard.org/wp-content/uploads/2024/09/images-1.jpg
END:VEVENT
BEGIN:VEVENT
DTSTART;TZID=America/New_York:20250612T153000
DTEND;TZID=America/New_York:20250612T170000
DTSTAMP:20260419T115431
CREATED:20240823T155133Z
LAST-MODIFIED:20251202T130326Z
UID:10004017-1749742200-1749747600@kellogghubbard.org
SUMMARY:Pokemon Day
DESCRIPTION:Youth 18 and under. Drop in to play or trade. No experience necessary!
URL:https://kellogghubbard.org/calendar/pokemon-club-2/2025-06-12/
LOCATION:Children’s Library at KHL\, 135 Main Street\, Montpelier\, VT\, 05602\, United States
CATEGORIES:Childrens,Teen
ATTACH;FMTTYPE=image/jpeg:https://kellogghubbard.org/wp-content/uploads/2024/08/thumbnail_image_50402817.jpg
END:VEVENT
BEGIN:VEVENT
DTSTART;TZID=America/New_York:20250613T153000
DTEND;TZID=America/New_York:20250613T170000
DTSTAMP:20260419T115431
CREATED:20240823T155005Z
LAST-MODIFIED:20251202T131654Z
UID:10003759-1749828600-1749834000@kellogghubbard.org
SUMMARY:Builders Day
DESCRIPTION:Like to build and create? Use your imagination to create\, build\, and try out challenges! Materials like lego\, KEVA blocks\, magna tiles\, clay and more provided. Ages 18 and under.
URL:https://kellogghubbard.org/calendar/lego-club-2/2025-06-13/
LOCATION:Children’s Library at KHL\, 135 Main Street\, Montpelier\, VT\, 05602\, United States
CATEGORIES:Childrens,Teen
ATTACH;FMTTYPE=image/jpeg:https://kellogghubbard.org/wp-content/uploads/2024/08/thumbnail_image_50445825.jpg
END:VEVENT
BEGIN:VEVENT
DTSTART;TZID=UTC:20250617T153000
DTEND;TZID=UTC:20250617T170000
DTSTAMP:20260419T115431
CREATED:20240823T155645Z
LAST-MODIFIED:20250904T190855Z
UID:10006044-1750174200-1750179600@kellogghubbard.org
SUMMARY:Yarn Day
DESCRIPTION:Youth 18 and under. Bring your knitting or crochet project to work on and trade tips and tricks with other crafters. Beginner? This is a perfect place to get tips on how to get started.
URL:https://kellogghubbard.org/calendar/yarn-club-2/2025-06-17/
LOCATION:Children’s Library at KHL\, 135 Main Street\, Montpelier\, VT\, 05602\, United States
CATEGORIES:Childrens,Teen
ATTACH;FMTTYPE=image/jpeg:https://kellogghubbard.org/wp-content/uploads/2024/08/IMG_5681-scaled.jpeg
END:VEVENT
BEGIN:VEVENT
DTSTART;TZID=America/New_York:20250618T153000
DTEND;TZID=America/New_York:20250618T170000
DTSTAMP:20260419T115431
CREATED:20240514T195145Z
LAST-MODIFIED:20251202T125913Z
UID:10002499-1750260600-1750266000@kellogghubbard.org
SUMMARY:Chess and board game day
DESCRIPTION:Youth 18 and under. Drop in to play chess with Instructor Robert and board games with peers.
URL:https://kellogghubbard.org/calendar/chess-club/2025-06-18/
LOCATION:Children’s Library at KHL\, 135 Main Street\, Montpelier\, VT\, 05602\, United States
CATEGORIES:Childrens,Teen
ATTACH;FMTTYPE=image/jpeg:https://kellogghubbard.org/wp-content/uploads/2024/05/thumbnail_image_50453761.jpg
END:VEVENT
BEGIN:VEVENT
DTSTART;VALUE=DATE:20250619
DTEND;VALUE=DATE:20250620
DTSTAMP:20260419T115431
CREATED:20241015T150009Z
LAST-MODIFIED:20241015T150009Z
UID:10007094-1750291200-1750377599@kellogghubbard.org
SUMMARY:Library Closed
DESCRIPTION:The Library will be closed June 19\, 2025 for Juneteenth.
URL:https://kellogghubbard.org/calendar/library-closed-11/
LOCATION:Kellogg-Hubbard Library\, 135 Main Street\, Montpelier\, VT\, 05602\, United States
CATEGORIES:Adult,Childrens,Holiday
END:VEVENT
BEGIN:VEVENT
DTSTART;TZID=America/New_York:20250619T153000
DTEND;TZID=America/New_York:20250619T170000
DTSTAMP:20260419T115431
CREATED:20240823T155133Z
LAST-MODIFIED:20251202T130326Z
UID:10014528-1750347000-1750352400@kellogghubbard.org
SUMMARY:Pokemon Day
DESCRIPTION:Youth 18 and under. Drop in to play or trade. No experience necessary!
URL:https://kellogghubbard.org/calendar/pokemon-club-2/2025-06-19/
LOCATION:Children’s Library at KHL\, 135 Main Street\, Montpelier\, VT\, 05602\, United States
CATEGORIES:Childrens,Teen
ATTACH;FMTTYPE=image/jpeg:https://kellogghubbard.org/wp-content/uploads/2024/08/thumbnail_image_50402817.jpg
END:VEVENT
BEGIN:VEVENT
DTSTART;TZID=America/New_York:20250620T153000
DTEND;TZID=America/New_York:20250620T170000
DTSTAMP:20260419T115431
CREATED:20240823T155005Z
LAST-MODIFIED:20251202T131654Z
UID:10003760-1750433400-1750438800@kellogghubbard.org
SUMMARY:Builders Day
DESCRIPTION:Like to build and create? Use your imagination to create\, build\, and try out challenges! Materials like lego\, KEVA blocks\, magna tiles\, clay and more provided. Ages 18 and under.
URL:https://kellogghubbard.org/calendar/lego-club-2/2025-06-20/
LOCATION:Children’s Library at KHL\, 135 Main Street\, Montpelier\, VT\, 05602\, United States
CATEGORIES:Childrens,Teen
ATTACH;FMTTYPE=image/jpeg:https://kellogghubbard.org/wp-content/uploads/2024/08/thumbnail_image_50445825.jpg
END:VEVENT
BEGIN:VEVENT
DTSTART;TZID=America/New_York:20250621T103000
DTEND;TZID=America/New_York:20250621T133000
DTSTAMP:20260419T115431
CREATED:20250522T154308Z
LAST-MODIFIED:20250602T230955Z
UID:10009743-1750501800-1750512600@kellogghubbard.org
SUMMARY:Strawberry Social and Summer Reading Kickoff!
DESCRIPTION:Kick off the season with us at the KHL Strawberry Social – a sweet start to summer filled with fun for all ages! \n\nEnjoy live music and a special dance performance by the Dance and Movement Center.\nTreat yourself to delicious strawberry shortcake – available for purchase\, with all proceeds supporting the library.\nGet creative with crafts for kids and adults\, including decorating a puzzle piece for our community puzzle.\nOr try your hand at yard games on the lawn!\n\nThis festive event also marks the official start of our Kids’ and Adults’ Summer Reading Programs. Learn how to join in and win prizes! Bring your family\, bring your friends\, and celebrate the joy of summer reading with us.
URL:https://kellogghubbard.org/calendar/strawberry-social-and-summer-reading-kickoff/
LOCATION:Kellogg-Hubbard Library\, 135 Main Street\, Montpelier\, VT\, 05602\, United States
CATEGORIES:Adult,Childrens,Support KHL
ATTACH;FMTTYPE=image/png:https://kellogghubbard.org/wp-content/uploads/2025/05/Strawberry-Social-2.png
END:VEVENT
BEGIN:VEVENT
DTSTART;TZID=UTC:20250624T153000
DTEND;TZID=UTC:20250624T170000
DTSTAMP:20260419T115431
CREATED:20240823T155645Z
LAST-MODIFIED:20250904T190855Z
UID:10006045-1750779000-1750784400@kellogghubbard.org
SUMMARY:Yarn Day
DESCRIPTION:Youth 18 and under. Bring your knitting or crochet project to work on and trade tips and tricks with other crafters. Beginner? This is a perfect place to get tips on how to get started.
URL:https://kellogghubbard.org/calendar/yarn-club-2/2025-06-24/
LOCATION:Children’s Library at KHL\, 135 Main Street\, Montpelier\, VT\, 05602\, United States
CATEGORIES:Childrens,Teen
ATTACH;FMTTYPE=image/jpeg:https://kellogghubbard.org/wp-content/uploads/2024/08/IMG_5681-scaled.jpeg
END:VEVENT
BEGIN:VEVENT
DTSTART;TZID=America/New_York:20250625T153000
DTEND;TZID=America/New_York:20250625T170000
DTSTAMP:20260419T115431
CREATED:20240514T195145Z
LAST-MODIFIED:20251202T125913Z
UID:10002500-1750865400-1750870800@kellogghubbard.org
SUMMARY:Chess and board game day
DESCRIPTION:Youth 18 and under. Drop in to play chess with Instructor Robert and board games with peers.
URL:https://kellogghubbard.org/calendar/chess-club/2025-06-25/
LOCATION:Children’s Library at KHL\, 135 Main Street\, Montpelier\, VT\, 05602\, United States
CATEGORIES:Childrens,Teen
ATTACH;FMTTYPE=image/jpeg:https://kellogghubbard.org/wp-content/uploads/2024/05/thumbnail_image_50453761.jpg
END:VEVENT
BEGIN:VEVENT
DTSTART;TZID=America/New_York:20250625T173000
DTEND;TZID=America/New_York:20250625T193000
DTSTAMP:20260419T115431
CREATED:20250522T160914Z
LAST-MODIFIED:20250522T175125Z
UID:10009744-1750872600-1750879800@kellogghubbard.org
SUMMARY:Adult Board Game Night & Kid Board Game Night
DESCRIPTION:Join us for a fun and relaxed Board Game Night at the library on April 30\, 2025\, from 5:30 to 7:30 PM! Kids games will be up in the Children’s Library\, and adult games down in the Hayes Room. \nWe’ll have a variety of games to choose from\, including Catan\, Dominion\, Pandemic\, Codenames\, chess\, card games and many more. \nChildren’s games include Pokemon\, Unmatched\, and Taco Cat Goat Cheese Pizza\, and many more. \nFeel free to bring your own snacks and beverages. \nIt’s the perfect opportunity to unwind\, meet fellow game lovers\, and have a great time! We hope to see you there!
URL:https://kellogghubbard.org/calendar/adult-board-game-night-kid-board-game-night/
LOCATION:Kellogg-Hubbard Library\, 135 Main Street\, Montpelier\, VT\, 05602\, United States
CATEGORIES:Adult,Childrens
ATTACH;FMTTYPE=image/png:https://kellogghubbard.org/wp-content/uploads/2025/05/5.28-Board-Game-Night-.png
END:VEVENT
BEGIN:VEVENT
DTSTART;TZID=America/New_York:20250626T103000
DTEND;TZID=America/New_York:20250626T110000
DTSTAMP:20260419T115431
CREATED:20250620T170731Z
LAST-MODIFIED:20250620T170732Z
UID:10010316-1750933800-1750935600@kellogghubbard.org
SUMMARY:Mountaineers Storytime!
DESCRIPTION:Join Mountaineers players and Skip the mascot for this special all-ages baseball storytime!
URL:https://kellogghubbard.org/calendar/mountaineers-storytime/
LOCATION:Kellogg-Hubbard Library\, 135 Main Street\, Montpelier\, VT\, 05602\, United States
CATEGORIES:Adult,Childrens,Teen
ATTACH;FMTTYPE=image/png:https://kellogghubbard.org/wp-content/uploads/2025/06/6.26-Mountaineers-storytime.png
END:VEVENT
BEGIN:VEVENT
DTSTART;TZID=America/New_York:20250626T153000
DTEND;TZID=America/New_York:20250626T170000
DTSTAMP:20260419T115431
CREATED:20240823T155133Z
LAST-MODIFIED:20251202T130326Z
UID:10004019-1750951800-1750957200@kellogghubbard.org
SUMMARY:Pokemon Day
DESCRIPTION:Youth 18 and under. Drop in to play or trade. No experience necessary!
URL:https://kellogghubbard.org/calendar/pokemon-club-2/2025-06-26/
LOCATION:Children’s Library at KHL\, 135 Main Street\, Montpelier\, VT\, 05602\, United States
CATEGORIES:Childrens,Teen
ATTACH;FMTTYPE=image/jpeg:https://kellogghubbard.org/wp-content/uploads/2024/08/thumbnail_image_50402817.jpg
END:VEVENT
BEGIN:VEVENT
DTSTART;TZID=America/New_York:20250627T153000
DTEND;TZID=America/New_York:20250627T170000
DTSTAMP:20260419T115431
CREATED:20240823T155005Z
LAST-MODIFIED:20251202T131654Z
UID:10003761-1751038200-1751043600@kellogghubbard.org
SUMMARY:Builders Day
DESCRIPTION:Like to build and create? Use your imagination to create\, build\, and try out challenges! Materials like lego\, KEVA blocks\, magna tiles\, clay and more provided. Ages 18 and under.
URL:https://kellogghubbard.org/calendar/lego-club-2/2025-06-27/
LOCATION:Children’s Library at KHL\, 135 Main Street\, Montpelier\, VT\, 05602\, United States
CATEGORIES:Childrens,Teen
ATTACH;FMTTYPE=image/jpeg:https://kellogghubbard.org/wp-content/uploads/2024/08/thumbnail_image_50445825.jpg
END:VEVENT
END:VCALENDAR