BEGIN:VCALENDAR
VERSION:2.0
PRODID:-//Kellogg-Hubbard Library - ECPv6.15.20//NONSGML v1.0//EN
CALSCALE:GREGORIAN
METHOD:PUBLISH
X-ORIGINAL-URL:https://kellogghubbard.org
X-WR-CALDESC:Events for Kellogg-Hubbard Library
REFRESH-INTERVAL;VALUE=DURATION:PT1H
X-Robots-Tag:noindex
X-PUBLISHED-TTL:PT1H
BEGIN:VTIMEZONE
TZID:America/New_York
BEGIN:DAYLIGHT
TZOFFSETFROM:-0500
TZOFFSETTO:-0400
TZNAME:EDT
DTSTART:20250309T070000
END:DAYLIGHT
BEGIN:STANDARD
TZOFFSETFROM:-0400
TZOFFSETTO:-0500
TZNAME:EST
DTSTART:20251102T060000
END:STANDARD
BEGIN:DAYLIGHT
TZOFFSETFROM:-0500
TZOFFSETTO:-0400
TZNAME:EDT
DTSTART:20260308T070000
END:DAYLIGHT
BEGIN:STANDARD
TZOFFSETFROM:-0400
TZOFFSETTO:-0500
TZNAME:EST
DTSTART:20261101T060000
END:STANDARD
BEGIN:DAYLIGHT
TZOFFSETFROM:-0500
TZOFFSETTO:-0400
TZNAME:EDT
DTSTART:20270314T070000
END:DAYLIGHT
BEGIN:STANDARD
TZOFFSETFROM:-0400
TZOFFSETTO:-0500
TZNAME:EST
DTSTART:20271107T060000
END:STANDARD
END:VTIMEZONE
BEGIN:VEVENT
DTSTART;TZID=America/New_York:20260428T090000
DTEND;TZID=America/New_York:20260428T130000
DTSTAMP:20260421T075400
CREATED:20251107T165116Z
LAST-MODIFIED:20251107T165446Z
UID:10011547-1777366800-1777381200@kellogghubbard.org
SUMMARY:The Nest
DESCRIPTION:Are you pregnant or looking to get out of the house with your baby? Curious about local resources for prenatal and postpartum families? Interested in volunteering as a Postpartum Angel? Drop in to The Nest! Every Tuesday from 9 AM–1 PM\, the East Montpelier Room at Kellogg-Hubbard Library transforms into a baby-friendly space hosted by Good Beginnings. Get help adjusting your baby carrier or try different ones in our babywearing lending library\, chat with our Program Director to learn about resources for your family\, or feed\, change\, and play with your baby.
URL:https://kellogghubbard.org/calendar/the-nest-2/2026-04-28/
LOCATION:Kellogg-Hubbard Library\, 135 Main Street\, Montpelier\, VT\, 05602\, United States
CATEGORIES:Childrens
ATTACH;FMTTYPE=image/png:https://kellogghubbard.org/wp-content/uploads/2025/08/The-Nest-at-KHL-square-format-2.png
END:VEVENT
BEGIN:VEVENT
DTSTART;TZID=America/New_York:20260428T103000
DTEND;TZID=America/New_York:20260428T110000
DTSTAMP:20260421T075400
CREATED:20251120T233345Z
LAST-MODIFIED:20260311T181236Z
UID:10013334-1777372200-1777374000@kellogghubbard.org
SUMMARY:Storytime
DESCRIPTION:Join us for stories\, songs\, silliness and lots of bubbles!
URL:https://kellogghubbard.org/calendar/storytime/2026-04-28/
LOCATION:Kellogg-Hubbard Library\, 135 Main Street\, Montpelier\, VT\, 05602\, United States
CATEGORIES:Childrens
ATTACH;FMTTYPE=image/jpeg:https://kellogghubbard.org/wp-content/uploads/2024/05/JCL_4151W.jpg
END:VEVENT
BEGIN:VEVENT
DTSTART;TZID=America/New_York:20260428T153000
DTEND;TZID=America/New_York:20260428T170000
DTSTAMP:20260421T075400
CREATED:20251003T162052Z
LAST-MODIFIED:20251104T180344Z
UID:10012509-1777390200-1777395600@kellogghubbard.org
SUMMARY:Craft Day
DESCRIPTION:Youth 18 and under. A rotating selection of fun and easy crafts for kids!
URL:https://kellogghubbard.org/calendar/craft-day/2026-04-28/
LOCATION:Kellogg-Hubbard Library\, 135 Main Street\, Montpelier\, VT\, 05602\, United States
CATEGORIES:Childrens,Teen
END:VEVENT
BEGIN:VEVENT
DTSTART;TZID=America/New_York:20260429T153000
DTEND;TZID=America/New_York:20260429T170000
DTSTAMP:20260421T075400
CREATED:20240514T195145Z
LAST-MODIFIED:20251202T125913Z
UID:10002544-1777476600-1777482000@kellogghubbard.org
SUMMARY:Chess and board game day
DESCRIPTION:Youth 18 and under. Drop in to play chess with Instructor Robert and board games with peers.
URL:https://kellogghubbard.org/calendar/chess-club/2026-04-29/
LOCATION:Children’s Library at KHL\, 135 Main Street\, Montpelier\, VT\, 05602\, United States
CATEGORIES:Childrens,Teen
ATTACH;FMTTYPE=image/jpeg:https://kellogghubbard.org/wp-content/uploads/2024/05/thumbnail_image_50453761.jpg
END:VEVENT
BEGIN:VEVENT
DTSTART;TZID=America/New_York:20260430T103000
DTEND;TZID=America/New_York:20260430T110000
DTSTAMP:20260421T075400
CREATED:20251120T233345Z
LAST-MODIFIED:20260311T181236Z
UID:10013335-1777545000-1777546800@kellogghubbard.org
SUMMARY:Storytime
DESCRIPTION:Join us for stories\, songs\, silliness and lots of bubbles!
URL:https://kellogghubbard.org/calendar/storytime/2026-04-30/
LOCATION:Kellogg-Hubbard Library\, 135 Main Street\, Montpelier\, VT\, 05602\, United States
CATEGORIES:Childrens
ATTACH;FMTTYPE=image/jpeg:https://kellogghubbard.org/wp-content/uploads/2024/05/JCL_4151W.jpg
END:VEVENT
BEGIN:VEVENT
DTSTART;TZID=America/New_York:20260430T153000
DTEND;TZID=America/New_York:20260430T170000
DTSTAMP:20260421T075400
CREATED:20240823T155133Z
LAST-MODIFIED:20251202T130326Z
UID:10004063-1777563000-1777568400@kellogghubbard.org
SUMMARY:Pokemon Day
DESCRIPTION:Youth 18 and under. Drop in to play or trade. No experience necessary!
URL:https://kellogghubbard.org/calendar/pokemon-club-2/2026-04-30/
LOCATION:Children’s Library at KHL\, 135 Main Street\, Montpelier\, VT\, 05602\, United States
CATEGORIES:Childrens,Teen
ATTACH;FMTTYPE=image/jpeg:https://kellogghubbard.org/wp-content/uploads/2024/08/thumbnail_image_50402817.jpg
END:VEVENT
BEGIN:VEVENT
DTSTART;TZID=America/New_York:20260501T153000
DTEND;TZID=America/New_York:20260501T170000
DTSTAMP:20260421T075400
CREATED:20240823T155005Z
LAST-MODIFIED:20251202T131654Z
UID:10003805-1777649400-1777654800@kellogghubbard.org
SUMMARY:Builders Day
DESCRIPTION:Like to build and create? Use your imagination to create\, build\, and try out challenges! Materials like lego\, KEVA blocks\, magna tiles\, clay and more provided. Ages 18 and under.
URL:https://kellogghubbard.org/calendar/lego-club-2/2026-05-01/
LOCATION:Children’s Library at KHL\, 135 Main Street\, Montpelier\, VT\, 05602\, United States
CATEGORIES:Childrens,Teen
ATTACH;FMTTYPE=image/jpeg:https://kellogghubbard.org/wp-content/uploads/2024/08/thumbnail_image_50445825.jpg
END:VEVENT
BEGIN:VEVENT
DTSTART;TZID=America/New_York:20260505T090000
DTEND;TZID=America/New_York:20260505T130000
DTSTAMP:20260421T075400
CREATED:20251107T165116Z
LAST-MODIFIED:20251107T165446Z
UID:10011548-1777971600-1777986000@kellogghubbard.org
SUMMARY:The Nest
DESCRIPTION:Are you pregnant or looking to get out of the house with your baby? Curious about local resources for prenatal and postpartum families? Interested in volunteering as a Postpartum Angel? Drop in to The Nest! Every Tuesday from 9 AM–1 PM\, the East Montpelier Room at Kellogg-Hubbard Library transforms into a baby-friendly space hosted by Good Beginnings. Get help adjusting your baby carrier or try different ones in our babywearing lending library\, chat with our Program Director to learn about resources for your family\, or feed\, change\, and play with your baby.
URL:https://kellogghubbard.org/calendar/the-nest-2/2026-05-05/
LOCATION:Kellogg-Hubbard Library\, 135 Main Street\, Montpelier\, VT\, 05602\, United States
CATEGORIES:Childrens
ATTACH;FMTTYPE=image/png:https://kellogghubbard.org/wp-content/uploads/2025/08/The-Nest-at-KHL-square-format-2.png
END:VEVENT
BEGIN:VEVENT
DTSTART;TZID=America/New_York:20260505T103000
DTEND;TZID=America/New_York:20260505T110000
DTSTAMP:20260421T075400
CREATED:20251120T233345Z
LAST-MODIFIED:20260311T181236Z
UID:10013336-1777977000-1777978800@kellogghubbard.org
SUMMARY:Storytime
DESCRIPTION:Join us for stories\, songs\, silliness and lots of bubbles!
URL:https://kellogghubbard.org/calendar/storytime/2026-05-05/
LOCATION:Kellogg-Hubbard Library\, 135 Main Street\, Montpelier\, VT\, 05602\, United States
CATEGORIES:Childrens
ATTACH;FMTTYPE=image/jpeg:https://kellogghubbard.org/wp-content/uploads/2024/05/JCL_4151W.jpg
END:VEVENT
BEGIN:VEVENT
DTSTART;TZID=America/New_York:20260505T153000
DTEND;TZID=America/New_York:20260505T170000
DTSTAMP:20260421T075400
CREATED:20251003T162052Z
LAST-MODIFIED:20251104T180344Z
UID:10012510-1777995000-1778000400@kellogghubbard.org
SUMMARY:Craft Day
DESCRIPTION:Youth 18 and under. A rotating selection of fun and easy crafts for kids!
URL:https://kellogghubbard.org/calendar/craft-day/2026-05-05/
LOCATION:Kellogg-Hubbard Library\, 135 Main Street\, Montpelier\, VT\, 05602\, United States
CATEGORIES:Childrens,Teen
END:VEVENT
BEGIN:VEVENT
DTSTART;TZID=America/New_York:20260506T120000
DTEND;TZID=America/New_York:20260506T120000
DTSTAMP:20260421T075400
CREATED:20260126T224857Z
LAST-MODIFIED:20260126T224857Z
UID:10014928-1778068800-1778068800@kellogghubbard.org
SUMMARY:Library Open 12PM-8PM Today
DESCRIPTION:The Library will have a late open at noon on the first Wednesday of each month for staff training.
URL:https://kellogghubbard.org/calendar/library-open-12pm-8pm-today/2026-05-06/
LOCATION:Kellogg-Hubbard Library\, 135 Main Street\, Montpelier\, VT\, 05602\, United States
CATEGORIES:Adult,Childrens,Featured,Teen
END:VEVENT
BEGIN:VEVENT
DTSTART;TZID=America/New_York:20260506T153000
DTEND;TZID=America/New_York:20260506T170000
DTSTAMP:20260421T075400
CREATED:20240514T195145Z
LAST-MODIFIED:20251202T125913Z
UID:10002545-1778081400-1778086800@kellogghubbard.org
SUMMARY:Chess and board game day
DESCRIPTION:Youth 18 and under. Drop in to play chess with Instructor Robert and board games with peers.
URL:https://kellogghubbard.org/calendar/chess-club/2026-05-06/
LOCATION:Children’s Library at KHL\, 135 Main Street\, Montpelier\, VT\, 05602\, United States
CATEGORIES:Childrens,Teen
ATTACH;FMTTYPE=image/jpeg:https://kellogghubbard.org/wp-content/uploads/2024/05/thumbnail_image_50453761.jpg
END:VEVENT
BEGIN:VEVENT
DTSTART;TZID=America/New_York:20260506T173000
DTEND;TZID=America/New_York:20260506T190000
DTSTAMP:20260421T075400
CREATED:20250828T145626Z
LAST-MODIFIED:20260323T150540Z
UID:10012762-1778088600-1778094000@kellogghubbard.org
SUMMARY:Fiber Arts Night
DESCRIPTION:Calling all fiber art enthusiasts! Bring your knitting\, crocheting\, weaving\, or any other fiber project to the library for a relaxing evening of creativity and connection. Gather around with fellow makers and share ideas\, tips\, or just good conversation. Whether you’re a seasoned crafter or just starting out\, everyone is welcome to join this fun\, stress-free gathering. Don’t miss out on the chance to be inspired and make new friends!
URL:https://kellogghubbard.org/calendar/fiber-arts-night/2026-05-06/
LOCATION:Kellogg-Hubbard Library\, 135 Main Street\, Montpelier\, VT\, 05602\, United States
CATEGORIES:Adult,Childrens,Featured
ATTACH;FMTTYPE=image/png:https://kellogghubbard.org/wp-content/uploads/2025/08/Fiber-arts-night-template.png
END:VEVENT
BEGIN:VEVENT
DTSTART;TZID=America/New_York:20260507T103000
DTEND;TZID=America/New_York:20260507T110000
DTSTAMP:20260421T075400
CREATED:20251120T233345Z
LAST-MODIFIED:20260311T181236Z
UID:10013337-1778149800-1778151600@kellogghubbard.org
SUMMARY:Storytime
DESCRIPTION:Join us for stories\, songs\, silliness and lots of bubbles!
URL:https://kellogghubbard.org/calendar/storytime/2026-05-07/
LOCATION:Kellogg-Hubbard Library\, 135 Main Street\, Montpelier\, VT\, 05602\, United States
CATEGORIES:Childrens
ATTACH;FMTTYPE=image/jpeg:https://kellogghubbard.org/wp-content/uploads/2024/05/JCL_4151W.jpg
END:VEVENT
BEGIN:VEVENT
DTSTART;TZID=America/New_York:20260507T153000
DTEND;TZID=America/New_York:20260507T170000
DTSTAMP:20260421T075400
CREATED:20240823T155133Z
LAST-MODIFIED:20251202T130326Z
UID:10004064-1778167800-1778173200@kellogghubbard.org
SUMMARY:Pokemon Day
DESCRIPTION:Youth 18 and under. Drop in to play or trade. No experience necessary!
URL:https://kellogghubbard.org/calendar/pokemon-club-2/2026-05-07/
LOCATION:Children’s Library at KHL\, 135 Main Street\, Montpelier\, VT\, 05602\, United States
CATEGORIES:Childrens,Teen
ATTACH;FMTTYPE=image/jpeg:https://kellogghubbard.org/wp-content/uploads/2024/08/thumbnail_image_50402817.jpg
END:VEVENT
BEGIN:VEVENT
DTSTART;TZID=America/New_York:20260508T153000
DTEND;TZID=America/New_York:20260508T170000
DTSTAMP:20260421T075400
CREATED:20240823T155005Z
LAST-MODIFIED:20251202T131654Z
UID:10003806-1778254200-1778259600@kellogghubbard.org
SUMMARY:Builders Day
DESCRIPTION:Like to build and create? Use your imagination to create\, build\, and try out challenges! Materials like lego\, KEVA blocks\, magna tiles\, clay and more provided. Ages 18 and under.
URL:https://kellogghubbard.org/calendar/lego-club-2/2026-05-08/
LOCATION:Children’s Library at KHL\, 135 Main Street\, Montpelier\, VT\, 05602\, United States
CATEGORIES:Childrens,Teen
ATTACH;FMTTYPE=image/jpeg:https://kellogghubbard.org/wp-content/uploads/2024/08/thumbnail_image_50445825.jpg
END:VEVENT
BEGIN:VEVENT
DTSTART;TZID=America/New_York:20260512T090000
DTEND;TZID=America/New_York:20260512T130000
DTSTAMP:20260421T075400
CREATED:20251107T165116Z
LAST-MODIFIED:20251107T165446Z
UID:10011549-1778576400-1778590800@kellogghubbard.org
SUMMARY:The Nest
DESCRIPTION:Are you pregnant or looking to get out of the house with your baby? Curious about local resources for prenatal and postpartum families? Interested in volunteering as a Postpartum Angel? Drop in to The Nest! Every Tuesday from 9 AM–1 PM\, the East Montpelier Room at Kellogg-Hubbard Library transforms into a baby-friendly space hosted by Good Beginnings. Get help adjusting your baby carrier or try different ones in our babywearing lending library\, chat with our Program Director to learn about resources for your family\, or feed\, change\, and play with your baby.
URL:https://kellogghubbard.org/calendar/the-nest-2/2026-05-12/
LOCATION:Kellogg-Hubbard Library\, 135 Main Street\, Montpelier\, VT\, 05602\, United States
CATEGORIES:Childrens
ATTACH;FMTTYPE=image/png:https://kellogghubbard.org/wp-content/uploads/2025/08/The-Nest-at-KHL-square-format-2.png
END:VEVENT
BEGIN:VEVENT
DTSTART;TZID=America/New_York:20260512T103000
DTEND;TZID=America/New_York:20260512T110000
DTSTAMP:20260421T075400
CREATED:20251120T233345Z
LAST-MODIFIED:20260311T181236Z
UID:10013338-1778581800-1778583600@kellogghubbard.org
SUMMARY:Storytime
DESCRIPTION:Join us for stories\, songs\, silliness and lots of bubbles!
URL:https://kellogghubbard.org/calendar/storytime/2026-05-12/
LOCATION:Kellogg-Hubbard Library\, 135 Main Street\, Montpelier\, VT\, 05602\, United States
CATEGORIES:Childrens
ATTACH;FMTTYPE=image/jpeg:https://kellogghubbard.org/wp-content/uploads/2024/05/JCL_4151W.jpg
END:VEVENT
BEGIN:VEVENT
DTSTART;TZID=America/New_York:20260512T153000
DTEND;TZID=America/New_York:20260512T170000
DTSTAMP:20260421T075400
CREATED:20251003T162052Z
LAST-MODIFIED:20251104T180344Z
UID:10012511-1778599800-1778605200@kellogghubbard.org
SUMMARY:Craft Day
DESCRIPTION:Youth 18 and under. A rotating selection of fun and easy crafts for kids!
URL:https://kellogghubbard.org/calendar/craft-day/2026-05-12/
LOCATION:Kellogg-Hubbard Library\, 135 Main Street\, Montpelier\, VT\, 05602\, United States
CATEGORIES:Childrens,Teen
END:VEVENT
BEGIN:VEVENT
DTSTART;TZID=America/New_York:20260513T153000
DTEND;TZID=America/New_York:20260513T170000
DTSTAMP:20260421T075400
CREATED:20240514T195145Z
LAST-MODIFIED:20251202T125913Z
UID:10002546-1778686200-1778691600@kellogghubbard.org
SUMMARY:Chess and board game day
DESCRIPTION:Youth 18 and under. Drop in to play chess with Instructor Robert and board games with peers.
URL:https://kellogghubbard.org/calendar/chess-club/2026-05-13/
LOCATION:Children’s Library at KHL\, 135 Main Street\, Montpelier\, VT\, 05602\, United States
CATEGORIES:Childrens,Teen
ATTACH;FMTTYPE=image/jpeg:https://kellogghubbard.org/wp-content/uploads/2024/05/thumbnail_image_50453761.jpg
END:VEVENT
BEGIN:VEVENT
DTSTART;TZID=America/New_York:20260514T103000
DTEND;TZID=America/New_York:20260514T110000
DTSTAMP:20260421T075400
CREATED:20251120T233345Z
LAST-MODIFIED:20260311T181236Z
UID:10013339-1778754600-1778756400@kellogghubbard.org
SUMMARY:Storytime
DESCRIPTION:Join us for stories\, songs\, silliness and lots of bubbles!
URL:https://kellogghubbard.org/calendar/storytime/2026-05-14/
LOCATION:Kellogg-Hubbard Library\, 135 Main Street\, Montpelier\, VT\, 05602\, United States
CATEGORIES:Childrens
ATTACH;FMTTYPE=image/jpeg:https://kellogghubbard.org/wp-content/uploads/2024/05/JCL_4151W.jpg
END:VEVENT
BEGIN:VEVENT
DTSTART;TZID=America/New_York:20260514T153000
DTEND;TZID=America/New_York:20260514T170000
DTSTAMP:20260421T075400
CREATED:20240823T155133Z
LAST-MODIFIED:20251202T130326Z
UID:10004065-1778772600-1778778000@kellogghubbard.org
SUMMARY:Pokemon Day
DESCRIPTION:Youth 18 and under. Drop in to play or trade. No experience necessary!
URL:https://kellogghubbard.org/calendar/pokemon-club-2/2026-05-14/
LOCATION:Children’s Library at KHL\, 135 Main Street\, Montpelier\, VT\, 05602\, United States
CATEGORIES:Childrens,Teen
ATTACH;FMTTYPE=image/jpeg:https://kellogghubbard.org/wp-content/uploads/2024/08/thumbnail_image_50402817.jpg
END:VEVENT
BEGIN:VEVENT
DTSTART;TZID=America/New_York:20260515T153000
DTEND;TZID=America/New_York:20260515T170000
DTSTAMP:20260421T075400
CREATED:20240823T155005Z
LAST-MODIFIED:20251202T131654Z
UID:10003807-1778859000-1778864400@kellogghubbard.org
SUMMARY:Builders Day
DESCRIPTION:Like to build and create? Use your imagination to create\, build\, and try out challenges! Materials like lego\, KEVA blocks\, magna tiles\, clay and more provided. Ages 18 and under.
URL:https://kellogghubbard.org/calendar/lego-club-2/2026-05-15/
LOCATION:Children’s Library at KHL\, 135 Main Street\, Montpelier\, VT\, 05602\, United States
CATEGORIES:Childrens,Teen
ATTACH;FMTTYPE=image/jpeg:https://kellogghubbard.org/wp-content/uploads/2024/08/thumbnail_image_50445825.jpg
END:VEVENT
BEGIN:VEVENT
DTSTART;TZID=America/New_York:20260519T090000
DTEND;TZID=America/New_York:20260519T130000
DTSTAMP:20260421T075400
CREATED:20251107T165116Z
LAST-MODIFIED:20251107T165446Z
UID:10011550-1779181200-1779195600@kellogghubbard.org
SUMMARY:The Nest
DESCRIPTION:Are you pregnant or looking to get out of the house with your baby? Curious about local resources for prenatal and postpartum families? Interested in volunteering as a Postpartum Angel? Drop in to The Nest! Every Tuesday from 9 AM–1 PM\, the East Montpelier Room at Kellogg-Hubbard Library transforms into a baby-friendly space hosted by Good Beginnings. Get help adjusting your baby carrier or try different ones in our babywearing lending library\, chat with our Program Director to learn about resources for your family\, or feed\, change\, and play with your baby.
URL:https://kellogghubbard.org/calendar/the-nest-2/2026-05-19/
LOCATION:Kellogg-Hubbard Library\, 135 Main Street\, Montpelier\, VT\, 05602\, United States
CATEGORIES:Childrens
ATTACH;FMTTYPE=image/png:https://kellogghubbard.org/wp-content/uploads/2025/08/The-Nest-at-KHL-square-format-2.png
END:VEVENT
BEGIN:VEVENT
DTSTART;TZID=America/New_York:20260519T103000
DTEND;TZID=America/New_York:20260519T110000
DTSTAMP:20260421T075400
CREATED:20251120T233345Z
LAST-MODIFIED:20260311T181236Z
UID:10013340-1779186600-1779188400@kellogghubbard.org
SUMMARY:Storytime
DESCRIPTION:Join us for stories\, songs\, silliness and lots of bubbles!
URL:https://kellogghubbard.org/calendar/storytime/2026-05-19/
LOCATION:Kellogg-Hubbard Library\, 135 Main Street\, Montpelier\, VT\, 05602\, United States
CATEGORIES:Childrens
ATTACH;FMTTYPE=image/jpeg:https://kellogghubbard.org/wp-content/uploads/2024/05/JCL_4151W.jpg
END:VEVENT
BEGIN:VEVENT
DTSTART;TZID=America/New_York:20260519T153000
DTEND;TZID=America/New_York:20260519T170000
DTSTAMP:20260421T075400
CREATED:20251003T162052Z
LAST-MODIFIED:20251104T180344Z
UID:10012512-1779204600-1779210000@kellogghubbard.org
SUMMARY:Craft Day
DESCRIPTION:Youth 18 and under. A rotating selection of fun and easy crafts for kids!
URL:https://kellogghubbard.org/calendar/craft-day/2026-05-19/
LOCATION:Kellogg-Hubbard Library\, 135 Main Street\, Montpelier\, VT\, 05602\, United States
CATEGORIES:Childrens,Teen
END:VEVENT
BEGIN:VEVENT
DTSTART;TZID=America/New_York:20260520T153000
DTEND;TZID=America/New_York:20260520T170000
DTSTAMP:20260421T075400
CREATED:20240514T195145Z
LAST-MODIFIED:20251202T125913Z
UID:10002547-1779291000-1779296400@kellogghubbard.org
SUMMARY:Chess and board game day
DESCRIPTION:Youth 18 and under. Drop in to play chess with Instructor Robert and board games with peers.
URL:https://kellogghubbard.org/calendar/chess-club/2026-05-20/
LOCATION:Children’s Library at KHL\, 135 Main Street\, Montpelier\, VT\, 05602\, United States
CATEGORIES:Childrens,Teen
ATTACH;FMTTYPE=image/jpeg:https://kellogghubbard.org/wp-content/uploads/2024/05/thumbnail_image_50453761.jpg
END:VEVENT
BEGIN:VEVENT
DTSTART;TZID=America/New_York:20260521T103000
DTEND;TZID=America/New_York:20260521T110000
DTSTAMP:20260421T075400
CREATED:20251120T233345Z
LAST-MODIFIED:20260311T181236Z
UID:10013341-1779359400-1779361200@kellogghubbard.org
SUMMARY:Storytime
DESCRIPTION:Join us for stories\, songs\, silliness and lots of bubbles!
URL:https://kellogghubbard.org/calendar/storytime/2026-05-21/
LOCATION:Kellogg-Hubbard Library\, 135 Main Street\, Montpelier\, VT\, 05602\, United States
CATEGORIES:Childrens
ATTACH;FMTTYPE=image/jpeg:https://kellogghubbard.org/wp-content/uploads/2024/05/JCL_4151W.jpg
END:VEVENT
BEGIN:VEVENT
DTSTART;TZID=America/New_York:20260521T103000
DTEND;TZID=America/New_York:20260521T110000
DTSTAMP:20260421T075400
CREATED:20260213T203250Z
LAST-MODIFIED:20260327T203756Z
UID:10005619-1779359400-1779361200@kellogghubbard.org
SUMMARY:American Sign Language Storytime
DESCRIPTION:Listen to stories and sing songs in sign language with special guest Nora.
URL:https://kellogghubbard.org/calendar/sign-language-storytime-2-2/2026-05-21/
LOCATION:Kellogg-Hubbard Library\, 135 Main Street\, Montpelier\, VT\, 05602\, United States
CATEGORIES:Childrens,Featured
ATTACH;FMTTYPE=image/png:https://kellogghubbard.org/wp-content/uploads/2026/02/ASL-storytime-template.png
END:VEVENT
BEGIN:VEVENT
DTSTART;TZID=America/New_York:20260521T153000
DTEND;TZID=America/New_York:20260521T170000
DTSTAMP:20260421T075400
CREATED:20240823T155133Z
LAST-MODIFIED:20251202T130326Z
UID:10004066-1779377400-1779382800@kellogghubbard.org
SUMMARY:Pokemon Day
DESCRIPTION:Youth 18 and under. Drop in to play or trade. No experience necessary!
URL:https://kellogghubbard.org/calendar/pokemon-club-2/2026-05-21/
LOCATION:Children’s Library at KHL\, 135 Main Street\, Montpelier\, VT\, 05602\, United States
CATEGORIES:Childrens,Teen
ATTACH;FMTTYPE=image/jpeg:https://kellogghubbard.org/wp-content/uploads/2024/08/thumbnail_image_50402817.jpg
END:VEVENT
END:VCALENDAR